Workbook

Sheet Intro

Sheet Order
A1: Who Placed The Order | C1: How Did They Place The Order | E1: Customer Number | G1: Company | H1: Ship Week | J1: Total Units | K1: =AK5 -> 0
J2: Total Qty | K2: =AL5 -> 0
A3: Add Tags to Match Order? | E3: Special Instructions: | H3: Subtotal | J3: Volumes 1- 4 | K3: 1
H4: =IFERROR(IF(AJ5<>0,AJ5,""),"VOL 1-3, EOD Y OR N") | J4: EOD (Y or N) | K4: N | R4: none | T4: none | V4: none | X4: none | AB4: none | AD4: none | AF4: none | AH4: none | AJ4: subtotal
H5: =CONCATENATE("Volume ", K3, " | EOD = ", K4, " Units: ",K1," Qty: ",K2) -> Volume 1 | EOD = N Units: 0 Qty: 0 | J5: Early Order Discount (EOD) = N/A For more quote options, contact Germania | P5: Volume 1 | R5: Volume 2 | T5: Volume 3 | V5: Volume 4 | X5: Volume 5 | Z5: Volume 1 w/EOD | AB5: Volume 2 w/EOD | AD5: Volume 3 w/EOD | AF5: Volume 4 w/EOD | AH5: Volume 5 w/EOD | AJ5: =SUBTOTAL(9,AJ7:AJ7918) -> 0 | AK5: =SUBTOTAL(9,AK7:AK14994) -> 0 | AL5: =SUBTOTAL(9,AL7:AL14994) -> 0
A6: V# | B6: sku | C6: tray code | D6: QTY | E6: tray | F6: new | G6: Variety | H6: price each | I6: price tray | J6: tray description | K6: plug count | L6: new | M6: patent | N6: cutflower | O6: tag rule | P6: price each | Q6: price tray | R6: price each | S6: price tray | T6: price each | U6: price tray | V6: price each | W6: price tray | X6: price each | Y6: price tray | Z6: price each | AA6: price tray | AB6: price each | AC6: price tray | AD6: price each | AE6: price tray | AF6: price each | AG6: price tray | AH6: price each | AI6: price tray | AJ6: extended line | AK6: total units | AL6: total qty
A7: =IF(OUT!C53="", "", OUT!C53) -> 754 | B7: =IF(OUT!A53="", "", OUT!A53) -> 93550 | C7: =IF(OUT!D53="", "", OUT!D53) -> O | E7: =IF(OUT!E53="", "", OUT!E53) -> 72 TRAY | F7: =IF(OUT!AE53="NEW", "✷", "") | G7: =IF(OUT!B53="", "", OUT!B53) -> ALOCASIA DARK STAR | H7: =IF(AND($K$3=1,$K$4="N"),P7,IF(AND($K$3=2,$K$4="N"),R7,IF(AND($K$3=3,$K$4="N"),T7,IF(AND($K$3=4,$K$4="N"),V7,IF(AND($K$3=5,$K$4="N"),X7,IF(AND($K$3=1,$K$4="Y"),Z7,IF(AND($K$3=2,$K$4="Y"),AB7,IF(AND($K$3=3,$K$4="Y"),AD7,IF(AND($K$3=4,$K$4="Y"),AF7,IF(AND($K$3=5,$K$4="Y"),AH7,"FALSE")))))))))) -> 2.06 | I7: =IF(AND($K$3=1,$K$4="N"),Q7,IF(AND($K$3=2,$K$4="N"),S7,IF(AND($K$3=3,$K$4="N"),U7,IF(AND($K$3=4,$K$4="N"),W7,IF(AND($K$3=5,$K$4="N"),Y7,IF(AND($K$3=1,$K$4="Y"),AA7,IF(AND($K$3=2,$K$4="Y"),AC7,IF(AND($K$3=3,$K$4="Y"),AE7,IF(AND($K$3=4,$K$4="Y"),AG7,IF(AND($K$3=5,$K$4="Y"),AI7,"FALSE")))))))))) -> 148.32 | J7: =IF(OUT!F53="", "", OUT!F53) | K7: =IF(OUT!P53="", "", OUT!P53) -> 72 | L7: =IF(OUT!AE53="", "", OUT!AE53) | M7: =IF(OUT!AG53="", "", OUT!AG53) -> PAT | N7: =IF(OUT!AQ53="", "", OUT!AQ53) | O7: =IF(OUT!BO53="", "", OUT!BO53) -> T3 | P7: =IF(OUT!N53="", "", OUT!N53) -> 2.06 | Q7: =IF(OUT!O53="", "", OUT!O53) -> 148.32 | R7: =IF(PPG!H53="", "", PPG!H53) | S7: =IF(PPG!I53="", "", PPG!I53) | T7: =IF(PPG!J53="", "", PPG!J53) | U7: =IF(PPG!K53="", "", PPG!K53) | V7: =IF(PPG!L53="", "", PPG!L53) | W7: =IF(PPG!M53="", "", PPG!M53) | X7: =IF(PPG!N53="", "", PPG!N53) | Y7: =IF(PPG!O53="", "", PPG!O53) | Z7: =IF(PPG!Q53="", "", PPG!Q53) | AA7: =IF(PPG!R53="", "", PPG!R53) | AB7: =IF(PPG!S53="", "", PPG!S53) | AC7: =IF(PPG!T53="", "", PPG!T53) | AD7: =IF(PPG!U53="", "", PPG!U53) | AE7: =IF(PPG!V53="", "", PPG!V53) | AF7: =IF(PPG!W53="", "", PPG!W53) | AG7: =IF(PPG!X53="", "", PPG!X53) | ... AI7: =IF(PPG!Z53="", "", PPG!Z53) | AJ7: =IF(D7<>"",D7*I7, "0.00") -> 0.00 | AK7: =IF(D7<>"",D7, "0") -> 0 | AL7: =IF(D7<>"",D7*K7, "0") -> 0
A8: =IF(OUT!C39="", "", OUT!C39) -> 754 | B8: =IF(OUT!A39="", "", OUT!A39) -> 83668 | C8: =IF(OUT!D39="", "", OUT!D39) -> O | E8: =IF(OUT!E39="", "", OUT!E39) -> 72 TRAY | F8: =IF(OUT!AE39="NEW", "✷", "") | G8: =IF(OUT!B39="", "", OUT!B39) -> ALOCASIA GAGAENA CALIFORNIA | H8: =IF(AND($K$3=1,$K$4="N"),P8,IF(AND($K$3=2,$K$4="N"),R8,IF(AND($K$3=3,$K$4="N"),T8,IF(AND($K$3=4,$K$4="N"),V8,IF(AND($K$3=5,$K$4="N"),X8,IF(AND($K$3=1,$K$4="Y"),Z8,IF(AND($K$3=2,$K$4="Y"),AB8,IF(AND($K$3=3,$K$4="Y"),AD8,IF(AND($K$3=4,$K$4="Y"),AF8,IF(AND($K$3=5,$K$4="Y"),AH8,"FALSE")))))))))) -> 1.612 | I8: =IF(AND($K$3=1,$K$4="N"),Q8,IF(AND($K$3=2,$K$4="N"),S8,IF(AND($K$3=3,$K$4="N"),U8,IF(AND($K$3=4,$K$4="N"),W8,IF(AND($K$3=5,$K$4="N"),Y8,IF(AND($K$3=1,$K$4="Y"),AA8,IF(AND($K$3=2,$K$4="Y"),AC8,IF(AND($K$3=3,$K$4="Y"),AE8,IF(AND($K$3=4,$K$4="Y"),AG8,IF(AND($K$3=5,$K$4="Y"),AI8,"FALSE")))))))))) -> 116.06 | J8: =IF(OUT!F39="", "", OUT!F39) | K8: =IF(OUT!P39="", "", OUT!P39) -> 72 | L8: =IF(OUT!AE39="", "", OUT!AE39) | M8: =IF(OUT!AG39="", "", OUT!AG39) | N8: =IF(OUT!AQ39="", "", OUT!AQ39) | O8: =IF(OUT!BO39="", "", OUT!BO39) -> T3 | P8: =IF(OUT!N39="", "", OUT!N39) -> 1.612 | Q8: =IF(OUT!O39="", "", OUT!O39) -> 116.06 | R8: =IF(PPG!H39="", "", PPG!H39) | S8: =IF(PPG!I39="", "", PPG!I39) | T8: =IF(PPG!J39="", "", PPG!J39) | U8: =IF(PPG!K39="", "", PPG!K39) | V8: =IF(PPG!L39="", "", PPG!L39) | W8: =IF(PPG!M39="", "", PPG!M39) | X8: =IF(PPG!N39="", "", PPG!N39) | Y8: =IF(PPG!O39="", "", PPG!O39) | Z8: =IF(PPG!Q39="", "", PPG!Q39) | AA8: =IF(PPG!R39="", "", PPG!R39) | AB8: =IF(PPG!S39="", "", PPG!S39) | AC8: =IF(PPG!T39="", "", PPG!T39) | AD8: =IF(PPG!U39="", "", PPG!U39) | AE8: =IF(PPG!V39="", "", PPG!V39) | AF8: =IF(PPG!W39="", "", PPG!W39) | AG8: =IF(PPG!X39="", "", PPG!X39) | ... AI8: =IF(PPG!Z39="", "", PPG!Z39) | AJ8: =IF(D8<>"",D8*I8, "0.00") -> 0.00 | AK8: =IF(D8<>"",D8, "0") -> 0 | AL8: =IF(D8<>"",D8*K8, "0") -> 0
A9: =IF(OUT!C73="", "", OUT!C73) -> 754 | B9: =IF(OUT!A73="", "", OUT!A73) -> 95689 | C9: =IF(OUT!D73="", "", OUT!D73) -> O | E9: =IF(OUT!E73="", "", OUT!E73) -> 72 TRAY | F9: =IF(OUT!AE73="NEW", "✷", "") | G9: =IF(OUT!B73="", "", OUT!B73) -> ALOCASIA HILO BEAUTY | H9: =IF(AND($K$3=1,$K$4="N"),P9,IF(AND($K$3=2,$K$4="N"),R9,IF(AND($K$3=3,$K$4="N"),T9,IF(AND($K$3=4,$K$4="N"),V9,IF(AND($K$3=5,$K$4="N"),X9,IF(AND($K$3=1,$K$4="Y"),Z9,IF(AND($K$3=2,$K$4="Y"),AB9,IF(AND($K$3=3,$K$4="Y"),AD9,IF(AND($K$3=4,$K$4="Y"),AF9,IF(AND($K$3=5,$K$4="Y"),AH9,"FALSE")))))))))) -> 1.429 | I9: =IF(AND($K$3=1,$K$4="N"),Q9,IF(AND($K$3=2,$K$4="N"),S9,IF(AND($K$3=3,$K$4="N"),U9,IF(AND($K$3=4,$K$4="N"),W9,IF(AND($K$3=5,$K$4="N"),Y9,IF(AND($K$3=1,$K$4="Y"),AA9,IF(AND($K$3=2,$K$4="Y"),AC9,IF(AND($K$3=3,$K$4="Y"),AE9,IF(AND($K$3=4,$K$4="Y"),AG9,IF(AND($K$3=5,$K$4="Y"),AI9,"FALSE")))))))))) -> 102.88 | J9: =IF(OUT!F73="", "", OUT!F73) | K9: =IF(OUT!P73="", "", OUT!P73) -> 72 | L9: =IF(OUT!AE73="", "", OUT!AE73) | M9: =IF(OUT!AG73="", "", OUT!AG73) | N9: =IF(OUT!AQ73="", "", OUT!AQ73) | O9: =IF(OUT!BO73="", "", OUT!BO73) -> T3 | P9: =IF(OUT!N73="", "", OUT!N73) -> 1.429 | Q9: =IF(OUT!O73="", "", OUT!O73) -> 102.88 | R9: =IF(PPG!H73="", "", PPG!H73) | S9: =IF(PPG!I73="", "", PPG!I73) | T9: =IF(PPG!J73="", "", PPG!J73) | U9: =IF(PPG!K73="", "", PPG!K73) | V9: =IF(PPG!L73="", "", PPG!L73) | W9: =IF(PPG!M73="", "", PPG!M73) | X9: =IF(PPG!N73="", "", PPG!N73) | Y9: =IF(PPG!O73="", "", PPG!O73) | Z9: =IF(PPG!Q73="", "", PPG!Q73) | AA9: =IF(PPG!R73="", "", PPG!R73) | AB9: =IF(PPG!S73="", "", PPG!S73) | AC9: =IF(PPG!T73="", "", PPG!T73) | AD9: =IF(PPG!U73="", "", PPG!U73) | AE9: =IF(PPG!V73="", "", PPG!V73) | AF9: =IF(PPG!W73="", "", PPG!W73) | AG9: =IF(PPG!X73="", "", PPG!X73) | ... AI9: =IF(PPG!Z73="", "", PPG!Z73) | AJ9: =IF(D9<>"",D9*I9, "0.00") -> 0.00 | AK9: =IF(D9<>"",D9, "0") -> 0 | AL9: =IF(D9<>"",D9*K9, "0") -> 0
A10: =IF(OUT!C38="", "", OUT!C38) -> 754 | B10: =IF(OUT!A38="", "", OUT!A38) -> 83667 | C10: =IF(OUT!D38="", "", OUT!D38) -> O | E10: =IF(OUT!E38="", "", OUT!E38) -> 72 TRAY | F10: =IF(OUT!AE38="NEW", "✷", "") | G10: =IF(OUT!B38="", "", OUT!B38) -> ALOCASIA MACRORRHIZA CALIDORA (DWARF PERSIAN PALM) | H10: =IF(AND($K$3=1,$K$4="N"),P10,IF(AND($K$3=2,$K$4="N"),R10,IF(AND($K$3=3,$K$4="N"),T10,IF(AND($K$3=4,$K$4="N"),V10,IF(AND($K$3=5,$K$4="N"),X10,IF(AND($K$3=1,$K$4="Y"),Z10,IF(AND($K$3=2,$K$4="Y"),AB10,IF(AND($K$3=3,$K$4="Y"),AD10,IF(AND($K$3=4,$K$4="Y"),AF10,IF(AND($K$3=5,$K$4="Y"),AH10,"FALSE")))))))))) -> 1.84 | I10: =IF(AND($K$3=1,$K$4="N"),Q10,IF(AND($K$3=2,$K$4="N"),S10,IF(AND($K$3=3,$K$4="N"),U10,IF(AND($K$3=4,$K$4="N"),W10,IF(AND($K$3=5,$K$4="N"),Y10,IF(AND($K$3=1,$K$4="Y"),AA10,IF(AND($K$3=2,$K$4="Y"),AC10,IF(AND($K$3=3,$K$4="Y"),AE10,IF(AND($K$3=4,$K$4="Y"),AG10,IF(AND($K$3=5,$K$4="Y"),AI10,"FALSE")))))))))) -> 132.48 | J10: =IF(OUT!F38="", "", OUT!F38) | K10: =IF(OUT!P38="", "", OUT!P38) -> 72 | L10: =IF(OUT!AE38="", "", OUT!AE38) | M10: =IF(OUT!AG38="", "", OUT!AG38) | N10: =IF(OUT!AQ38="", "", OUT!AQ38) | O10: =IF(OUT!BO38="", "", OUT!BO38) -> T3 | P10: =IF(OUT!N38="", "", OUT!N38) -> 1.84 | Q10: =IF(OUT!O38="", "", OUT!O38) -> 132.48 | R10: =IF(PPG!H38="", "", PPG!H38) | S10: =IF(PPG!I38="", "", PPG!I38) | T10: =IF(PPG!J38="", "", PPG!J38) | U10: =IF(PPG!K38="", "", PPG!K38) | V10: =IF(PPG!L38="", "", PPG!L38) | W10: =IF(PPG!M38="", "", PPG!M38) | X10: =IF(PPG!N38="", "", PPG!N38) | Y10: =IF(PPG!O38="", "", PPG!O38) | Z10: =IF(PPG!Q38="", "", PPG!Q38) | AA10: =IF(PPG!R38="", "", PPG!R38) | AB10: =IF(PPG!S38="", "", PPG!S38) | AC10: =IF(PPG!T38="", "", PPG!T38) | AD10: =IF(PPG!U38="", "", PPG!U38) | AE10: =IF(PPG!V38="", "", PPG!V38) | AF10: =IF(PPG!W38="", "", PPG!W38) | AG10: =IF(PPG!X38="", "", PPG!X38) | ... AI10: =IF(PPG!Z38="", "", PPG!Z38) | AJ10: =IF(D10<>"",D10*I10, "0.00") -> 0.00 | AK10: =IF(D10<>"",D10, "0") -> 0 | AL10: =IF(D10<>"",D10*K10, "0") -> 0
A11: =IF(OUT!C54="", "", OUT!C54) -> 754 | B11: =IF(OUT!A54="", "", OUT!A54) -> 93552 | C11: =IF(OUT!D54="", "", OUT!D54) -> O | E11: =IF(OUT!E54="", "", OUT!E54) -> 72 TRAY | F11: =IF(OUT!AE54="NEW", "✷", "") | G11: =IF(OUT!B54="", "", OUT!B54) -> ALOCASIA MAYAN MASK | H11: =IF(AND($K$3=1,$K$4="N"),P11,IF(AND($K$3=2,$K$4="N"),R11,IF(AND($K$3=3,$K$4="N"),T11,IF(AND($K$3=4,$K$4="N"),V11,IF(AND($K$3=5,$K$4="N"),X11,IF(AND($K$3=1,$K$4="Y"),Z11,IF(AND($K$3=2,$K$4="Y"),AB11,IF(AND($K$3=3,$K$4="Y"),AD11,IF(AND($K$3=4,$K$4="Y"),AF11,IF(AND($K$3=5,$K$4="Y"),AH11,"FALSE")))))))))) -> 2.169 | I11: =IF(AND($K$3=1,$K$4="N"),Q11,IF(AND($K$3=2,$K$4="N"),S11,IF(AND($K$3=3,$K$4="N"),U11,IF(AND($K$3=4,$K$4="N"),W11,IF(AND($K$3=5,$K$4="N"),Y11,IF(AND($K$3=1,$K$4="Y"),AA11,IF(AND($K$3=2,$K$4="Y"),AC11,IF(AND($K$3=3,$K$4="Y"),AE11,IF(AND($K$3=4,$K$4="Y"),AG11,IF(AND($K$3=5,$K$4="Y"),AI11,"FALSE")))))))))) -> 156.16 | J11: =IF(OUT!F54="", "", OUT!F54) | K11: =IF(OUT!P54="", "", OUT!P54) -> 72 | L11: =IF(OUT!AE54="", "", OUT!AE54) | M11: =IF(OUT!AG54="", "", OUT!AG54) -> PAT | N11: =IF(OUT!AQ54="", "", OUT!AQ54) | O11: =IF(OUT!BO54="", "", OUT!BO54) -> T3 | P11: =IF(OUT!N54="", "", OUT!N54) -> 2.169 | Q11: =IF(OUT!O54="", "", OUT!O54) -> 156.16 | R11: =IF(PPG!H54="", "", PPG!H54) | S11: =IF(PPG!I54="", "", PPG!I54) | T11: =IF(PPG!J54="", "", PPG!J54) | U11: =IF(PPG!K54="", "", PPG!K54) | V11: =IF(PPG!L54="", "", PPG!L54) | W11: =IF(PPG!M54="", "", PPG!M54) | X11: =IF(PPG!N54="", "", PPG!N54) | Y11: =IF(PPG!O54="", "", PPG!O54) | Z11: =IF(PPG!Q54="", "", PPG!Q54) | AA11: =IF(PPG!R54="", "", PPG!R54) | AB11: =IF(PPG!S54="", "", PPG!S54) | AC11: =IF(PPG!T54="", "", PPG!T54) | AD11: =IF(PPG!U54="", "", PPG!U54) | AE11: =IF(PPG!V54="", "", PPG!V54) | AF11: =IF(PPG!W54="", "", PPG!W54) | AG11: =IF(PPG!X54="", "", PPG!X54) | ... AI11: =IF(PPG!Z54="", "", PPG!Z54) | AJ11: =IF(D11<>"",D11*I11, "0.00") -> 0.00 | AK11: =IF(D11<>"",D11, "0") -> 0 | AL11: =IF(D11<>"",D11*K11, "0") -> 0
A12: =IF(OUT!C40="", "", OUT!C40) -> 754 | B12: =IF(OUT!A40="", "", OUT!A40) -> 83683 | C12: =IF(OUT!D40="", "", OUT!D40) -> O | E12: =IF(OUT!E40="", "", OUT!E40) -> 72 TRAY | F12: =IF(OUT!AE40="NEW", "✷", "") -> ✷ | G12: =IF(OUT!B40="", "", OUT!B40) -> ALOCASIA ODORA | H12: =IF(AND($K$3=1,$K$4="N"),P12,IF(AND($K$3=2,$K$4="N"),R12,IF(AND($K$3=3,$K$4="N"),T12,IF(AND($K$3=4,$K$4="N"),V12,IF(AND($K$3=5,$K$4="N"),X12,IF(AND($K$3=1,$K$4="Y"),Z12,IF(AND($K$3=2,$K$4="Y"),AB12,IF(AND($K$3=3,$K$4="Y"),AD12,IF(AND($K$3=4,$K$4="Y"),AF12,IF(AND($K$3=5,$K$4="Y"),AH12,"FALSE")))))))))) -> 1.612 | I12: =IF(AND($K$3=1,$K$4="N"),Q12,IF(AND($K$3=2,$K$4="N"),S12,IF(AND($K$3=3,$K$4="N"),U12,IF(AND($K$3=4,$K$4="N"),W12,IF(AND($K$3=5,$K$4="N"),Y12,IF(AND($K$3=1,$K$4="Y"),AA12,IF(AND($K$3=2,$K$4="Y"),AC12,IF(AND($K$3=3,$K$4="Y"),AE12,IF(AND($K$3=4,$K$4="Y"),AG12,IF(AND($K$3=5,$K$4="Y"),AI12,"FALSE")))))))))) -> 116.06 | J12: =IF(OUT!F40="", "", OUT!F40) | K12: =IF(OUT!P40="", "", OUT!P40) -> 72 | L12: =IF(OUT!AE40="", "", OUT!AE40) -> NEW | M12: =IF(OUT!AG40="", "", OUT!AG40) | N12: =IF(OUT!AQ40="", "", OUT!AQ40) | O12: =IF(OUT!BO40="", "", OUT!BO40) -> T3 | P12: =IF(OUT!N40="", "", OUT!N40) -> 1.612 | Q12: =IF(OUT!O40="", "", OUT!O40) -> 116.06 | R12: =IF(PPG!H40="", "", PPG!H40) | S12: =IF(PPG!I40="", "", PPG!I40) | T12: =IF(PPG!J40="", "", PPG!J40) | U12: =IF(PPG!K40="", "", PPG!K40) | V12: =IF(PPG!L40="", "", PPG!L40) | W12: =IF(PPG!M40="", "", PPG!M40) | X12: =IF(PPG!N40="", "", PPG!N40) | Y12: =IF(PPG!O40="", "", PPG!O40) | Z12: =IF(PPG!Q40="", "", PPG!Q40) | AA12: =IF(PPG!R40="", "", PPG!R40) | AB12: =IF(PPG!S40="", "", PPG!S40) | AC12: =IF(PPG!T40="", "", PPG!T40) | AD12: =IF(PPG!U40="", "", PPG!U40) | AE12: =IF(PPG!V40="", "", PPG!V40) | AF12: =IF(PPG!W40="", "", PPG!W40) | AG12: =IF(PPG!X40="", "", PPG!X40) | ... AI12: =IF(PPG!Z40="", "", PPG!Z40) | AJ12: =IF(D12<>"",D12*I12, "0.00") -> 0.00 | AK12: =IF(D12<>"",D12, "0") -> 0 | AL12: =IF(D12<>"",D12*K12, "0") -> 0
A13: =IF(OUT!C41="", "", OUT!C41) -> 754 | B13: =IF(OUT!A41="", "", OUT!A41) -> 83685 | C13: =IF(OUT!D41="", "", OUT!D41) -> O | E13: =IF(OUT!E41="", "", OUT!E41) -> 72 TRAY | F13: =IF(OUT!AE41="NEW", "✷", "") | G13: =IF(OUT!B41="", "", OUT!B41) -> ALOCASIA PORTORA | H13: =IF(AND($K$3=1,$K$4="N"),P13,IF(AND($K$3=2,$K$4="N"),R13,IF(AND($K$3=3,$K$4="N"),T13,IF(AND($K$3=4,$K$4="N"),V13,IF(AND($K$3=5,$K$4="N"),X13,IF(AND($K$3=1,$K$4="Y"),Z13,IF(AND($K$3=2,$K$4="Y"),AB13,IF(AND($K$3=3,$K$4="Y"),AD13,IF(AND($K$3=4,$K$4="Y"),AF13,IF(AND($K$3=5,$K$4="Y"),AH13,"FALSE")))))))))) -> 1.84 | I13: =IF(AND($K$3=1,$K$4="N"),Q13,IF(AND($K$3=2,$K$4="N"),S13,IF(AND($K$3=3,$K$4="N"),U13,IF(AND($K$3=4,$K$4="N"),W13,IF(AND($K$3=5,$K$4="N"),Y13,IF(AND($K$3=1,$K$4="Y"),AA13,IF(AND($K$3=2,$K$4="Y"),AC13,IF(AND($K$3=3,$K$4="Y"),AE13,IF(AND($K$3=4,$K$4="Y"),AG13,IF(AND($K$3=5,$K$4="Y"),AI13,"FALSE")))))))))) -> 132.48 | J13: =IF(OUT!F41="", "", OUT!F41) | K13: =IF(OUT!P41="", "", OUT!P41) -> 72 | L13: =IF(OUT!AE41="", "", OUT!AE41) | M13: =IF(OUT!AG41="", "", OUT!AG41) | N13: =IF(OUT!AQ41="", "", OUT!AQ41) | O13: =IF(OUT!BO41="", "", OUT!BO41) -> T3 | P13: =IF(OUT!N41="", "", OUT!N41) -> 1.84 | Q13: =IF(OUT!O41="", "", OUT!O41) -> 132.48 | R13: =IF(PPG!H41="", "", PPG!H41) | S13: =IF(PPG!I41="", "", PPG!I41) | T13: =IF(PPG!J41="", "", PPG!J41) | U13: =IF(PPG!K41="", "", PPG!K41) | V13: =IF(PPG!L41="", "", PPG!L41) | W13: =IF(PPG!M41="", "", PPG!M41) | X13: =IF(PPG!N41="", "", PPG!N41) | Y13: =IF(PPG!O41="", "", PPG!O41) | Z13: =IF(PPG!Q41="", "", PPG!Q41) | AA13: =IF(PPG!R41="", "", PPG!R41) | AB13: =IF(PPG!S41="", "", PPG!S41) | AC13: =IF(PPG!T41="", "", PPG!T41) | AD13: =IF(PPG!U41="", "", PPG!U41) | AE13: =IF(PPG!V41="", "", PPG!V41) | AF13: =IF(PPG!W41="", "", PPG!W41) | AG13: =IF(PPG!X41="", "", PPG!X41) | ... AI13: =IF(PPG!Z41="", "", PPG!Z41) | AJ13: =IF(D13<>"",D13*I13, "0.00") -> 0.00 | AK13: =IF(D13<>"",D13, "0") -> 0 | AL13: =IF(D13<>"",D13*K13, "0") -> 0
A14: =IF(OUT!C55="", "", OUT!C55) -> 754 | B14: =IF(OUT!A55="", "", OUT!A55) -> 93553 | C14: =IF(OUT!D55="", "", OUT!D55) -> O | E14: =IF(OUT!E55="", "", OUT!E55) -> 72 TRAY | F14: =IF(OUT!AE55="NEW", "✷", "") | G14: =IF(OUT!B55="", "", OUT!B55) -> ALOCASIA REGAL SHIELDS | H14: =IF(AND($K$3=1,$K$4="N"),P14,IF(AND($K$3=2,$K$4="N"),R14,IF(AND($K$3=3,$K$4="N"),T14,IF(AND($K$3=4,$K$4="N"),V14,IF(AND($K$3=5,$K$4="N"),X14,IF(AND($K$3=1,$K$4="Y"),Z14,IF(AND($K$3=2,$K$4="Y"),AB14,IF(AND($K$3=3,$K$4="Y"),AD14,IF(AND($K$3=4,$K$4="Y"),AF14,IF(AND($K$3=5,$K$4="Y"),AH14,"FALSE")))))))))) -> 2.06 | I14: =IF(AND($K$3=1,$K$4="N"),Q14,IF(AND($K$3=2,$K$4="N"),S14,IF(AND($K$3=3,$K$4="N"),U14,IF(AND($K$3=4,$K$4="N"),W14,IF(AND($K$3=5,$K$4="N"),Y14,IF(AND($K$3=1,$K$4="Y"),AA14,IF(AND($K$3=2,$K$4="Y"),AC14,IF(AND($K$3=3,$K$4="Y"),AE14,IF(AND($K$3=4,$K$4="Y"),AG14,IF(AND($K$3=5,$K$4="Y"),AI14,"FALSE")))))))))) -> 148.32 | J14: =IF(OUT!F55="", "", OUT!F55) | K14: =IF(OUT!P55="", "", OUT!P55) -> 72 | L14: =IF(OUT!AE55="", "", OUT!AE55) | M14: =IF(OUT!AG55="", "", OUT!AG55) -> PAT | N14: =IF(OUT!AQ55="", "", OUT!AQ55) | O14: =IF(OUT!BO55="", "", OUT!BO55) -> T3 | P14: =IF(OUT!N55="", "", OUT!N55) -> 2.06 | Q14: =IF(OUT!O55="", "", OUT!O55) -> 148.32 | R14: =IF(PPG!H55="", "", PPG!H55) | S14: =IF(PPG!I55="", "", PPG!I55) | T14: =IF(PPG!J55="", "", PPG!J55) | U14: =IF(PPG!K55="", "", PPG!K55) | V14: =IF(PPG!L55="", "", PPG!L55) | W14: =IF(PPG!M55="", "", PPG!M55) | X14: =IF(PPG!N55="", "", PPG!N55) | Y14: =IF(PPG!O55="", "", PPG!O55) | Z14: =IF(PPG!Q55="", "", PPG!Q55) | AA14: =IF(PPG!R55="", "", PPG!R55) | AB14: =IF(PPG!S55="", "", PPG!S55) | AC14: =IF(PPG!T55="", "", PPG!T55) | AD14: =IF(PPG!U55="", "", PPG!U55) | AE14: =IF(PPG!V55="", "", PPG!V55) | AF14: =IF(PPG!W55="", "", PPG!W55) | AG14: =IF(PPG!X55="", "", PPG!X55) | ... AI14: =IF(PPG!Z55="", "", PPG!Z55) | AJ14: =IF(D14<>"",D14*I14, "0.00") -> 0.00 | AK14: =IF(D14<>"",D14, "0") -> 0 | AL14: =IF(D14<>"",D14*K14, "0") -> 0
A15: =IF(OUT!C56="", "", OUT!C56) -> 754 | B15: =IF(OUT!A56="", "", OUT!A56) -> 93555 | C15: =IF(OUT!D56="", "", OUT!D56) -> O | E15: =IF(OUT!E56="", "", OUT!E56) -> 72 TRAY | F15: =IF(OUT!AE56="NEW", "✷", "") | G15: =IF(OUT!B56="", "", OUT!B56) -> ALOCASIA TINY DANCERS | H15: =IF(AND($K$3=1,$K$4="N"),P15,IF(AND($K$3=2,$K$4="N"),R15,IF(AND($K$3=3,$K$4="N"),T15,IF(AND($K$3=4,$K$4="N"),V15,IF(AND($K$3=5,$K$4="N"),X15,IF(AND($K$3=1,$K$4="Y"),Z15,IF(AND($K$3=2,$K$4="Y"),AB15,IF(AND($K$3=3,$K$4="Y"),AD15,IF(AND($K$3=4,$K$4="Y"),AF15,IF(AND($K$3=5,$K$4="Y"),AH15,"FALSE")))))))))) -> 2.06 | I15: =IF(AND($K$3=1,$K$4="N"),Q15,IF(AND($K$3=2,$K$4="N"),S15,IF(AND($K$3=3,$K$4="N"),U15,IF(AND($K$3=4,$K$4="N"),W15,IF(AND($K$3=5,$K$4="N"),Y15,IF(AND($K$3=1,$K$4="Y"),AA15,IF(AND($K$3=2,$K$4="Y"),AC15,IF(AND($K$3=3,$K$4="Y"),AE15,IF(AND($K$3=4,$K$4="Y"),AG15,IF(AND($K$3=5,$K$4="Y"),AI15,"FALSE")))))))))) -> 148.32 | J15: =IF(OUT!F56="", "", OUT!F56) | K15: =IF(OUT!P56="", "", OUT!P56) -> 72 | L15: =IF(OUT!AE56="", "", OUT!AE56) | M15: =IF(OUT!AG56="", "", OUT!AG56) -> PAT | N15: =IF(OUT!AQ56="", "", OUT!AQ56) | O15: =IF(OUT!BO56="", "", OUT!BO56) -> T3 | P15: =IF(OUT!N56="", "", OUT!N56) -> 2.06 | Q15: =IF(OUT!O56="", "", OUT!O56) -> 148.32 | R15: =IF(PPG!H56="", "", PPG!H56) | S15: =IF(PPG!I56="", "", PPG!I56) | T15: =IF(PPG!J56="", "", PPG!J56) | U15: =IF(PPG!K56="", "", PPG!K56) | V15: =IF(PPG!L56="", "", PPG!L56) | W15: =IF(PPG!M56="", "", PPG!M56) | X15: =IF(PPG!N56="", "", PPG!N56) | Y15: =IF(PPG!O56="", "", PPG!O56) | Z15: =IF(PPG!Q56="", "", PPG!Q56) | AA15: =IF(PPG!R56="", "", PPG!R56) | AB15: =IF(PPG!S56="", "", PPG!S56) | AC15: =IF(PPG!T56="", "", PPG!T56) | AD15: =IF(PPG!U56="", "", PPG!U56) | AE15: =IF(PPG!V56="", "", PPG!V56) | AF15: =IF(PPG!W56="", "", PPG!W56) | AG15: =IF(PPG!X56="", "", PPG!X56) | ... AI15: =IF(PPG!Z56="", "", PPG!Z56) | AJ15: =IF(D15<>"",D15*I15, "0.00") -> 0.00 | AK15: =IF(D15<>"",D15, "0") -> 0 | AL15: =IF(D15<>"",D15*K15, "0") -> 0
A16: =IF(OUT!C30="", "", OUT!C30) -> 754 | B16: =IF(OUT!A30="", "", OUT!A30) -> 64219 | C16: =IF(OUT!D30="", "", OUT!D30) -> O | E16: =IF(OUT!E30="", "", OUT!E30) -> 72 TRAY | F16: =IF(OUT!AE30="NEW", "✷", "") | G16: =IF(OUT!B30="", "", OUT!B30) -> ALTERNANTHERA KRINKLE RED | H16: =IF(AND($K$3=1,$K$4="N"),P16,IF(AND($K$3=2,$K$4="N"),R16,IF(AND($K$3=3,$K$4="N"),T16,IF(AND($K$3=4,$K$4="N"),V16,IF(AND($K$3=5,$K$4="N"),X16,IF(AND($K$3=1,$K$4="Y"),Z16,IF(AND($K$3=2,$K$4="Y"),AB16,IF(AND($K$3=3,$K$4="Y"),AD16,IF(AND($K$3=4,$K$4="Y"),AF16,IF(AND($K$3=5,$K$4="Y"),AH16,"FALSE")))))))))) -> 0.823 | I16: =IF(AND($K$3=1,$K$4="N"),Q16,IF(AND($K$3=2,$K$4="N"),S16,IF(AND($K$3=3,$K$4="N"),U16,IF(AND($K$3=4,$K$4="N"),W16,IF(AND($K$3=5,$K$4="N"),Y16,IF(AND($K$3=1,$K$4="Y"),AA16,IF(AND($K$3=2,$K$4="Y"),AC16,IF(AND($K$3=3,$K$4="Y"),AE16,IF(AND($K$3=4,$K$4="Y"),AG16,IF(AND($K$3=5,$K$4="Y"),AI16,"FALSE")))))))))) -> 59.25 | J16: =IF(OUT!F30="", "", OUT!F30) | K16: =IF(OUT!P30="", "", OUT!P30) -> 72 | L16: =IF(OUT!AE30="", "", OUT!AE30) | M16: =IF(OUT!AG30="", "", OUT!AG30) | N16: =IF(OUT!AQ30="", "", OUT!AQ30) | O16: =IF(OUT!BO30="", "", OUT!BO30) -> T3 | P16: =IF(OUT!N30="", "", OUT!N30) -> 0.823 | Q16: =IF(OUT!O30="", "", OUT!O30) -> 59.25 | R16: =IF(PPG!H30="", "", PPG!H30) | S16: =IF(PPG!I30="", "", PPG!I30) | T16: =IF(PPG!J30="", "", PPG!J30) | U16: =IF(PPG!K30="", "", PPG!K30) | V16: =IF(PPG!L30="", "", PPG!L30) | W16: =IF(PPG!M30="", "", PPG!M30) | X16: =IF(PPG!N30="", "", PPG!N30) | Y16: =IF(PPG!O30="", "", PPG!O30) | Z16: =IF(PPG!Q30="", "", PPG!Q30) | AA16: =IF(PPG!R30="", "", PPG!R30) | AB16: =IF(PPG!S30="", "", PPG!S30) | AC16: =IF(PPG!T30="", "", PPG!T30) | AD16: =IF(PPG!U30="", "", PPG!U30) | AE16: =IF(PPG!V30="", "", PPG!V30) | AF16: =IF(PPG!W30="", "", PPG!W30) | AG16: =IF(PPG!X30="", "", PPG!X30) | ... AI16: =IF(PPG!Z30="", "", PPG!Z30) | AJ16: =IF(D16<>"",D16*I16, "0.00") -> 0.00 | AK16: =IF(D16<>"",D16, "0") -> 0 | AL16: =IF(D16<>"",D16*K16, "0") -> 0
A17: =IF(OUT!C32="", "", OUT!C32) -> 754 | B17: =IF(OUT!A32="", "", OUT!A32) -> 69619 | C17: =IF(OUT!D32="", "", OUT!D32) -> O | E17: =IF(OUT!E32="", "", OUT!E32) -> 72 TRAY | F17: =IF(OUT!AE32="NEW", "✷", "") | G17: =IF(OUT!B32="", "", OUT!B32) -> ALTERNANTHERA PARTY TIME (Pink w/Green Upright) | H17: =IF(AND($K$3=1,$K$4="N"),P17,IF(AND($K$3=2,$K$4="N"),R17,IF(AND($K$3=3,$K$4="N"),T17,IF(AND($K$3=4,$K$4="N"),V17,IF(AND($K$3=5,$K$4="N"),X17,IF(AND($K$3=1,$K$4="Y"),Z17,IF(AND($K$3=2,$K$4="Y"),AB17,IF(AND($K$3=3,$K$4="Y"),AD17,IF(AND($K$3=4,$K$4="Y"),AF17,IF(AND($K$3=5,$K$4="Y"),AH17,"FALSE")))))))))) -> 1.132 | I17: =IF(AND($K$3=1,$K$4="N"),Q17,IF(AND($K$3=2,$K$4="N"),S17,IF(AND($K$3=3,$K$4="N"),U17,IF(AND($K$3=4,$K$4="N"),W17,IF(AND($K$3=5,$K$4="N"),Y17,IF(AND($K$3=1,$K$4="Y"),AA17,IF(AND($K$3=2,$K$4="Y"),AC17,IF(AND($K$3=3,$K$4="Y"),AE17,IF(AND($K$3=4,$K$4="Y"),AG17,IF(AND($K$3=5,$K$4="Y"),AI17,"FALSE")))))))))) -> 81.5 | J17: =IF(OUT!F32="", "", OUT!F32) | K17: =IF(OUT!P32="", "", OUT!P32) -> 72 | L17: =IF(OUT!AE32="", "", OUT!AE32) | M17: =IF(OUT!AG32="", "", OUT!AG32) | N17: =IF(OUT!AQ32="", "", OUT!AQ32) | O17: =IF(OUT!BO32="", "", OUT!BO32) -> T3 | P17: =IF(OUT!N32="", "", OUT!N32) -> 1.132 | Q17: =IF(OUT!O32="", "", OUT!O32) -> 81.5 | R17: =IF(PPG!H32="", "", PPG!H32) | S17: =IF(PPG!I32="", "", PPG!I32) | T17: =IF(PPG!J32="", "", PPG!J32) | U17: =IF(PPG!K32="", "", PPG!K32) | V17: =IF(PPG!L32="", "", PPG!L32) | W17: =IF(PPG!M32="", "", PPG!M32) | X17: =IF(PPG!N32="", "", PPG!N32) | Y17: =IF(PPG!O32="", "", PPG!O32) | Z17: =IF(PPG!Q32="", "", PPG!Q32) | AA17: =IF(PPG!R32="", "", PPG!R32) | AB17: =IF(PPG!S32="", "", PPG!S32) | AC17: =IF(PPG!T32="", "", PPG!T32) | AD17: =IF(PPG!U32="", "", PPG!U32) | AE17: =IF(PPG!V32="", "", PPG!V32) | AF17: =IF(PPG!W32="", "", PPG!W32) | AG17: =IF(PPG!X32="", "", PPG!X32) | ... AI17: =IF(PPG!Z32="", "", PPG!Z32) | AJ17: =IF(D17<>"",D17*I17, "0.00") -> 0.00 | AK17: =IF(D17<>"",D17, "0") -> 0 | AL17: =IF(D17<>"",D17*K17, "0") -> 0
A18: =IF(OUT!C31="", "", OUT!C31) -> 754 | B18: =IF(OUT!A31="", "", OUT!A31) -> 68992 | C18: =IF(OUT!D31="", "", OUT!D31) -> O | E18: =IF(OUT!E31="", "", OUT!E31) -> 72 TRAY | F18: =IF(OUT!AE31="NEW", "✷", "") | G18: =IF(OUT!B31="", "", OUT!B31) -> ALTERNANTHERA RED THREADS | H18: =IF(AND($K$3=1,$K$4="N"),P18,IF(AND($K$3=2,$K$4="N"),R18,IF(AND($K$3=3,$K$4="N"),T18,IF(AND($K$3=4,$K$4="N"),V18,IF(AND($K$3=5,$K$4="N"),X18,IF(AND($K$3=1,$K$4="Y"),Z18,IF(AND($K$3=2,$K$4="Y"),AB18,IF(AND($K$3=3,$K$4="Y"),AD18,IF(AND($K$3=4,$K$4="Y"),AF18,IF(AND($K$3=5,$K$4="Y"),AH18,"FALSE")))))))))) -> 0.823 | I18: =IF(AND($K$3=1,$K$4="N"),Q18,IF(AND($K$3=2,$K$4="N"),S18,IF(AND($K$3=3,$K$4="N"),U18,IF(AND($K$3=4,$K$4="N"),W18,IF(AND($K$3=5,$K$4="N"),Y18,IF(AND($K$3=1,$K$4="Y"),AA18,IF(AND($K$3=2,$K$4="Y"),AC18,IF(AND($K$3=3,$K$4="Y"),AE18,IF(AND($K$3=4,$K$4="Y"),AG18,IF(AND($K$3=5,$K$4="Y"),AI18,"FALSE")))))))))) -> 59.25 | J18: =IF(OUT!F31="", "", OUT!F31) | K18: =IF(OUT!P31="", "", OUT!P31) -> 72 | L18: =IF(OUT!AE31="", "", OUT!AE31) | M18: =IF(OUT!AG31="", "", OUT!AG31) | N18: =IF(OUT!AQ31="", "", OUT!AQ31) | O18: =IF(OUT!BO31="", "", OUT!BO31) -> T3 | P18: =IF(OUT!N31="", "", OUT!N31) -> 0.823 | Q18: =IF(OUT!O31="", "", OUT!O31) -> 59.25 | R18: =IF(PPG!H31="", "", PPG!H31) | S18: =IF(PPG!I31="", "", PPG!I31) | T18: =IF(PPG!J31="", "", PPG!J31) | U18: =IF(PPG!K31="", "", PPG!K31) | V18: =IF(PPG!L31="", "", PPG!L31) | W18: =IF(PPG!M31="", "", PPG!M31) | X18: =IF(PPG!N31="", "", PPG!N31) | Y18: =IF(PPG!O31="", "", PPG!O31) | Z18: =IF(PPG!Q31="", "", PPG!Q31) | AA18: =IF(PPG!R31="", "", PPG!R31) | AB18: =IF(PPG!S31="", "", PPG!S31) | AC18: =IF(PPG!T31="", "", PPG!T31) | AD18: =IF(PPG!U31="", "", PPG!U31) | AE18: =IF(PPG!V31="", "", PPG!V31) | AF18: =IF(PPG!W31="", "", PPG!W31) | AG18: =IF(PPG!X31="", "", PPG!X31) | ... AI18: =IF(PPG!Z31="", "", PPG!Z31) | AJ18: =IF(D18<>"",D18*I18, "0.00") -> 0.00 | AK18: =IF(D18<>"",D18, "0") -> 0 | AL18: =IF(D18<>"",D18*K18, "0") -> 0
A19: =IF(OUT!C9="", "", OUT!C9) -> 754 | B19: =IF(OUT!A9="", "", OUT!A9) -> 13492 | C19: =IF(OUT!D9="", "", OUT!D9) -> O | E19: =IF(OUT!E9="", "", OUT!E9) -> 72 TRAY | F19: =IF(OUT!AE9="NEW", "✷", "") -> ✷ | G19: =IF(OUT!B9="", "", OUT!B9) -> ALTERNANTHERA SNOW BUNNY | H19: =IF(AND($K$3=1,$K$4="N"),P19,IF(AND($K$3=2,$K$4="N"),R19,IF(AND($K$3=3,$K$4="N"),T19,IF(AND($K$3=4,$K$4="N"),V19,IF(AND($K$3=5,$K$4="N"),X19,IF(AND($K$3=1,$K$4="Y"),Z19,IF(AND($K$3=2,$K$4="Y"),AB19,IF(AND($K$3=3,$K$4="Y"),AD19,IF(AND($K$3=4,$K$4="Y"),AF19,IF(AND($K$3=5,$K$4="Y"),AH19,"FALSE")))))))))) -> 1.132 | I19: =IF(AND($K$3=1,$K$4="N"),Q19,IF(AND($K$3=2,$K$4="N"),S19,IF(AND($K$3=3,$K$4="N"),U19,IF(AND($K$3=4,$K$4="N"),W19,IF(AND($K$3=5,$K$4="N"),Y19,IF(AND($K$3=1,$K$4="Y"),AA19,IF(AND($K$3=2,$K$4="Y"),AC19,IF(AND($K$3=3,$K$4="Y"),AE19,IF(AND($K$3=4,$K$4="Y"),AG19,IF(AND($K$3=5,$K$4="Y"),AI19,"FALSE")))))))))) -> 81.5 | J19: =IF(OUT!F9="", "", OUT!F9) | K19: =IF(OUT!P9="", "", OUT!P9) -> 72 | L19: =IF(OUT!AE9="", "", OUT!AE9) -> NEW | M19: =IF(OUT!AG9="", "", OUT!AG9) | N19: =IF(OUT!AQ9="", "", OUT!AQ9) | O19: =IF(OUT!BO9="", "", OUT!BO9) -> T3 | P19: =IF(OUT!N9="", "", OUT!N9) -> 1.132 | Q19: =IF(OUT!O9="", "", OUT!O9) -> 81.5 | R19: =IF(PPG!H9="", "", PPG!H9) | S19: =IF(PPG!I9="", "", PPG!I9) | T19: =IF(PPG!J9="", "", PPG!J9) | U19: =IF(PPG!K9="", "", PPG!K9) | V19: =IF(PPG!L9="", "", PPG!L9) | W19: =IF(PPG!M9="", "", PPG!M9) | X19: =IF(PPG!N9="", "", PPG!N9) | Y19: =IF(PPG!O9="", "", PPG!O9) | Z19: =IF(PPG!Q9="", "", PPG!Q9) | AA19: =IF(PPG!R9="", "", PPG!R9) | AB19: =IF(PPG!S9="", "", PPG!S9) | AC19: =IF(PPG!T9="", "", PPG!T9) | AD19: =IF(PPG!U9="", "", PPG!U9) | AE19: =IF(PPG!V9="", "", PPG!V9) | AF19: =IF(PPG!W9="", "", PPG!W9) | AG19: =IF(PPG!X9="", "", PPG!X9) | ... AI19: =IF(PPG!Z9="", "", PPG!Z9) | AJ19: =IF(D19<>"",D19*I19, "0.00") -> 0.00 | AK19: =IF(D19<>"",D19, "0") -> 0 | AL19: =IF(D19<>"",D19*K19, "0") -> 0
A20: =IF(OUT!C28="", "", OUT!C28) -> 754 | B20: =IF(OUT!A28="", "", OUT!A28) -> 58680 | C20: =IF(OUT!D28="", "", OUT!D28) -> O | E20: =IF(OUT!E28="", "", OUT!E28) -> 72 TRAY | F20: =IF(OUT!AE28="NEW", "✷", "") | G20: =IF(OUT!B28="", "", OUT!B28) -> ALTERNANTHERA SNOW QUEEN | H20: =IF(AND($K$3=1,$K$4="N"),P20,IF(AND($K$3=2,$K$4="N"),R20,IF(AND($K$3=3,$K$4="N"),T20,IF(AND($K$3=4,$K$4="N"),V20,IF(AND($K$3=5,$K$4="N"),X20,IF(AND($K$3=1,$K$4="Y"),Z20,IF(AND($K$3=2,$K$4="Y"),AB20,IF(AND($K$3=3,$K$4="Y"),AD20,IF(AND($K$3=4,$K$4="Y"),AF20,IF(AND($K$3=5,$K$4="Y"),AH20,"FALSE")))))))))) -> 0.823 | I20: =IF(AND($K$3=1,$K$4="N"),Q20,IF(AND($K$3=2,$K$4="N"),S20,IF(AND($K$3=3,$K$4="N"),U20,IF(AND($K$3=4,$K$4="N"),W20,IF(AND($K$3=5,$K$4="N"),Y20,IF(AND($K$3=1,$K$4="Y"),AA20,IF(AND($K$3=2,$K$4="Y"),AC20,IF(AND($K$3=3,$K$4="Y"),AE20,IF(AND($K$3=4,$K$4="Y"),AG20,IF(AND($K$3=5,$K$4="Y"),AI20,"FALSE")))))))))) -> 59.25 | J20: =IF(OUT!F28="", "", OUT!F28) | K20: =IF(OUT!P28="", "", OUT!P28) -> 72 | L20: =IF(OUT!AE28="", "", OUT!AE28) | M20: =IF(OUT!AG28="", "", OUT!AG28) | N20: =IF(OUT!AQ28="", "", OUT!AQ28) | O20: =IF(OUT!BO28="", "", OUT!BO28) -> T3 | P20: =IF(OUT!N28="", "", OUT!N28) -> 0.823 | Q20: =IF(OUT!O28="", "", OUT!O28) -> 59.25 | R20: =IF(PPG!H28="", "", PPG!H28) | S20: =IF(PPG!I28="", "", PPG!I28) | T20: =IF(PPG!J28="", "", PPG!J28) | U20: =IF(PPG!K28="", "", PPG!K28) | V20: =IF(PPG!L28="", "", PPG!L28) | W20: =IF(PPG!M28="", "", PPG!M28) | X20: =IF(PPG!N28="", "", PPG!N28) | Y20: =IF(PPG!O28="", "", PPG!O28) | Z20: =IF(PPG!Q28="", "", PPG!Q28) | AA20: =IF(PPG!R28="", "", PPG!R28) | AB20: =IF(PPG!S28="", "", PPG!S28) | AC20: =IF(PPG!T28="", "", PPG!T28) | AD20: =IF(PPG!U28="", "", PPG!U28) | AE20: =IF(PPG!V28="", "", PPG!V28) | AF20: =IF(PPG!W28="", "", PPG!W28) | AG20: =IF(PPG!X28="", "", PPG!X28) | ... AI20: =IF(PPG!Z28="", "", PPG!Z28) | AJ20: =IF(D20<>"",D20*I20, "0.00") -> 0.00 | AK20: =IF(D20<>"",D20, "0") -> 0 | AL20: =IF(D20<>"",D20*K20, "0") -> 0
A21: =IF(OUT!C57="", "", OUT!C57) -> 754 | B21: =IF(OUT!A57="", "", OUT!A57) -> 93559 | C21: =IF(OUT!D57="", "", OUT!D57) -> O | E21: =IF(OUT!E57="", "", OUT!E57) -> 72 TRAY | F21: =IF(OUT!AE57="NEW", "✷", "") | G21: =IF(OUT!B57="", "", OUT!B57) -> ALTERNANTHERA THIN GOLD | H21: =IF(AND($K$3=1,$K$4="N"),P21,IF(AND($K$3=2,$K$4="N"),R21,IF(AND($K$3=3,$K$4="N"),T21,IF(AND($K$3=4,$K$4="N"),V21,IF(AND($K$3=5,$K$4="N"),X21,IF(AND($K$3=1,$K$4="Y"),Z21,IF(AND($K$3=2,$K$4="Y"),AB21,IF(AND($K$3=3,$K$4="Y"),AD21,IF(AND($K$3=4,$K$4="Y"),AF21,IF(AND($K$3=5,$K$4="Y"),AH21,"FALSE")))))))))) -> 0.823 | I21: =IF(AND($K$3=1,$K$4="N"),Q21,IF(AND($K$3=2,$K$4="N"),S21,IF(AND($K$3=3,$K$4="N"),U21,IF(AND($K$3=4,$K$4="N"),W21,IF(AND($K$3=5,$K$4="N"),Y21,IF(AND($K$3=1,$K$4="Y"),AA21,IF(AND($K$3=2,$K$4="Y"),AC21,IF(AND($K$3=3,$K$4="Y"),AE21,IF(AND($K$3=4,$K$4="Y"),AG21,IF(AND($K$3=5,$K$4="Y"),AI21,"FALSE")))))))))) -> 59.25 | J21: =IF(OUT!F57="", "", OUT!F57) | K21: =IF(OUT!P57="", "", OUT!P57) -> 72 | L21: =IF(OUT!AE57="", "", OUT!AE57) | M21: =IF(OUT!AG57="", "", OUT!AG57) | N21: =IF(OUT!AQ57="", "", OUT!AQ57) | O21: =IF(OUT!BO57="", "", OUT!BO57) -> T3 | P21: =IF(OUT!N57="", "", OUT!N57) -> 0.823 | Q21: =IF(OUT!O57="", "", OUT!O57) -> 59.25 | R21: =IF(PPG!H57="", "", PPG!H57) | S21: =IF(PPG!I57="", "", PPG!I57) | T21: =IF(PPG!J57="", "", PPG!J57) | U21: =IF(PPG!K57="", "", PPG!K57) | V21: =IF(PPG!L57="", "", PPG!L57) | W21: =IF(PPG!M57="", "", PPG!M57) | X21: =IF(PPG!N57="", "", PPG!N57) | Y21: =IF(PPG!O57="", "", PPG!O57) | Z21: =IF(PPG!Q57="", "", PPG!Q57) | AA21: =IF(PPG!R57="", "", PPG!R57) | AB21: =IF(PPG!S57="", "", PPG!S57) | AC21: =IF(PPG!T57="", "", PPG!T57) | AD21: =IF(PPG!U57="", "", PPG!U57) | AE21: =IF(PPG!V57="", "", PPG!V57) | AF21: =IF(PPG!W57="", "", PPG!W57) | AG21: =IF(PPG!X57="", "", PPG!X57) | ... AI21: =IF(PPG!Z57="", "", PPG!Z57) | AJ21: =IF(D21<>"",D21*I21, "0.00") -> 0.00 | AK21: =IF(D21<>"",D21, "0") -> 0 | AL21: =IF(D21<>"",D21*K21, "0") -> 0
A22: =IF(OUT!C34="", "", OUT!C34) -> 754 | B22: =IF(OUT!A34="", "", OUT!A34) -> 71927 | C22: =IF(OUT!D34="", "", OUT!D34) -> O | E22: =IF(OUT!E34="", "", OUT!E34) -> 72 TRAY | F22: =IF(OUT!AE34="NEW", "✷", "") | G22: =IF(OUT!B34="", "", OUT!B34) -> ALTERNANTHERA TRUE YELLOW | H22: =IF(AND($K$3=1,$K$4="N"),P22,IF(AND($K$3=2,$K$4="N"),R22,IF(AND($K$3=3,$K$4="N"),T22,IF(AND($K$3=4,$K$4="N"),V22,IF(AND($K$3=5,$K$4="N"),X22,IF(AND($K$3=1,$K$4="Y"),Z22,IF(AND($K$3=2,$K$4="Y"),AB22,IF(AND($K$3=3,$K$4="Y"),AD22,IF(AND($K$3=4,$K$4="Y"),AF22,IF(AND($K$3=5,$K$4="Y"),AH22,"FALSE")))))))))) -> 0.823 | I22: =IF(AND($K$3=1,$K$4="N"),Q22,IF(AND($K$3=2,$K$4="N"),S22,IF(AND($K$3=3,$K$4="N"),U22,IF(AND($K$3=4,$K$4="N"),W22,IF(AND($K$3=5,$K$4="N"),Y22,IF(AND($K$3=1,$K$4="Y"),AA22,IF(AND($K$3=2,$K$4="Y"),AC22,IF(AND($K$3=3,$K$4="Y"),AE22,IF(AND($K$3=4,$K$4="Y"),AG22,IF(AND($K$3=5,$K$4="Y"),AI22,"FALSE")))))))))) -> 59.25 | J22: =IF(OUT!F34="", "", OUT!F34) | K22: =IF(OUT!P34="", "", OUT!P34) -> 72 | L22: =IF(OUT!AE34="", "", OUT!AE34) | M22: =IF(OUT!AG34="", "", OUT!AG34) | N22: =IF(OUT!AQ34="", "", OUT!AQ34) | O22: =IF(OUT!BO34="", "", OUT!BO34) -> T3 | P22: =IF(OUT!N34="", "", OUT!N34) -> 0.823 | Q22: =IF(OUT!O34="", "", OUT!O34) -> 59.25 | R22: =IF(PPG!H34="", "", PPG!H34) | S22: =IF(PPG!I34="", "", PPG!I34) | T22: =IF(PPG!J34="", "", PPG!J34) | U22: =IF(PPG!K34="", "", PPG!K34) | V22: =IF(PPG!L34="", "", PPG!L34) | W22: =IF(PPG!M34="", "", PPG!M34) | X22: =IF(PPG!N34="", "", PPG!N34) | Y22: =IF(PPG!O34="", "", PPG!O34) | Z22: =IF(PPG!Q34="", "", PPG!Q34) | AA22: =IF(PPG!R34="", "", PPG!R34) | AB22: =IF(PPG!S34="", "", PPG!S34) | AC22: =IF(PPG!T34="", "", PPG!T34) | AD22: =IF(PPG!U34="", "", PPG!U34) | AE22: =IF(PPG!V34="", "", PPG!V34) | AF22: =IF(PPG!W34="", "", PPG!W34) | AG22: =IF(PPG!X34="", "", PPG!X34) | ... AI22: =IF(PPG!Z34="", "", PPG!Z34) | AJ22: =IF(D22<>"",D22*I22, "0.00") -> 0.00 | AK22: =IF(D22<>"",D22, "0") -> 0 | AL22: =IF(D22<>"",D22*K22, "0") -> 0
A23: =IF(OUT!C33="", "", OUT!C33) -> 754 | B23: =IF(OUT!A33="", "", OUT!A33) -> 71889 | C23: =IF(OUT!D33="", "", OUT!D33) -> O | E23: =IF(OUT!E33="", "", OUT!E33) -> 72 TRAY | F23: =IF(OUT!AE33="NEW", "✷", "") | G23: =IF(OUT!B33="", "", OUT!B33) -> BEGONIA ODORATA ALBA (White) | H23: =IF(AND($K$3=1,$K$4="N"),P23,IF(AND($K$3=2,$K$4="N"),R23,IF(AND($K$3=3,$K$4="N"),T23,IF(AND($K$3=4,$K$4="N"),V23,IF(AND($K$3=5,$K$4="N"),X23,IF(AND($K$3=1,$K$4="Y"),Z23,IF(AND($K$3=2,$K$4="Y"),AB23,IF(AND($K$3=3,$K$4="Y"),AD23,IF(AND($K$3=4,$K$4="Y"),AF23,IF(AND($K$3=5,$K$4="Y"),AH23,"FALSE")))))))))) -> 1.303 | I23: =IF(AND($K$3=1,$K$4="N"),Q23,IF(AND($K$3=2,$K$4="N"),S23,IF(AND($K$3=3,$K$4="N"),U23,IF(AND($K$3=4,$K$4="N"),W23,IF(AND($K$3=5,$K$4="N"),Y23,IF(AND($K$3=1,$K$4="Y"),AA23,IF(AND($K$3=2,$K$4="Y"),AC23,IF(AND($K$3=3,$K$4="Y"),AE23,IF(AND($K$3=4,$K$4="Y"),AG23,IF(AND($K$3=5,$K$4="Y"),AI23,"FALSE")))))))))) -> 93.81 | J23: =IF(OUT!F33="", "", OUT!F33) | K23: =IF(OUT!P33="", "", OUT!P33) -> 72 | L23: =IF(OUT!AE33="", "", OUT!AE33) | M23: =IF(OUT!AG33="", "", OUT!AG33) | N23: =IF(OUT!AQ33="", "", OUT!AQ33) | O23: =IF(OUT!BO33="", "", OUT!BO33) -> T3 | P23: =IF(OUT!N33="", "", OUT!N33) -> 1.303 | Q23: =IF(OUT!O33="", "", OUT!O33) -> 93.81 | R23: =IF(PPG!H33="", "", PPG!H33) | S23: =IF(PPG!I33="", "", PPG!I33) | T23: =IF(PPG!J33="", "", PPG!J33) | U23: =IF(PPG!K33="", "", PPG!K33) | V23: =IF(PPG!L33="", "", PPG!L33) | W23: =IF(PPG!M33="", "", PPG!M33) | X23: =IF(PPG!N33="", "", PPG!N33) | Y23: =IF(PPG!O33="", "", PPG!O33) | Z23: =IF(PPG!Q33="", "", PPG!Q33) | AA23: =IF(PPG!R33="", "", PPG!R33) | AB23: =IF(PPG!S33="", "", PPG!S33) | AC23: =IF(PPG!T33="", "", PPG!T33) | AD23: =IF(PPG!U33="", "", PPG!U33) | AE23: =IF(PPG!V33="", "", PPG!V33) | AF23: =IF(PPG!W33="", "", PPG!W33) | AG23: =IF(PPG!X33="", "", PPG!X33) | ... AI23: =IF(PPG!Z33="", "", PPG!Z33) | AJ23: =IF(D23<>"",D23*I23, "0.00") -> 0.00 | AK23: =IF(D23<>"",D23, "0") -> 0 | AL23: =IF(D23<>"",D23*K23, "0") -> 0
A24: =IF(OUT!C42="", "", OUT!C42) -> 754 | B24: =IF(OUT!A42="", "", OUT!A42) -> 83763 | C24: =IF(OUT!D42="", "", OUT!D42) -> O | E24: =IF(OUT!E42="", "", OUT!E42) -> 72 TRAY | F24: =IF(OUT!AE42="NEW", "✷", "") | G24: =IF(OUT!B42="", "", OUT!B42) -> CISSUS DISCOLOR (REX BEGONIA VINE) | H24: =IF(AND($K$3=1,$K$4="N"),P24,IF(AND($K$3=2,$K$4="N"),R24,IF(AND($K$3=3,$K$4="N"),T24,IF(AND($K$3=4,$K$4="N"),V24,IF(AND($K$3=5,$K$4="N"),X24,IF(AND($K$3=1,$K$4="Y"),Z24,IF(AND($K$3=2,$K$4="Y"),AB24,IF(AND($K$3=3,$K$4="Y"),AD24,IF(AND($K$3=4,$K$4="Y"),AF24,IF(AND($K$3=5,$K$4="Y"),AH24,"FALSE")))))))))) -> 1.04 | I24: =IF(AND($K$3=1,$K$4="N"),Q24,IF(AND($K$3=2,$K$4="N"),S24,IF(AND($K$3=3,$K$4="N"),U24,IF(AND($K$3=4,$K$4="N"),W24,IF(AND($K$3=5,$K$4="N"),Y24,IF(AND($K$3=1,$K$4="Y"),AA24,IF(AND($K$3=2,$K$4="Y"),AC24,IF(AND($K$3=3,$K$4="Y"),AE24,IF(AND($K$3=4,$K$4="Y"),AG24,IF(AND($K$3=5,$K$4="Y"),AI24,"FALSE")))))))))) -> 74.88 | J24: =IF(OUT!F42="", "", OUT!F42) | K24: =IF(OUT!P42="", "", OUT!P42) -> 72 | L24: =IF(OUT!AE42="", "", OUT!AE42) | M24: =IF(OUT!AG42="", "", OUT!AG42) | N24: =IF(OUT!AQ42="", "", OUT!AQ42) | O24: =IF(OUT!BO42="", "", OUT!BO42) -> T3 | P24: =IF(OUT!N42="", "", OUT!N42) -> 1.04 | Q24: =IF(OUT!O42="", "", OUT!O42) -> 74.88 | R24: =IF(PPG!H42="", "", PPG!H42) | S24: =IF(PPG!I42="", "", PPG!I42) | T24: =IF(PPG!J42="", "", PPG!J42) | U24: =IF(PPG!K42="", "", PPG!K42) | V24: =IF(PPG!L42="", "", PPG!L42) | W24: =IF(PPG!M42="", "", PPG!M42) | X24: =IF(PPG!N42="", "", PPG!N42) | Y24: =IF(PPG!O42="", "", PPG!O42) | Z24: =IF(PPG!Q42="", "", PPG!Q42) | AA24: =IF(PPG!R42="", "", PPG!R42) | AB24: =IF(PPG!S42="", "", PPG!S42) | AC24: =IF(PPG!T42="", "", PPG!T42) | AD24: =IF(PPG!U42="", "", PPG!U42) | AE24: =IF(PPG!V42="", "", PPG!V42) | AF24: =IF(PPG!W42="", "", PPG!W42) | AG24: =IF(PPG!X42="", "", PPG!X42) | ... AI24: =IF(PPG!Z42="", "", PPG!Z42) | AJ24: =IF(D24<>"",D24*I24, "0.00") -> 0.00 | AK24: =IF(D24<>"",D24, "0") -> 0 | AL24: =IF(D24<>"",D24*K24, "0") -> 0
A25: =IF(OUT!C58="", "", OUT!C58) -> 754 | B25: =IF(OUT!A58="", "", OUT!A58) -> 93575 | C25: =IF(OUT!D58="", "", OUT!D58) -> O | E25: =IF(OUT!E58="", "", OUT!E58) -> 72 TRAY | F25: =IF(OUT!AE58="NEW", "✷", "") | G25: =IF(OUT!B58="", "", OUT!B58) -> COLOCASIA BLACK RIPPLE | H25: =IF(AND($K$3=1,$K$4="N"),P25,IF(AND($K$3=2,$K$4="N"),R25,IF(AND($K$3=3,$K$4="N"),T25,IF(AND($K$3=4,$K$4="N"),V25,IF(AND($K$3=5,$K$4="N"),X25,IF(AND($K$3=1,$K$4="Y"),Z25,IF(AND($K$3=2,$K$4="Y"),AB25,IF(AND($K$3=3,$K$4="Y"),AD25,IF(AND($K$3=4,$K$4="Y"),AF25,IF(AND($K$3=5,$K$4="Y"),AH25,"FALSE")))))))))) -> 2.169 | I25: =IF(AND($K$3=1,$K$4="N"),Q25,IF(AND($K$3=2,$K$4="N"),S25,IF(AND($K$3=3,$K$4="N"),U25,IF(AND($K$3=4,$K$4="N"),W25,IF(AND($K$3=5,$K$4="N"),Y25,IF(AND($K$3=1,$K$4="Y"),AA25,IF(AND($K$3=2,$K$4="Y"),AC25,IF(AND($K$3=3,$K$4="Y"),AE25,IF(AND($K$3=4,$K$4="Y"),AG25,IF(AND($K$3=5,$K$4="Y"),AI25,"FALSE")))))))))) -> 156.16 | J25: =IF(OUT!F58="", "", OUT!F58) | K25: =IF(OUT!P58="", "", OUT!P58) -> 72 | L25: =IF(OUT!AE58="", "", OUT!AE58) | M25: =IF(OUT!AG58="", "", OUT!AG58) -> PAT | N25: =IF(OUT!AQ58="", "", OUT!AQ58) | O25: =IF(OUT!BO58="", "", OUT!BO58) -> T3 | P25: =IF(OUT!N58="", "", OUT!N58) -> 2.169 | Q25: =IF(OUT!O58="", "", OUT!O58) -> 156.16 | R25: =IF(PPG!H58="", "", PPG!H58) | S25: =IF(PPG!I58="", "", PPG!I58) | T25: =IF(PPG!J58="", "", PPG!J58) | U25: =IF(PPG!K58="", "", PPG!K58) | V25: =IF(PPG!L58="", "", PPG!L58) | W25: =IF(PPG!M58="", "", PPG!M58) | X25: =IF(PPG!N58="", "", PPG!N58) | Y25: =IF(PPG!O58="", "", PPG!O58) | Z25: =IF(PPG!Q58="", "", PPG!Q58) | AA25: =IF(PPG!R58="", "", PPG!R58) | AB25: =IF(PPG!S58="", "", PPG!S58) | AC25: =IF(PPG!T58="", "", PPG!T58) | AD25: =IF(PPG!U58="", "", PPG!U58) | AE25: =IF(PPG!V58="", "", PPG!V58) | AF25: =IF(PPG!W58="", "", PPG!W58) | AG25: =IF(PPG!X58="", "", PPG!X58) | ... AI25: =IF(PPG!Z58="", "", PPG!Z58) | AJ25: =IF(D25<>"",D25*I25, "0.00") -> 0.00 | AK25: =IF(D25<>"",D25, "0") -> 0 | AL25: =IF(D25<>"",D25*K25, "0") -> 0
A26: =IF(OUT!C59="", "", OUT!C59) -> 754 | B26: =IF(OUT!A59="", "", OUT!A59) -> 93576 | C26: =IF(OUT!D59="", "", OUT!D59) -> O | E26: =IF(OUT!E59="", "", OUT!E59) -> 72 TRAY | F26: =IF(OUT!AE59="NEW", "✷", "") | G26: =IF(OUT!B59="", "", OUT!B59) -> COLOCASIA BLACK SAPPHIRE GECKO | H26: =IF(AND($K$3=1,$K$4="N"),P26,IF(AND($K$3=2,$K$4="N"),R26,IF(AND($K$3=3,$K$4="N"),T26,IF(AND($K$3=4,$K$4="N"),V26,IF(AND($K$3=5,$K$4="N"),X26,IF(AND($K$3=1,$K$4="Y"),Z26,IF(AND($K$3=2,$K$4="Y"),AB26,IF(AND($K$3=3,$K$4="Y"),AD26,IF(AND($K$3=4,$K$4="Y"),AF26,IF(AND($K$3=5,$K$4="Y"),AH26,"FALSE")))))))))) -> 2.169 | I26: =IF(AND($K$3=1,$K$4="N"),Q26,IF(AND($K$3=2,$K$4="N"),S26,IF(AND($K$3=3,$K$4="N"),U26,IF(AND($K$3=4,$K$4="N"),W26,IF(AND($K$3=5,$K$4="N"),Y26,IF(AND($K$3=1,$K$4="Y"),AA26,IF(AND($K$3=2,$K$4="Y"),AC26,IF(AND($K$3=3,$K$4="Y"),AE26,IF(AND($K$3=4,$K$4="Y"),AG26,IF(AND($K$3=5,$K$4="Y"),AI26,"FALSE")))))))))) -> 156.16 | J26: =IF(OUT!F59="", "", OUT!F59) | K26: =IF(OUT!P59="", "", OUT!P59) -> 72 | L26: =IF(OUT!AE59="", "", OUT!AE59) | M26: =IF(OUT!AG59="", "", OUT!AG59) -> PAT | N26: =IF(OUT!AQ59="", "", OUT!AQ59) | O26: =IF(OUT!BO59="", "", OUT!BO59) -> T3 | P26: =IF(OUT!N59="", "", OUT!N59) -> 2.169 | Q26: =IF(OUT!O59="", "", OUT!O59) -> 156.16 | R26: =IF(PPG!H59="", "", PPG!H59) | S26: =IF(PPG!I59="", "", PPG!I59) | T26: =IF(PPG!J59="", "", PPG!J59) | U26: =IF(PPG!K59="", "", PPG!K59) | V26: =IF(PPG!L59="", "", PPG!L59) | W26: =IF(PPG!M59="", "", PPG!M59) | X26: =IF(PPG!N59="", "", PPG!N59) | Y26: =IF(PPG!O59="", "", PPG!O59) | Z26: =IF(PPG!Q59="", "", PPG!Q59) | AA26: =IF(PPG!R59="", "", PPG!R59) | AB26: =IF(PPG!S59="", "", PPG!S59) | AC26: =IF(PPG!T59="", "", PPG!T59) | AD26: =IF(PPG!U59="", "", PPG!U59) | AE26: =IF(PPG!V59="", "", PPG!V59) | AF26: =IF(PPG!W59="", "", PPG!W59) | AG26: =IF(PPG!X59="", "", PPG!X59) | ... AI26: =IF(PPG!Z59="", "", PPG!Z59) | AJ26: =IF(D26<>"",D26*I26, "0.00") -> 0.00 | AK26: =IF(D26<>"",D26, "0") -> 0 | AL26: =IF(D26<>"",D26*K26, "0") -> 0
A27: =IF(OUT!C60="", "", OUT!C60) -> 754 | B27: =IF(OUT!A60="", "", OUT!A60) -> 93588 | C27: =IF(OUT!D60="", "", OUT!D60) -> O | E27: =IF(OUT!E60="", "", OUT!E60) -> 72 TRAY | F27: =IF(OUT!AE60="NEW", "✷", "") | G27: =IF(OUT!B60="", "", OUT!B60) -> DIEFFENBACHIA CAMOUFLAGE | H27: =IF(AND($K$3=1,$K$4="N"),P27,IF(AND($K$3=2,$K$4="N"),R27,IF(AND($K$3=3,$K$4="N"),T27,IF(AND($K$3=4,$K$4="N"),V27,IF(AND($K$3=5,$K$4="N"),X27,IF(AND($K$3=1,$K$4="Y"),Z27,IF(AND($K$3=2,$K$4="Y"),AB27,IF(AND($K$3=3,$K$4="Y"),AD27,IF(AND($K$3=4,$K$4="Y"),AF27,IF(AND($K$3=5,$K$4="Y"),AH27,"FALSE")))))))))) -> 1.189 | I27: =IF(AND($K$3=1,$K$4="N"),Q27,IF(AND($K$3=2,$K$4="N"),S27,IF(AND($K$3=3,$K$4="N"),U27,IF(AND($K$3=4,$K$4="N"),W27,IF(AND($K$3=5,$K$4="N"),Y27,IF(AND($K$3=1,$K$4="Y"),AA27,IF(AND($K$3=2,$K$4="Y"),AC27,IF(AND($K$3=3,$K$4="Y"),AE27,IF(AND($K$3=4,$K$4="Y"),AG27,IF(AND($K$3=5,$K$4="Y"),AI27,"FALSE")))))))))) -> 85.6 | J27: =IF(OUT!F60="", "", OUT!F60) | K27: =IF(OUT!P60="", "", OUT!P60) -> 72 | L27: =IF(OUT!AE60="", "", OUT!AE60) | M27: =IF(OUT!AG60="", "", OUT!AG60) | N27: =IF(OUT!AQ60="", "", OUT!AQ60) | O27: =IF(OUT!BO60="", "", OUT!BO60) -> T3 | P27: =IF(OUT!N60="", "", OUT!N60) -> 1.189 | Q27: =IF(OUT!O60="", "", OUT!O60) -> 85.6 | R27: =IF(PPG!H60="", "", PPG!H60) | S27: =IF(PPG!I60="", "", PPG!I60) | T27: =IF(PPG!J60="", "", PPG!J60) | U27: =IF(PPG!K60="", "", PPG!K60) | V27: =IF(PPG!L60="", "", PPG!L60) | W27: =IF(PPG!M60="", "", PPG!M60) | X27: =IF(PPG!N60="", "", PPG!N60) | Y27: =IF(PPG!O60="", "", PPG!O60) | Z27: =IF(PPG!Q60="", "", PPG!Q60) | AA27: =IF(PPG!R60="", "", PPG!R60) | AB27: =IF(PPG!S60="", "", PPG!S60) | AC27: =IF(PPG!T60="", "", PPG!T60) | AD27: =IF(PPG!U60="", "", PPG!U60) | AE27: =IF(PPG!V60="", "", PPG!V60) | AF27: =IF(PPG!W60="", "", PPG!W60) | AG27: =IF(PPG!X60="", "", PPG!X60) | ... AI27: =IF(PPG!Z60="", "", PPG!Z60) | AJ27: =IF(D27<>"",D27*I27, "0.00") -> 0.00 | AK27: =IF(D27<>"",D27, "0") -> 0 | AL27: =IF(D27<>"",D27*K27, "0") -> 0
A28: =IF(OUT!C76="", "", OUT!C76) -> 754 | B28: =IF(OUT!A76="", "", OUT!A76) -> 96766 | C28: =IF(OUT!D76="", "", OUT!D76) -> O | E28: =IF(OUT!E76="", "", OUT!E76) -> 72 TRAY | F28: =IF(OUT!AE76="NEW", "✷", "") | G28: =IF(OUT!B76="", "", OUT!B76) -> DIEFFENBACHIA COUGAR | H28: =IF(AND($K$3=1,$K$4="N"),P28,IF(AND($K$3=2,$K$4="N"),R28,IF(AND($K$3=3,$K$4="N"),T28,IF(AND($K$3=4,$K$4="N"),V28,IF(AND($K$3=5,$K$4="N"),X28,IF(AND($K$3=1,$K$4="Y"),Z28,IF(AND($K$3=2,$K$4="Y"),AB28,IF(AND($K$3=3,$K$4="Y"),AD28,IF(AND($K$3=4,$K$4="Y"),AF28,IF(AND($K$3=5,$K$4="Y"),AH28,"FALSE")))))))))) -> 1.189 | I28: =IF(AND($K$3=1,$K$4="N"),Q28,IF(AND($K$3=2,$K$4="N"),S28,IF(AND($K$3=3,$K$4="N"),U28,IF(AND($K$3=4,$K$4="N"),W28,IF(AND($K$3=5,$K$4="N"),Y28,IF(AND($K$3=1,$K$4="Y"),AA28,IF(AND($K$3=2,$K$4="Y"),AC28,IF(AND($K$3=3,$K$4="Y"),AE28,IF(AND($K$3=4,$K$4="Y"),AG28,IF(AND($K$3=5,$K$4="Y"),AI28,"FALSE")))))))))) -> 85.6 | J28: =IF(OUT!F76="", "", OUT!F76) | K28: =IF(OUT!P76="", "", OUT!P76) -> 72 | L28: =IF(OUT!AE76="", "", OUT!AE76) | M28: =IF(OUT!AG76="", "", OUT!AG76) | N28: =IF(OUT!AQ76="", "", OUT!AQ76) | O28: =IF(OUT!BO76="", "", OUT!BO76) -> T3 | P28: =IF(OUT!N76="", "", OUT!N76) -> 1.189 | Q28: =IF(OUT!O76="", "", OUT!O76) -> 85.6 | R28: =IF(PPG!H76="", "", PPG!H76) | S28: =IF(PPG!I76="", "", PPG!I76) | T28: =IF(PPG!J76="", "", PPG!J76) | U28: =IF(PPG!K76="", "", PPG!K76) | V28: =IF(PPG!L76="", "", PPG!L76) | W28: =IF(PPG!M76="", "", PPG!M76) | X28: =IF(PPG!N76="", "", PPG!N76) | Y28: =IF(PPG!O76="", "", PPG!O76) | Z28: =IF(PPG!Q76="", "", PPG!Q76) | AA28: =IF(PPG!R76="", "", PPG!R76) | AB28: =IF(PPG!S76="", "", PPG!S76) | AC28: =IF(PPG!T76="", "", PPG!T76) | AD28: =IF(PPG!U76="", "", PPG!U76) | AE28: =IF(PPG!V76="", "", PPG!V76) | AF28: =IF(PPG!W76="", "", PPG!W76) | AG28: =IF(PPG!X76="", "", PPG!X76) | ... AI28: =IF(PPG!Z76="", "", PPG!Z76) | AJ28: =IF(D28<>"",D28*I28, "0.00") -> 0.00 | AK28: =IF(D28<>"",D28, "0") -> 0 | AL28: =IF(D28<>"",D28*K28, "0") -> 0
A29: =IF(OUT!C5="", "", OUT!C5) -> 754 | B29: =IF(OUT!A5="", "", OUT!A5) -> 12456 | C29: =IF(OUT!D5="", "", OUT!D5) -> O | E29: =IF(OUT!E5="", "", OUT!E5) -> 72 TRAY | F29: =IF(OUT!AE5="NEW", "✷", "") | G29: =IF(OUT!B5="", "", OUT!B5) -> DIEFFENBACHIA MAUI WOWIE | H29: =IF(AND($K$3=1,$K$4="N"),P29,IF(AND($K$3=2,$K$4="N"),R29,IF(AND($K$3=3,$K$4="N"),T29,IF(AND($K$3=4,$K$4="N"),V29,IF(AND($K$3=5,$K$4="N"),X29,IF(AND($K$3=1,$K$4="Y"),Z29,IF(AND($K$3=2,$K$4="Y"),AB29,IF(AND($K$3=3,$K$4="Y"),AD29,IF(AND($K$3=4,$K$4="Y"),AF29,IF(AND($K$3=5,$K$4="Y"),AH29,"FALSE")))))))))) -> 1.269 | I29: =IF(AND($K$3=1,$K$4="N"),Q29,IF(AND($K$3=2,$K$4="N"),S29,IF(AND($K$3=3,$K$4="N"),U29,IF(AND($K$3=4,$K$4="N"),W29,IF(AND($K$3=5,$K$4="N"),Y29,IF(AND($K$3=1,$K$4="Y"),AA29,IF(AND($K$3=2,$K$4="Y"),AC29,IF(AND($K$3=3,$K$4="Y"),AE29,IF(AND($K$3=4,$K$4="Y"),AG29,IF(AND($K$3=5,$K$4="Y"),AI29,"FALSE")))))))))) -> 91.36 | J29: =IF(OUT!F5="", "", OUT!F5) | K29: =IF(OUT!P5="", "", OUT!P5) -> 72 | L29: =IF(OUT!AE5="", "", OUT!AE5) | M29: =IF(OUT!AG5="", "", OUT!AG5) -> PAT | N29: =IF(OUT!AQ5="", "", OUT!AQ5) | O29: =IF(OUT!BO5="", "", OUT!BO5) -> T3 | P29: =IF(OUT!N5="", "", OUT!N5) -> 1.269 | Q29: =IF(OUT!O5="", "", OUT!O5) -> 91.36 | R29: =IF(PPG!H5="", "", PPG!H5) | S29: =IF(PPG!I5="", "", PPG!I5) | T29: =IF(PPG!J5="", "", PPG!J5) | U29: =IF(PPG!K5="", "", PPG!K5) | V29: =IF(PPG!L5="", "", PPG!L5) | W29: =IF(PPG!M5="", "", PPG!M5) | X29: =IF(PPG!N5="", "", PPG!N5) | Y29: =IF(PPG!O5="", "", PPG!O5) | Z29: =IF(PPG!Q5="", "", PPG!Q5) | AA29: =IF(PPG!R5="", "", PPG!R5) | AB29: =IF(PPG!S5="", "", PPG!S5) | AC29: =IF(PPG!T5="", "", PPG!T5) | AD29: =IF(PPG!U5="", "", PPG!U5) | AE29: =IF(PPG!V5="", "", PPG!V5) | AF29: =IF(PPG!W5="", "", PPG!W5) | AG29: =IF(PPG!X5="", "", PPG!X5) | ... AI29: =IF(PPG!Z5="", "", PPG!Z5) | AJ29: =IF(D29<>"",D29*I29, "0.00") -> 0.00 | AK29: =IF(D29<>"",D29, "0") -> 0 | AL29: =IF(D29<>"",D29*K29, "0") -> 0
A30: =IF(OUT!C61="", "", OUT!C61) -> 754 | B30: =IF(OUT!A61="", "", OUT!A61) -> 93589 | C30: =IF(OUT!D61="", "", OUT!D61) -> O | E30: =IF(OUT!E61="", "", OUT!E61) -> 72 TRAY | F30: =IF(OUT!AE61="NEW", "✷", "") | G30: =IF(OUT!B61="", "", OUT!B61) -> DIEFFENBACHIA PANTHER | H30: =IF(AND($K$3=1,$K$4="N"),P30,IF(AND($K$3=2,$K$4="N"),R30,IF(AND($K$3=3,$K$4="N"),T30,IF(AND($K$3=4,$K$4="N"),V30,IF(AND($K$3=5,$K$4="N"),X30,IF(AND($K$3=1,$K$4="Y"),Z30,IF(AND($K$3=2,$K$4="Y"),AB30,IF(AND($K$3=3,$K$4="Y"),AD30,IF(AND($K$3=4,$K$4="Y"),AF30,IF(AND($K$3=5,$K$4="Y"),AH30,"FALSE")))))))))) -> 1.189 | I30: =IF(AND($K$3=1,$K$4="N"),Q30,IF(AND($K$3=2,$K$4="N"),S30,IF(AND($K$3=3,$K$4="N"),U30,IF(AND($K$3=4,$K$4="N"),W30,IF(AND($K$3=5,$K$4="N"),Y30,IF(AND($K$3=1,$K$4="Y"),AA30,IF(AND($K$3=2,$K$4="Y"),AC30,IF(AND($K$3=3,$K$4="Y"),AE30,IF(AND($K$3=4,$K$4="Y"),AG30,IF(AND($K$3=5,$K$4="Y"),AI30,"FALSE")))))))))) -> 85.6 | J30: =IF(OUT!F61="", "", OUT!F61) | K30: =IF(OUT!P61="", "", OUT!P61) -> 72 | L30: =IF(OUT!AE61="", "", OUT!AE61) | M30: =IF(OUT!AG61="", "", OUT!AG61) | N30: =IF(OUT!AQ61="", "", OUT!AQ61) | O30: =IF(OUT!BO61="", "", OUT!BO61) -> T3 | P30: =IF(OUT!N61="", "", OUT!N61) -> 1.189 | Q30: =IF(OUT!O61="", "", OUT!O61) -> 85.6 | R30: =IF(PPG!H61="", "", PPG!H61) | S30: =IF(PPG!I61="", "", PPG!I61) | T30: =IF(PPG!J61="", "", PPG!J61) | U30: =IF(PPG!K61="", "", PPG!K61) | V30: =IF(PPG!L61="", "", PPG!L61) | W30: =IF(PPG!M61="", "", PPG!M61) | X30: =IF(PPG!N61="", "", PPG!N61) | Y30: =IF(PPG!O61="", "", PPG!O61) | Z30: =IF(PPG!Q61="", "", PPG!Q61) | AA30: =IF(PPG!R61="", "", PPG!R61) | AB30: =IF(PPG!S61="", "", PPG!S61) | AC30: =IF(PPG!T61="", "", PPG!T61) | AD30: =IF(PPG!U61="", "", PPG!U61) | AE30: =IF(PPG!V61="", "", PPG!V61) | AF30: =IF(PPG!W61="", "", PPG!W61) | AG30: =IF(PPG!X61="", "", PPG!X61) | ... AI30: =IF(PPG!Z61="", "", PPG!Z61) | AJ30: =IF(D30<>"",D30*I30, "0.00") -> 0.00 | AK30: =IF(D30<>"",D30, "0") -> 0 | AL30: =IF(D30<>"",D30*K30, "0") -> 0
A31: =IF(OUT!C62="", "", OUT!C62) -> 754 | B31: =IF(OUT!A62="", "", OUT!A62) -> 93591 | C31: =IF(OUT!D62="", "", OUT!D62) -> O | E31: =IF(OUT!E62="", "", OUT!E62) -> 72 TRAY | F31: =IF(OUT!AE62="NEW", "✷", "") | G31: =IF(OUT!B62="", "", OUT!B62) -> DIEFFENBACHIA TROPIC MARIANNE | H31: =IF(AND($K$3=1,$K$4="N"),P31,IF(AND($K$3=2,$K$4="N"),R31,IF(AND($K$3=3,$K$4="N"),T31,IF(AND($K$3=4,$K$4="N"),V31,IF(AND($K$3=5,$K$4="N"),X31,IF(AND($K$3=1,$K$4="Y"),Z31,IF(AND($K$3=2,$K$4="Y"),AB31,IF(AND($K$3=3,$K$4="Y"),AD31,IF(AND($K$3=4,$K$4="Y"),AF31,IF(AND($K$3=5,$K$4="Y"),AH31,"FALSE")))))))))) -> 1.223 | I31: =IF(AND($K$3=1,$K$4="N"),Q31,IF(AND($K$3=2,$K$4="N"),S31,IF(AND($K$3=3,$K$4="N"),U31,IF(AND($K$3=4,$K$4="N"),W31,IF(AND($K$3=5,$K$4="N"),Y31,IF(AND($K$3=1,$K$4="Y"),AA31,IF(AND($K$3=2,$K$4="Y"),AC31,IF(AND($K$3=3,$K$4="Y"),AE31,IF(AND($K$3=4,$K$4="Y"),AG31,IF(AND($K$3=5,$K$4="Y"),AI31,"FALSE")))))))))) -> 88.05 | J31: =IF(OUT!F62="", "", OUT!F62) | K31: =IF(OUT!P62="", "", OUT!P62) -> 72 | L31: =IF(OUT!AE62="", "", OUT!AE62) | M31: =IF(OUT!AG62="", "", OUT!AG62) | N31: =IF(OUT!AQ62="", "", OUT!AQ62) | O31: =IF(OUT!BO62="", "", OUT!BO62) -> T3 | P31: =IF(OUT!N62="", "", OUT!N62) -> 1.223 | Q31: =IF(OUT!O62="", "", OUT!O62) -> 88.05 | R31: =IF(PPG!H62="", "", PPG!H62) | S31: =IF(PPG!I62="", "", PPG!I62) | T31: =IF(PPG!J62="", "", PPG!J62) | U31: =IF(PPG!K62="", "", PPG!K62) | V31: =IF(PPG!L62="", "", PPG!L62) | W31: =IF(PPG!M62="", "", PPG!M62) | X31: =IF(PPG!N62="", "", PPG!N62) | Y31: =IF(PPG!O62="", "", PPG!O62) | Z31: =IF(PPG!Q62="", "", PPG!Q62) | AA31: =IF(PPG!R62="", "", PPG!R62) | AB31: =IF(PPG!S62="", "", PPG!S62) | AC31: =IF(PPG!T62="", "", PPG!T62) | AD31: =IF(PPG!U62="", "", PPG!U62) | AE31: =IF(PPG!V62="", "", PPG!V62) | AF31: =IF(PPG!W62="", "", PPG!W62) | AG31: =IF(PPG!X62="", "", PPG!X62) | ... AI31: =IF(PPG!Z62="", "", PPG!Z62) | AJ31: =IF(D31<>"",D31*I31, "0.00") -> 0.00 | AK31: =IF(D31<>"",D31, "0") -> 0 | AL31: =IF(D31<>"",D31*K31, "0") -> 0
A32: =IF(OUT!C63="", "", OUT!C63) -> 754 | B32: =IF(OUT!A63="", "", OUT!A63) -> 93594 | C32: =IF(OUT!D63="", "", OUT!D63) -> O | E32: =IF(OUT!E63="", "", OUT!E63) -> 72 TRAY | F32: =IF(OUT!AE63="NEW", "✷", "") | G32: =IF(OUT!B63="", "", OUT!B63) -> DIONAEA MUSCIPULA VENUS FLY TRAP | H32: =IF(AND($K$3=1,$K$4="N"),P32,IF(AND($K$3=2,$K$4="N"),R32,IF(AND($K$3=3,$K$4="N"),T32,IF(AND($K$3=4,$K$4="N"),V32,IF(AND($K$3=5,$K$4="N"),X32,IF(AND($K$3=1,$K$4="Y"),Z32,IF(AND($K$3=2,$K$4="Y"),AB32,IF(AND($K$3=3,$K$4="Y"),AD32,IF(AND($K$3=4,$K$4="Y"),AF32,IF(AND($K$3=5,$K$4="Y"),AH32,"FALSE")))))))))) -> 2.515 | I32: =IF(AND($K$3=1,$K$4="N"),Q32,IF(AND($K$3=2,$K$4="N"),S32,IF(AND($K$3=3,$K$4="N"),U32,IF(AND($K$3=4,$K$4="N"),W32,IF(AND($K$3=5,$K$4="N"),Y32,IF(AND($K$3=1,$K$4="Y"),AA32,IF(AND($K$3=2,$K$4="Y"),AC32,IF(AND($K$3=3,$K$4="Y"),AE32,IF(AND($K$3=4,$K$4="Y"),AG32,IF(AND($K$3=5,$K$4="Y"),AI32,"FALSE")))))))))) -> 181.08 | J32: =IF(OUT!F63="", "", OUT!F63) | K32: =IF(OUT!P63="", "", OUT!P63) -> 72 | L32: =IF(OUT!AE63="", "", OUT!AE63) | M32: =IF(OUT!AG63="", "", OUT!AG63) | N32: =IF(OUT!AQ63="", "", OUT!AQ63) | O32: =IF(OUT!BO63="", "", OUT!BO63) -> T3 | P32: =IF(OUT!N63="", "", OUT!N63) -> 2.515 | Q32: =IF(OUT!O63="", "", OUT!O63) -> 181.08 | R32: =IF(PPG!H63="", "", PPG!H63) | S32: =IF(PPG!I63="", "", PPG!I63) | T32: =IF(PPG!J63="", "", PPG!J63) | U32: =IF(PPG!K63="", "", PPG!K63) | V32: =IF(PPG!L63="", "", PPG!L63) | W32: =IF(PPG!M63="", "", PPG!M63) | X32: =IF(PPG!N63="", "", PPG!N63) | Y32: =IF(PPG!O63="", "", PPG!O63) | Z32: =IF(PPG!Q63="", "", PPG!Q63) | AA32: =IF(PPG!R63="", "", PPG!R63) | AB32: =IF(PPG!S63="", "", PPG!S63) | AC32: =IF(PPG!T63="", "", PPG!T63) | AD32: =IF(PPG!U63="", "", PPG!U63) | AE32: =IF(PPG!V63="", "", PPG!V63) | AF32: =IF(PPG!W63="", "", PPG!W63) | AG32: =IF(PPG!X63="", "", PPG!X63) | ... AI32: =IF(PPG!Z63="", "", PPG!Z63) | AJ32: =IF(D32<>"",D32*I32, "0.00") -> 0.00 | AK32: =IF(D32<>"",D32, "0") -> 0 | AL32: =IF(D32<>"",D32*K32, "0") -> 0
A33: =IF(OUT!C18="", "", OUT!C18) -> 754 | B33: =IF(OUT!A18="", "", OUT!A18) -> 41363 | C33: =IF(OUT!D18="", "", OUT!D18) -> FAR | E33: =IF(OUT!E18="", "", OUT!E18) -> 105 TRAY | F33: =IF(OUT!AE18="NEW", "✷", "") | G33: =IF(OUT!B18="", "", OUT!B18) -> EUGENIA GLOBULUS (TOPIARY PLANT) | H33: =IF(AND($K$3=1,$K$4="N"),P33,IF(AND($K$3=2,$K$4="N"),R33,IF(AND($K$3=3,$K$4="N"),T33,IF(AND($K$3=4,$K$4="N"),V33,IF(AND($K$3=5,$K$4="N"),X33,IF(AND($K$3=1,$K$4="Y"),Z33,IF(AND($K$3=2,$K$4="Y"),AB33,IF(AND($K$3=3,$K$4="Y"),AD33,IF(AND($K$3=4,$K$4="Y"),AF33,IF(AND($K$3=5,$K$4="Y"),AH33,"FALSE")))))))))) -> 0.903 | I33: =IF(AND($K$3=1,$K$4="N"),Q33,IF(AND($K$3=2,$K$4="N"),S33,IF(AND($K$3=3,$K$4="N"),U33,IF(AND($K$3=4,$K$4="N"),W33,IF(AND($K$3=5,$K$4="N"),Y33,IF(AND($K$3=1,$K$4="Y"),AA33,IF(AND($K$3=2,$K$4="Y"),AC33,IF(AND($K$3=3,$K$4="Y"),AE33,IF(AND($K$3=4,$K$4="Y"),AG33,IF(AND($K$3=5,$K$4="Y"),AI33,"FALSE")))))))))) -> 94.81 | J33: =IF(OUT!F18="", "", OUT!F18) | K33: =IF(OUT!P18="", "", OUT!P18) -> 105 | L33: =IF(OUT!AE18="", "", OUT!AE18) | M33: =IF(OUT!AG18="", "", OUT!AG18) | N33: =IF(OUT!AQ18="", "", OUT!AQ18) | O33: =IF(OUT!BO18="", "", OUT!BO18) -> T3 | P33: =IF(OUT!N18="", "", OUT!N18) -> 0.903 | Q33: =IF(OUT!O18="", "", OUT!O18) -> 94.81 | R33: =IF(PPG!H18="", "", PPG!H18) | S33: =IF(PPG!I18="", "", PPG!I18) | T33: =IF(PPG!J18="", "", PPG!J18) | U33: =IF(PPG!K18="", "", PPG!K18) | V33: =IF(PPG!L18="", "", PPG!L18) | W33: =IF(PPG!M18="", "", PPG!M18) | X33: =IF(PPG!N18="", "", PPG!N18) | Y33: =IF(PPG!O18="", "", PPG!O18) | Z33: =IF(PPG!Q18="", "", PPG!Q18) | AA33: =IF(PPG!R18="", "", PPG!R18) | AB33: =IF(PPG!S18="", "", PPG!S18) | AC33: =IF(PPG!T18="", "", PPG!T18) | AD33: =IF(PPG!U18="", "", PPG!U18) | AE33: =IF(PPG!V18="", "", PPG!V18) | AF33: =IF(PPG!W18="", "", PPG!W18) | AG33: =IF(PPG!X18="", "", PPG!X18) | ... AI33: =IF(PPG!Z18="", "", PPG!Z18) | AJ33: =IF(D33<>"",D33*I33, "0.00") -> 0.00 | AK33: =IF(D33<>"",D33, "0") -> 0 | AL33: =IF(D33<>"",D33*K33, "0") -> 0
A34: =IF(OUT!C29="", "", OUT!C29) -> 754 | B34: =IF(OUT!A29="", "", OUT!A29) -> 59945 | C34: =IF(OUT!D29="", "", OUT!D29) -> O | E34: =IF(OUT!E29="", "", OUT!E29) -> 72 TRAY | F34: =IF(OUT!AE29="NEW", "✷", "") | G34: =IF(OUT!B29="", "", OUT!B29) -> FERN TROPICAL PLATYCERIUM BIFURCATUM NETHERLANDS STAGHORN | H34: =IF(AND($K$3=1,$K$4="N"),P34,IF(AND($K$3=2,$K$4="N"),R34,IF(AND($K$3=3,$K$4="N"),T34,IF(AND($K$3=4,$K$4="N"),V34,IF(AND($K$3=5,$K$4="N"),X34,IF(AND($K$3=1,$K$4="Y"),Z34,IF(AND($K$3=2,$K$4="Y"),AB34,IF(AND($K$3=3,$K$4="Y"),AD34,IF(AND($K$3=4,$K$4="Y"),AF34,IF(AND($K$3=5,$K$4="Y"),AH34,"FALSE")))))))))) -> 0.88 | I34: =IF(AND($K$3=1,$K$4="N"),Q34,IF(AND($K$3=2,$K$4="N"),S34,IF(AND($K$3=3,$K$4="N"),U34,IF(AND($K$3=4,$K$4="N"),W34,IF(AND($K$3=5,$K$4="N"),Y34,IF(AND($K$3=1,$K$4="Y"),AA34,IF(AND($K$3=2,$K$4="Y"),AC34,IF(AND($K$3=3,$K$4="Y"),AE34,IF(AND($K$3=4,$K$4="Y"),AG34,IF(AND($K$3=5,$K$4="Y"),AI34,"FALSE")))))))))) -> 63.36 | J34: =IF(OUT!F29="", "", OUT!F29) | K34: =IF(OUT!P29="", "", OUT!P29) -> 72 | L34: =IF(OUT!AE29="", "", OUT!AE29) | M34: =IF(OUT!AG29="", "", OUT!AG29) | N34: =IF(OUT!AQ29="", "", OUT!AQ29) | O34: =IF(OUT!BO29="", "", OUT!BO29) -> T3 | P34: =IF(OUT!N29="", "", OUT!N29) -> 0.88 | Q34: =IF(OUT!O29="", "", OUT!O29) -> 63.36 | R34: =IF(PPG!H29="", "", PPG!H29) | S34: =IF(PPG!I29="", "", PPG!I29) | T34: =IF(PPG!J29="", "", PPG!J29) | U34: =IF(PPG!K29="", "", PPG!K29) | V34: =IF(PPG!L29="", "", PPG!L29) | W34: =IF(PPG!M29="", "", PPG!M29) | X34: =IF(PPG!N29="", "", PPG!N29) | Y34: =IF(PPG!O29="", "", PPG!O29) | Z34: =IF(PPG!Q29="", "", PPG!Q29) | AA34: =IF(PPG!R29="", "", PPG!R29) | AB34: =IF(PPG!S29="", "", PPG!S29) | AC34: =IF(PPG!T29="", "", PPG!T29) | AD34: =IF(PPG!U29="", "", PPG!U29) | AE34: =IF(PPG!V29="", "", PPG!V29) | AF34: =IF(PPG!W29="", "", PPG!W29) | AG34: =IF(PPG!X29="", "", PPG!X29) | ... AI34: =IF(PPG!Z29="", "", PPG!Z29) | AJ34: =IF(D34<>"",D34*I34, "0.00") -> 0.00 | AK34: =IF(D34<>"",D34, "0") -> 0 | AL34: =IF(D34<>"",D34*K34, "0") -> 0
A35: =IF(OUT!C46="", "", OUT!C46) -> 754 | B35: =IF(OUT!A46="", "", OUT!A46) -> 91568 | C35: =IF(OUT!D46="", "", OUT!D46) -> M | E35: =IF(OUT!E46="", "", OUT!E46) -> 50 TRAY | F35: =IF(OUT!AE46="NEW", "✷", "") | G35: =IF(OUT!B46="", "", OUT!B46) -> FERN TROPICAL PLATYCERIUM ELEPHANTOTIS ELEPHANT STAGHORN | H35: =IF(AND($K$3=1,$K$4="N"),P35,IF(AND($K$3=2,$K$4="N"),R35,IF(AND($K$3=3,$K$4="N"),T35,IF(AND($K$3=4,$K$4="N"),V35,IF(AND($K$3=5,$K$4="N"),X35,IF(AND($K$3=1,$K$4="Y"),Z35,IF(AND($K$3=2,$K$4="Y"),AB35,IF(AND($K$3=3,$K$4="Y"),AD35,IF(AND($K$3=4,$K$4="Y"),AF35,IF(AND($K$3=5,$K$4="Y"),AH35,"FALSE")))))))))) -> 1.658 | I35: =IF(AND($K$3=1,$K$4="N"),Q35,IF(AND($K$3=2,$K$4="N"),S35,IF(AND($K$3=3,$K$4="N"),U35,IF(AND($K$3=4,$K$4="N"),W35,IF(AND($K$3=5,$K$4="N"),Y35,IF(AND($K$3=1,$K$4="Y"),AA35,IF(AND($K$3=2,$K$4="Y"),AC35,IF(AND($K$3=3,$K$4="Y"),AE35,IF(AND($K$3=4,$K$4="Y"),AG35,IF(AND($K$3=5,$K$4="Y"),AI35,"FALSE")))))))))) -> 82.9 | J35: =IF(OUT!F46="", "", OUT!F46) | K35: =IF(OUT!P46="", "", OUT!P46) -> 50 | L35: =IF(OUT!AE46="", "", OUT!AE46) | M35: =IF(OUT!AG46="", "", OUT!AG46) | N35: =IF(OUT!AQ46="", "", OUT!AQ46) | O35: =IF(OUT!BO46="", "", OUT!BO46) -> T3 | P35: =IF(OUT!N46="", "", OUT!N46) -> 1.658 | Q35: =IF(OUT!O46="", "", OUT!O46) -> 82.9 | R35: =IF(PPG!H46="", "", PPG!H46) | S35: =IF(PPG!I46="", "", PPG!I46) | T35: =IF(PPG!J46="", "", PPG!J46) | U35: =IF(PPG!K46="", "", PPG!K46) | V35: =IF(PPG!L46="", "", PPG!L46) | W35: =IF(PPG!M46="", "", PPG!M46) | X35: =IF(PPG!N46="", "", PPG!N46) | Y35: =IF(PPG!O46="", "", PPG!O46) | Z35: =IF(PPG!Q46="", "", PPG!Q46) | AA35: =IF(PPG!R46="", "", PPG!R46) | AB35: =IF(PPG!S46="", "", PPG!S46) | AC35: =IF(PPG!T46="", "", PPG!T46) | AD35: =IF(PPG!U46="", "", PPG!U46) | AE35: =IF(PPG!V46="", "", PPG!V46) | AF35: =IF(PPG!W46="", "", PPG!W46) | AG35: =IF(PPG!X46="", "", PPG!X46) | ... AI35: =IF(PPG!Z46="", "", PPG!Z46) | AJ35: =IF(D35<>"",D35*I35, "0.00") -> 0.00 | AK35: =IF(D35<>"",D35, "0") -> 0 | AL35: =IF(D35<>"",D35*K35, "0") -> 0
A36: =IF(OUT!C47="", "", OUT!C47) -> 754 | B36: =IF(OUT!A47="", "", OUT!A47) -> 91568 | C36: =IF(OUT!D47="", "", OUT!D47) -> O | E36: =IF(OUT!E47="", "", OUT!E47) -> 72 TRAY | F36: =IF(OUT!AE47="NEW", "✷", "") | G36: =IF(OUT!B47="", "", OUT!B47) -> FERN TROPICAL PLATYCERIUM ELEPHANTOTIS ELEPHANT STAGHORN | H36: =IF(AND($K$3=1,$K$4="N"),P36,IF(AND($K$3=2,$K$4="N"),R36,IF(AND($K$3=3,$K$4="N"),T36,IF(AND($K$3=4,$K$4="N"),V36,IF(AND($K$3=5,$K$4="N"),X36,IF(AND($K$3=1,$K$4="Y"),Z36,IF(AND($K$3=2,$K$4="Y"),AB36,IF(AND($K$3=3,$K$4="Y"),AD36,IF(AND($K$3=4,$K$4="Y"),AF36,IF(AND($K$3=5,$K$4="Y"),AH36,"FALSE")))))))))) -> 1.212 | I36: =IF(AND($K$3=1,$K$4="N"),Q36,IF(AND($K$3=2,$K$4="N"),S36,IF(AND($K$3=3,$K$4="N"),U36,IF(AND($K$3=4,$K$4="N"),W36,IF(AND($K$3=5,$K$4="N"),Y36,IF(AND($K$3=1,$K$4="Y"),AA36,IF(AND($K$3=2,$K$4="Y"),AC36,IF(AND($K$3=3,$K$4="Y"),AE36,IF(AND($K$3=4,$K$4="Y"),AG36,IF(AND($K$3=5,$K$4="Y"),AI36,"FALSE")))))))))) -> 87.26 | J36: =IF(OUT!F47="", "", OUT!F47) | K36: =IF(OUT!P47="", "", OUT!P47) -> 72 | L36: =IF(OUT!AE47="", "", OUT!AE47) | M36: =IF(OUT!AG47="", "", OUT!AG47) | N36: =IF(OUT!AQ47="", "", OUT!AQ47) | O36: =IF(OUT!BO47="", "", OUT!BO47) -> T3 | P36: =IF(OUT!N47="", "", OUT!N47) -> 1.212 | Q36: =IF(OUT!O47="", "", OUT!O47) -> 87.26 | R36: =IF(PPG!H47="", "", PPG!H47) | S36: =IF(PPG!I47="", "", PPG!I47) | T36: =IF(PPG!J47="", "", PPG!J47) | U36: =IF(PPG!K47="", "", PPG!K47) | V36: =IF(PPG!L47="", "", PPG!L47) | W36: =IF(PPG!M47="", "", PPG!M47) | X36: =IF(PPG!N47="", "", PPG!N47) | Y36: =IF(PPG!O47="", "", PPG!O47) | Z36: =IF(PPG!Q47="", "", PPG!Q47) | AA36: =IF(PPG!R47="", "", PPG!R47) | AB36: =IF(PPG!S47="", "", PPG!S47) | AC36: =IF(PPG!T47="", "", PPG!T47) | AD36: =IF(PPG!U47="", "", PPG!U47) | AE36: =IF(PPG!V47="", "", PPG!V47) | AF36: =IF(PPG!W47="", "", PPG!W47) | AG36: =IF(PPG!X47="", "", PPG!X47) | ... AI36: =IF(PPG!Z47="", "", PPG!Z47) | AJ36: =IF(D36<>"",D36*I36, "0.00") -> 0.00 | AK36: =IF(D36<>"",D36, "0") -> 0 | AL36: =IF(D36<>"",D36*K36, "0") -> 0
A37: =IF(OUT!C11="", "", OUT!C11) -> 754 | B37: =IF(OUT!A11="", "", OUT!A11) -> 13494 | C37: =IF(OUT!D11="", "", OUT!D11) -> M | E37: =IF(OUT!E11="", "", OUT!E11) -> 50 TRAY | F37: =IF(OUT!AE11="NEW", "✷", "") -> ✷ | G37: =IF(OUT!B11="", "", OUT!B11) -> FERN TROPICAL PLATYCERIUM GRANDE GIANT STAGHORN | H37: =IF(AND($K$3=1,$K$4="N"),P37,IF(AND($K$3=2,$K$4="N"),R37,IF(AND($K$3=3,$K$4="N"),T37,IF(AND($K$3=4,$K$4="N"),V37,IF(AND($K$3=5,$K$4="N"),X37,IF(AND($K$3=1,$K$4="Y"),Z37,IF(AND($K$3=2,$K$4="Y"),AB37,IF(AND($K$3=3,$K$4="Y"),AD37,IF(AND($K$3=4,$K$4="Y"),AF37,IF(AND($K$3=5,$K$4="Y"),AH37,"FALSE")))))))))) -> 1.84 | I37: =IF(AND($K$3=1,$K$4="N"),Q37,IF(AND($K$3=2,$K$4="N"),S37,IF(AND($K$3=3,$K$4="N"),U37,IF(AND($K$3=4,$K$4="N"),W37,IF(AND($K$3=5,$K$4="N"),Y37,IF(AND($K$3=1,$K$4="Y"),AA37,IF(AND($K$3=2,$K$4="Y"),AC37,IF(AND($K$3=3,$K$4="Y"),AE37,IF(AND($K$3=4,$K$4="Y"),AG37,IF(AND($K$3=5,$K$4="Y"),AI37,"FALSE")))))))))) -> 92 | J37: =IF(OUT!F11="", "", OUT!F11) | K37: =IF(OUT!P11="", "", OUT!P11) -> 50 | L37: =IF(OUT!AE11="", "", OUT!AE11) -> NEW | M37: =IF(OUT!AG11="", "", OUT!AG11) | N37: =IF(OUT!AQ11="", "", OUT!AQ11) | O37: =IF(OUT!BO11="", "", OUT!BO11) -> T3 | P37: =IF(OUT!N11="", "", OUT!N11) -> 1.84 | Q37: =IF(OUT!O11="", "", OUT!O11) -> 92 | R37: =IF(PPG!H11="", "", PPG!H11) | S37: =IF(PPG!I11="", "", PPG!I11) | T37: =IF(PPG!J11="", "", PPG!J11) | U37: =IF(PPG!K11="", "", PPG!K11) | V37: =IF(PPG!L11="", "", PPG!L11) | W37: =IF(PPG!M11="", "", PPG!M11) | X37: =IF(PPG!N11="", "", PPG!N11) | Y37: =IF(PPG!O11="", "", PPG!O11) | Z37: =IF(PPG!Q11="", "", PPG!Q11) | AA37: =IF(PPG!R11="", "", PPG!R11) | AB37: =IF(PPG!S11="", "", PPG!S11) | AC37: =IF(PPG!T11="", "", PPG!T11) | AD37: =IF(PPG!U11="", "", PPG!U11) | AE37: =IF(PPG!V11="", "", PPG!V11) | AF37: =IF(PPG!W11="", "", PPG!W11) | AG37: =IF(PPG!X11="", "", PPG!X11) | ... AI37: =IF(PPG!Z11="", "", PPG!Z11) | AJ37: =IF(D37<>"",D37*I37, "0.00") -> 0.00 | AK37: =IF(D37<>"",D37, "0") -> 0 | AL37: =IF(D37<>"",D37*K37, "0") -> 0
A38: =IF(OUT!C12="", "", OUT!C12) -> 754 | B38: =IF(OUT!A12="", "", OUT!A12) -> 13494 | C38: =IF(OUT!D12="", "", OUT!D12) -> O | E38: =IF(OUT!E12="", "", OUT!E12) -> 72 TRAY | F38: =IF(OUT!AE12="NEW", "✷", "") -> ✷ | G38: =IF(OUT!B12="", "", OUT!B12) -> FERN TROPICAL PLATYCERIUM GRANDE GIANT STAGHORN | H38: =IF(AND($K$3=1,$K$4="N"),P38,IF(AND($K$3=2,$K$4="N"),R38,IF(AND($K$3=3,$K$4="N"),T38,IF(AND($K$3=4,$K$4="N"),V38,IF(AND($K$3=5,$K$4="N"),X38,IF(AND($K$3=1,$K$4="Y"),Z38,IF(AND($K$3=2,$K$4="Y"),AB38,IF(AND($K$3=3,$K$4="Y"),AD38,IF(AND($K$3=4,$K$4="Y"),AF38,IF(AND($K$3=5,$K$4="Y"),AH38,"FALSE")))))))))) -> 1.726 | I38: =IF(AND($K$3=1,$K$4="N"),Q38,IF(AND($K$3=2,$K$4="N"),S38,IF(AND($K$3=3,$K$4="N"),U38,IF(AND($K$3=4,$K$4="N"),W38,IF(AND($K$3=5,$K$4="N"),Y38,IF(AND($K$3=1,$K$4="Y"),AA38,IF(AND($K$3=2,$K$4="Y"),AC38,IF(AND($K$3=3,$K$4="Y"),AE38,IF(AND($K$3=4,$K$4="Y"),AG38,IF(AND($K$3=5,$K$4="Y"),AI38,"FALSE")))))))))) -> 124.27 | J38: =IF(OUT!F12="", "", OUT!F12) | K38: =IF(OUT!P12="", "", OUT!P12) -> 72 | L38: =IF(OUT!AE12="", "", OUT!AE12) -> NEW | M38: =IF(OUT!AG12="", "", OUT!AG12) | N38: =IF(OUT!AQ12="", "", OUT!AQ12) | O38: =IF(OUT!BO12="", "", OUT!BO12) -> T3 | P38: =IF(OUT!N12="", "", OUT!N12) -> 1.726 | Q38: =IF(OUT!O12="", "", OUT!O12) -> 124.27 | R38: =IF(PPG!H12="", "", PPG!H12) | S38: =IF(PPG!I12="", "", PPG!I12) | T38: =IF(PPG!J12="", "", PPG!J12) | U38: =IF(PPG!K12="", "", PPG!K12) | V38: =IF(PPG!L12="", "", PPG!L12) | W38: =IF(PPG!M12="", "", PPG!M12) | X38: =IF(PPG!N12="", "", PPG!N12) | Y38: =IF(PPG!O12="", "", PPG!O12) | Z38: =IF(PPG!Q12="", "", PPG!Q12) | AA38: =IF(PPG!R12="", "", PPG!R12) | AB38: =IF(PPG!S12="", "", PPG!S12) | AC38: =IF(PPG!T12="", "", PPG!T12) | AD38: =IF(PPG!U12="", "", PPG!U12) | AE38: =IF(PPG!V12="", "", PPG!V12) | AF38: =IF(PPG!W12="", "", PPG!W12) | AG38: =IF(PPG!X12="", "", PPG!X12) | ... AI38: =IF(PPG!Z12="", "", PPG!Z12) | AJ38: =IF(D38<>"",D38*I38, "0.00") -> 0.00 | AK38: =IF(D38<>"",D38, "0") -> 0 | AL38: =IF(D38<>"",D38*K38, "0") -> 0
A39: =IF(OUT!C13="", "", OUT!C13) -> 754 | B39: =IF(OUT!A13="", "", OUT!A13) -> 13495 | C39: =IF(OUT!D13="", "", OUT!D13) -> M | E39: =IF(OUT!E13="", "", OUT!E13) -> 50 TRAY | F39: =IF(OUT!AE13="NEW", "✷", "") -> ✷ | G39: =IF(OUT!B13="", "", OUT!B13) -> FERN TROPICAL PLATYCERIUM SUPERBUM STAGHORN | H39: =IF(AND($K$3=1,$K$4="N"),P39,IF(AND($K$3=2,$K$4="N"),R39,IF(AND($K$3=3,$K$4="N"),T39,IF(AND($K$3=4,$K$4="N"),V39,IF(AND($K$3=5,$K$4="N"),X39,IF(AND($K$3=1,$K$4="Y"),Z39,IF(AND($K$3=2,$K$4="Y"),AB39,IF(AND($K$3=3,$K$4="Y"),AD39,IF(AND($K$3=4,$K$4="Y"),AF39,IF(AND($K$3=5,$K$4="Y"),AH39,"FALSE")))))))))) -> 1.84 | I39: =IF(AND($K$3=1,$K$4="N"),Q39,IF(AND($K$3=2,$K$4="N"),S39,IF(AND($K$3=3,$K$4="N"),U39,IF(AND($K$3=4,$K$4="N"),W39,IF(AND($K$3=5,$K$4="N"),Y39,IF(AND($K$3=1,$K$4="Y"),AA39,IF(AND($K$3=2,$K$4="Y"),AC39,IF(AND($K$3=3,$K$4="Y"),AE39,IF(AND($K$3=4,$K$4="Y"),AG39,IF(AND($K$3=5,$K$4="Y"),AI39,"FALSE")))))))))) -> 92 | J39: =IF(OUT!F13="", "", OUT!F13) | K39: =IF(OUT!P13="", "", OUT!P13) -> 50 | L39: =IF(OUT!AE13="", "", OUT!AE13) -> NEW | M39: =IF(OUT!AG13="", "", OUT!AG13) | N39: =IF(OUT!AQ13="", "", OUT!AQ13) | O39: =IF(OUT!BO13="", "", OUT!BO13) -> T3 | P39: =IF(OUT!N13="", "", OUT!N13) -> 1.84 | Q39: =IF(OUT!O13="", "", OUT!O13) -> 92 | R39: =IF(PPG!H13="", "", PPG!H13) | S39: =IF(PPG!I13="", "", PPG!I13) | T39: =IF(PPG!J13="", "", PPG!J13) | U39: =IF(PPG!K13="", "", PPG!K13) | V39: =IF(PPG!L13="", "", PPG!L13) | W39: =IF(PPG!M13="", "", PPG!M13) | X39: =IF(PPG!N13="", "", PPG!N13) | Y39: =IF(PPG!O13="", "", PPG!O13) | Z39: =IF(PPG!Q13="", "", PPG!Q13) | AA39: =IF(PPG!R13="", "", PPG!R13) | AB39: =IF(PPG!S13="", "", PPG!S13) | AC39: =IF(PPG!T13="", "", PPG!T13) | AD39: =IF(PPG!U13="", "", PPG!U13) | AE39: =IF(PPG!V13="", "", PPG!V13) | AF39: =IF(PPG!W13="", "", PPG!W13) | AG39: =IF(PPG!X13="", "", PPG!X13) | ... AI39: =IF(PPG!Z13="", "", PPG!Z13) | AJ39: =IF(D39<>"",D39*I39, "0.00") -> 0.00 | AK39: =IF(D39<>"",D39, "0") -> 0 | AL39: =IF(D39<>"",D39*K39, "0") -> 0
A40: =IF(OUT!C14="", "", OUT!C14) -> 754 | B40: =IF(OUT!A14="", "", OUT!A14) -> 13495 | C40: =IF(OUT!D14="", "", OUT!D14) -> O | E40: =IF(OUT!E14="", "", OUT!E14) -> 72 TRAY | F40: =IF(OUT!AE14="NEW", "✷", "") -> ✷ | G40: =IF(OUT!B14="", "", OUT!B14) -> FERN TROPICAL PLATYCERIUM SUPERBUM STAGHORN | H40: =IF(AND($K$3=1,$K$4="N"),P40,IF(AND($K$3=2,$K$4="N"),R40,IF(AND($K$3=3,$K$4="N"),T40,IF(AND($K$3=4,$K$4="N"),V40,IF(AND($K$3=5,$K$4="N"),X40,IF(AND($K$3=1,$K$4="Y"),Z40,IF(AND($K$3=2,$K$4="Y"),AB40,IF(AND($K$3=3,$K$4="Y"),AD40,IF(AND($K$3=4,$K$4="Y"),AF40,IF(AND($K$3=5,$K$4="Y"),AH40,"FALSE")))))))))) -> 1.726 | I40: =IF(AND($K$3=1,$K$4="N"),Q40,IF(AND($K$3=2,$K$4="N"),S40,IF(AND($K$3=3,$K$4="N"),U40,IF(AND($K$3=4,$K$4="N"),W40,IF(AND($K$3=5,$K$4="N"),Y40,IF(AND($K$3=1,$K$4="Y"),AA40,IF(AND($K$3=2,$K$4="Y"),AC40,IF(AND($K$3=3,$K$4="Y"),AE40,IF(AND($K$3=4,$K$4="Y"),AG40,IF(AND($K$3=5,$K$4="Y"),AI40,"FALSE")))))))))) -> 124.27 | J40: =IF(OUT!F14="", "", OUT!F14) | K40: =IF(OUT!P14="", "", OUT!P14) -> 72 | L40: =IF(OUT!AE14="", "", OUT!AE14) -> NEW | M40: =IF(OUT!AG14="", "", OUT!AG14) | N40: =IF(OUT!AQ14="", "", OUT!AQ14) | O40: =IF(OUT!BO14="", "", OUT!BO14) -> T3 | P40: =IF(OUT!N14="", "", OUT!N14) -> 1.726 | Q40: =IF(OUT!O14="", "", OUT!O14) -> 124.27 | R40: =IF(PPG!H14="", "", PPG!H14) | S40: =IF(PPG!I14="", "", PPG!I14) | T40: =IF(PPG!J14="", "", PPG!J14) | U40: =IF(PPG!K14="", "", PPG!K14) | V40: =IF(PPG!L14="", "", PPG!L14) | W40: =IF(PPG!M14="", "", PPG!M14) | X40: =IF(PPG!N14="", "", PPG!N14) | Y40: =IF(PPG!O14="", "", PPG!O14) | Z40: =IF(PPG!Q14="", "", PPG!Q14) | AA40: =IF(PPG!R14="", "", PPG!R14) | AB40: =IF(PPG!S14="", "", PPG!S14) | AC40: =IF(PPG!T14="", "", PPG!T14) | AD40: =IF(PPG!U14="", "", PPG!U14) | AE40: =IF(PPG!V14="", "", PPG!V14) | AF40: =IF(PPG!W14="", "", PPG!W14) | AG40: =IF(PPG!X14="", "", PPG!X14) | ... AI40: =IF(PPG!Z14="", "", PPG!Z14) | AJ40: =IF(D40<>"",D40*I40, "0.00") -> 0.00 | AK40: =IF(D40<>"",D40, "0") -> 0 | AL40: =IF(D40<>"",D40*K40, "0") -> 0
A41: =IF(OUT!C72="", "", OUT!C72) -> 754 | B41: =IF(OUT!A72="", "", OUT!A72) -> 94870 | C41: =IF(OUT!D72="", "", OUT!D72) -> O | E41: =IF(OUT!E72="", "", OUT!E72) -> 72 TRAY | F41: =IF(OUT!AE72="NEW", "✷", "") | G41: =IF(OUT!B72="", "", OUT!B72) -> FERN TROPICAL KIMBERLY QUEEN | H41: =IF(AND($K$3=1,$K$4="N"),P41,IF(AND($K$3=2,$K$4="N"),R41,IF(AND($K$3=3,$K$4="N"),T41,IF(AND($K$3=4,$K$4="N"),V41,IF(AND($K$3=5,$K$4="N"),X41,IF(AND($K$3=1,$K$4="Y"),Z41,IF(AND($K$3=2,$K$4="Y"),AB41,IF(AND($K$3=3,$K$4="Y"),AD41,IF(AND($K$3=4,$K$4="Y"),AF41,IF(AND($K$3=5,$K$4="Y"),AH41,"FALSE")))))))))) -> 0.732 | I41: =IF(AND($K$3=1,$K$4="N"),Q41,IF(AND($K$3=2,$K$4="N"),S41,IF(AND($K$3=3,$K$4="N"),U41,IF(AND($K$3=4,$K$4="N"),W41,IF(AND($K$3=5,$K$4="N"),Y41,IF(AND($K$3=1,$K$4="Y"),AA41,IF(AND($K$3=2,$K$4="Y"),AC41,IF(AND($K$3=3,$K$4="Y"),AE41,IF(AND($K$3=4,$K$4="Y"),AG41,IF(AND($K$3=5,$K$4="Y"),AI41,"FALSE")))))))))) -> 52.7 | J41: =IF(OUT!F72="", "", OUT!F72) | K41: =IF(OUT!P72="", "", OUT!P72) -> 72 | L41: =IF(OUT!AE72="", "", OUT!AE72) | M41: =IF(OUT!AG72="", "", OUT!AG72) | N41: =IF(OUT!AQ72="", "", OUT!AQ72) | O41: =IF(OUT!BO72="", "", OUT!BO72) -> T3 | P41: =IF(OUT!N72="", "", OUT!N72) -> 0.732 | Q41: =IF(OUT!O72="", "", OUT!O72) -> 52.7 | R41: =IF(PPG!H72="", "", PPG!H72) | S41: =IF(PPG!I72="", "", PPG!I72) | T41: =IF(PPG!J72="", "", PPG!J72) | U41: =IF(PPG!K72="", "", PPG!K72) | V41: =IF(PPG!L72="", "", PPG!L72) | W41: =IF(PPG!M72="", "", PPG!M72) | X41: =IF(PPG!N72="", "", PPG!N72) | Y41: =IF(PPG!O72="", "", PPG!O72) | Z41: =IF(PPG!Q72="", "", PPG!Q72) | AA41: =IF(PPG!R72="", "", PPG!R72) | AB41: =IF(PPG!S72="", "", PPG!S72) | AC41: =IF(PPG!T72="", "", PPG!T72) | AD41: =IF(PPG!U72="", "", PPG!U72) | AE41: =IF(PPG!V72="", "", PPG!V72) | AF41: =IF(PPG!W72="", "", PPG!W72) | AG41: =IF(PPG!X72="", "", PPG!X72) | ... AI41: =IF(PPG!Z72="", "", PPG!Z72) | AJ41: =IF(D41<>"",D41*I41, "0.00") -> 0.00 | AK41: =IF(D41<>"",D41, "0") -> 0 | AL41: =IF(D41<>"",D41*K41, "0") -> 0
A42: =IF(OUT!C48="", "", OUT!C48) -> 754 | B42: =IF(OUT!A48="", "", OUT!A48) -> 92677 | C42: =IF(OUT!D48="", "", OUT!D48) -> O | E42: =IF(OUT!E48="", "", OUT!E48) -> 72 TRAY | F42: =IF(OUT!AE48="NEW", "✷", "") | G42: =IF(OUT!B48="", "", OUT!B48) -> FICUS BENGHALENSIS AUDREY | H42: =IF(AND($K$3=1,$K$4="N"),P42,IF(AND($K$3=2,$K$4="N"),R42,IF(AND($K$3=3,$K$4="N"),T42,IF(AND($K$3=4,$K$4="N"),V42,IF(AND($K$3=5,$K$4="N"),X42,IF(AND($K$3=1,$K$4="Y"),Z42,IF(AND($K$3=2,$K$4="Y"),AB42,IF(AND($K$3=3,$K$4="Y"),AD42,IF(AND($K$3=4,$K$4="Y"),AF42,IF(AND($K$3=5,$K$4="Y"),AH42,"FALSE")))))))))) -> 0.96 | I42: =IF(AND($K$3=1,$K$4="N"),Q42,IF(AND($K$3=2,$K$4="N"),S42,IF(AND($K$3=3,$K$4="N"),U42,IF(AND($K$3=4,$K$4="N"),W42,IF(AND($K$3=5,$K$4="N"),Y42,IF(AND($K$3=1,$K$4="Y"),AA42,IF(AND($K$3=2,$K$4="Y"),AC42,IF(AND($K$3=3,$K$4="Y"),AE42,IF(AND($K$3=4,$K$4="Y"),AG42,IF(AND($K$3=5,$K$4="Y"),AI42,"FALSE")))))))))) -> 69.12 | J42: =IF(OUT!F48="", "", OUT!F48) | K42: =IF(OUT!P48="", "", OUT!P48) -> 72 | L42: =IF(OUT!AE48="", "", OUT!AE48) | M42: =IF(OUT!AG48="", "", OUT!AG48) | N42: =IF(OUT!AQ48="", "", OUT!AQ48) | O42: =IF(OUT!BO48="", "", OUT!BO48) -> T3 | P42: =IF(OUT!N48="", "", OUT!N48) -> 0.96 | Q42: =IF(OUT!O48="", "", OUT!O48) -> 69.12 | R42: =IF(PPG!H48="", "", PPG!H48) | S42: =IF(PPG!I48="", "", PPG!I48) | T42: =IF(PPG!J48="", "", PPG!J48) | U42: =IF(PPG!K48="", "", PPG!K48) | V42: =IF(PPG!L48="", "", PPG!L48) | W42: =IF(PPG!M48="", "", PPG!M48) | X42: =IF(PPG!N48="", "", PPG!N48) | Y42: =IF(PPG!O48="", "", PPG!O48) | Z42: =IF(PPG!Q48="", "", PPG!Q48) | AA42: =IF(PPG!R48="", "", PPG!R48) | AB42: =IF(PPG!S48="", "", PPG!S48) | AC42: =IF(PPG!T48="", "", PPG!T48) | AD42: =IF(PPG!U48="", "", PPG!U48) | AE42: =IF(PPG!V48="", "", PPG!V48) | AF42: =IF(PPG!W48="", "", PPG!W48) | AG42: =IF(PPG!X48="", "", PPG!X48) | ... AI42: =IF(PPG!Z48="", "", PPG!Z48) | AJ42: =IF(D42<>"",D42*I42, "0.00") -> 0.00 | AK42: =IF(D42<>"",D42, "0") -> 0 | AL42: =IF(D42<>"",D42*K42, "0") -> 0
A43: =IF(OUT!C24="", "", OUT!C24) -> 754 | B43: =IF(OUT!A24="", "", OUT!A24) -> 42847 | C43: =IF(OUT!D24="", "", OUT!D24) -> O | E43: =IF(OUT!E24="", "", OUT!E24) -> 72 TRAY | F43: =IF(OUT!AE24="NEW", "✷", "") | G43: =IF(OUT!B24="", "", OUT!B24) -> FICUS ELASTICA BURGUNDY (RUBBER PLANT) | H43: =IF(AND($K$3=1,$K$4="N"),P43,IF(AND($K$3=2,$K$4="N"),R43,IF(AND($K$3=3,$K$4="N"),T43,IF(AND($K$3=4,$K$4="N"),V43,IF(AND($K$3=5,$K$4="N"),X43,IF(AND($K$3=1,$K$4="Y"),Z43,IF(AND($K$3=2,$K$4="Y"),AB43,IF(AND($K$3=3,$K$4="Y"),AD43,IF(AND($K$3=4,$K$4="Y"),AF43,IF(AND($K$3=5,$K$4="Y"),AH43,"FALSE")))))))))) -> 0.88 | I43: =IF(AND($K$3=1,$K$4="N"),Q43,IF(AND($K$3=2,$K$4="N"),S43,IF(AND($K$3=3,$K$4="N"),U43,IF(AND($K$3=4,$K$4="N"),W43,IF(AND($K$3=5,$K$4="N"),Y43,IF(AND($K$3=1,$K$4="Y"),AA43,IF(AND($K$3=2,$K$4="Y"),AC43,IF(AND($K$3=3,$K$4="Y"),AE43,IF(AND($K$3=4,$K$4="Y"),AG43,IF(AND($K$3=5,$K$4="Y"),AI43,"FALSE")))))))))) -> 63.36 | J43: =IF(OUT!F24="", "", OUT!F24) | K43: =IF(OUT!P24="", "", OUT!P24) -> 72 | L43: =IF(OUT!AE24="", "", OUT!AE24) | M43: =IF(OUT!AG24="", "", OUT!AG24) | N43: =IF(OUT!AQ24="", "", OUT!AQ24) | O43: =IF(OUT!BO24="", "", OUT!BO24) -> T3 | P43: =IF(OUT!N24="", "", OUT!N24) -> 0.88 | Q43: =IF(OUT!O24="", "", OUT!O24) -> 63.36 | R43: =IF(PPG!H24="", "", PPG!H24) | S43: =IF(PPG!I24="", "", PPG!I24) | T43: =IF(PPG!J24="", "", PPG!J24) | U43: =IF(PPG!K24="", "", PPG!K24) | V43: =IF(PPG!L24="", "", PPG!L24) | W43: =IF(PPG!M24="", "", PPG!M24) | X43: =IF(PPG!N24="", "", PPG!N24) | Y43: =IF(PPG!O24="", "", PPG!O24) | Z43: =IF(PPG!Q24="", "", PPG!Q24) | AA43: =IF(PPG!R24="", "", PPG!R24) | AB43: =IF(PPG!S24="", "", PPG!S24) | AC43: =IF(PPG!T24="", "", PPG!T24) | AD43: =IF(PPG!U24="", "", PPG!U24) | AE43: =IF(PPG!V24="", "", PPG!V24) | AF43: =IF(PPG!W24="", "", PPG!W24) | AG43: =IF(PPG!X24="", "", PPG!X24) | ... AI43: =IF(PPG!Z24="", "", PPG!Z24) | AJ43: =IF(D43<>"",D43*I43, "0.00") -> 0.00 | AK43: =IF(D43<>"",D43, "0") -> 0 | AL43: =IF(D43<>"",D43*K43, "0") -> 0
A44: =IF(OUT!C25="", "", OUT!C25) -> 754 | B44: =IF(OUT!A25="", "", OUT!A25) -> 42848 | C44: =IF(OUT!D25="", "", OUT!D25) -> O | E44: =IF(OUT!E25="", "", OUT!E25) -> 72 TRAY | F44: =IF(OUT!AE25="NEW", "✷", "") | G44: =IF(OUT!B25="", "", OUT!B25) -> FICUS ELASTICA RUBY (RUBBER PLANT) | H44: =IF(AND($K$3=1,$K$4="N"),P44,IF(AND($K$3=2,$K$4="N"),R44,IF(AND($K$3=3,$K$4="N"),T44,IF(AND($K$3=4,$K$4="N"),V44,IF(AND($K$3=5,$K$4="N"),X44,IF(AND($K$3=1,$K$4="Y"),Z44,IF(AND($K$3=2,$K$4="Y"),AB44,IF(AND($K$3=3,$K$4="Y"),AD44,IF(AND($K$3=4,$K$4="Y"),AF44,IF(AND($K$3=5,$K$4="Y"),AH44,"FALSE")))))))))) -> 0.938 | I44: =IF(AND($K$3=1,$K$4="N"),Q44,IF(AND($K$3=2,$K$4="N"),S44,IF(AND($K$3=3,$K$4="N"),U44,IF(AND($K$3=4,$K$4="N"),W44,IF(AND($K$3=5,$K$4="N"),Y44,IF(AND($K$3=1,$K$4="Y"),AA44,IF(AND($K$3=2,$K$4="Y"),AC44,IF(AND($K$3=3,$K$4="Y"),AE44,IF(AND($K$3=4,$K$4="Y"),AG44,IF(AND($K$3=5,$K$4="Y"),AI44,"FALSE")))))))))) -> 67.53 | J44: =IF(OUT!F25="", "", OUT!F25) | K44: =IF(OUT!P25="", "", OUT!P25) -> 72 | L44: =IF(OUT!AE25="", "", OUT!AE25) | M44: =IF(OUT!AG25="", "", OUT!AG25) | N44: =IF(OUT!AQ25="", "", OUT!AQ25) | O44: =IF(OUT!BO25="", "", OUT!BO25) -> T3 | P44: =IF(OUT!N25="", "", OUT!N25) -> 0.938 | Q44: =IF(OUT!O25="", "", OUT!O25) -> 67.53 | R44: =IF(PPG!H25="", "", PPG!H25) | S44: =IF(PPG!I25="", "", PPG!I25) | T44: =IF(PPG!J25="", "", PPG!J25) | U44: =IF(PPG!K25="", "", PPG!K25) | V44: =IF(PPG!L25="", "", PPG!L25) | W44: =IF(PPG!M25="", "", PPG!M25) | X44: =IF(PPG!N25="", "", PPG!N25) | Y44: =IF(PPG!O25="", "", PPG!O25) | Z44: =IF(PPG!Q25="", "", PPG!Q25) | AA44: =IF(PPG!R25="", "", PPG!R25) | AB44: =IF(PPG!S25="", "", PPG!S25) | AC44: =IF(PPG!T25="", "", PPG!T25) | AD44: =IF(PPG!U25="", "", PPG!U25) | AE44: =IF(PPG!V25="", "", PPG!V25) | AF44: =IF(PPG!W25="", "", PPG!W25) | AG44: =IF(PPG!X25="", "", PPG!X25) | ... AI44: =IF(PPG!Z25="", "", PPG!Z25) | AJ44: =IF(D44<>"",D44*I44, "0.00") -> 0.00 | AK44: =IF(D44<>"",D44, "0") -> 0 | AL44: =IF(D44<>"",D44*K44, "0") -> 0
A45: =IF(OUT!C26="", "", OUT!C26) -> 754 | B45: =IF(OUT!A26="", "", OUT!A26) -> 42849 | C45: =IF(OUT!D26="", "", OUT!D26) -> O | E45: =IF(OUT!E26="", "", OUT!E26) -> 72 TRAY | F45: =IF(OUT!AE26="NEW", "✷", "") | G45: =IF(OUT!B26="", "", OUT!B26) -> FICUS ELASTICA TINEKE (RUBBER PLANT) | H45: =IF(AND($K$3=1,$K$4="N"),P45,IF(AND($K$3=2,$K$4="N"),R45,IF(AND($K$3=3,$K$4="N"),T45,IF(AND($K$3=4,$K$4="N"),V45,IF(AND($K$3=5,$K$4="N"),X45,IF(AND($K$3=1,$K$4="Y"),Z45,IF(AND($K$3=2,$K$4="Y"),AB45,IF(AND($K$3=3,$K$4="Y"),AD45,IF(AND($K$3=4,$K$4="Y"),AF45,IF(AND($K$3=5,$K$4="Y"),AH45,"FALSE")))))))))) -> 0.96 | I45: =IF(AND($K$3=1,$K$4="N"),Q45,IF(AND($K$3=2,$K$4="N"),S45,IF(AND($K$3=3,$K$4="N"),U45,IF(AND($K$3=4,$K$4="N"),W45,IF(AND($K$3=5,$K$4="N"),Y45,IF(AND($K$3=1,$K$4="Y"),AA45,IF(AND($K$3=2,$K$4="Y"),AC45,IF(AND($K$3=3,$K$4="Y"),AE45,IF(AND($K$3=4,$K$4="Y"),AG45,IF(AND($K$3=5,$K$4="Y"),AI45,"FALSE")))))))))) -> 69.12 | J45: =IF(OUT!F26="", "", OUT!F26) | K45: =IF(OUT!P26="", "", OUT!P26) -> 72 | L45: =IF(OUT!AE26="", "", OUT!AE26) | M45: =IF(OUT!AG26="", "", OUT!AG26) | N45: =IF(OUT!AQ26="", "", OUT!AQ26) | O45: =IF(OUT!BO26="", "", OUT!BO26) -> T3 | P45: =IF(OUT!N26="", "", OUT!N26) -> 0.96 | Q45: =IF(OUT!O26="", "", OUT!O26) -> 69.12 | R45: =IF(PPG!H26="", "", PPG!H26) | S45: =IF(PPG!I26="", "", PPG!I26) | T45: =IF(PPG!J26="", "", PPG!J26) | U45: =IF(PPG!K26="", "", PPG!K26) | V45: =IF(PPG!L26="", "", PPG!L26) | W45: =IF(PPG!M26="", "", PPG!M26) | X45: =IF(PPG!N26="", "", PPG!N26) | Y45: =IF(PPG!O26="", "", PPG!O26) | Z45: =IF(PPG!Q26="", "", PPG!Q26) | AA45: =IF(PPG!R26="", "", PPG!R26) | AB45: =IF(PPG!S26="", "", PPG!S26) | AC45: =IF(PPG!T26="", "", PPG!T26) | AD45: =IF(PPG!U26="", "", PPG!U26) | AE45: =IF(PPG!V26="", "", PPG!V26) | AF45: =IF(PPG!W26="", "", PPG!W26) | AG45: =IF(PPG!X26="", "", PPG!X26) | ... AI45: =IF(PPG!Z26="", "", PPG!Z26) | AJ45: =IF(D45<>"",D45*I45, "0.00") -> 0.00 | AK45: =IF(D45<>"",D45, "0") -> 0 | AL45: =IF(D45<>"",D45*K45, "0") -> 0
A46: =IF(OUT!C64="", "", OUT!C64) -> 754 | B46: =IF(OUT!A64="", "", OUT!A64) -> 93610 | C46: =IF(OUT!D64="", "", OUT!D64) -> O | E46: =IF(OUT!E64="", "", OUT!E64) -> 72 TRAY | F46: =IF(OUT!AE64="NEW", "✷", "") | G46: =IF(OUT!B64="", "", OUT!B64) -> FICUS LYRATA SUNCOAST | H46: =IF(AND($K$3=1,$K$4="N"),P46,IF(AND($K$3=2,$K$4="N"),R46,IF(AND($K$3=3,$K$4="N"),T46,IF(AND($K$3=4,$K$4="N"),V46,IF(AND($K$3=5,$K$4="N"),X46,IF(AND($K$3=1,$K$4="Y"),Z46,IF(AND($K$3=2,$K$4="Y"),AB46,IF(AND($K$3=3,$K$4="Y"),AD46,IF(AND($K$3=4,$K$4="Y"),AF46,IF(AND($K$3=5,$K$4="Y"),AH46,"FALSE")))))))))) -> 0.926 | I46: =IF(AND($K$3=1,$K$4="N"),Q46,IF(AND($K$3=2,$K$4="N"),S46,IF(AND($K$3=3,$K$4="N"),U46,IF(AND($K$3=4,$K$4="N"),W46,IF(AND($K$3=5,$K$4="N"),Y46,IF(AND($K$3=1,$K$4="Y"),AA46,IF(AND($K$3=2,$K$4="Y"),AC46,IF(AND($K$3=3,$K$4="Y"),AE46,IF(AND($K$3=4,$K$4="Y"),AG46,IF(AND($K$3=5,$K$4="Y"),AI46,"FALSE")))))))))) -> 66.67 | J46: =IF(OUT!F64="", "", OUT!F64) | K46: =IF(OUT!P64="", "", OUT!P64) -> 72 | L46: =IF(OUT!AE64="", "", OUT!AE64) | M46: =IF(OUT!AG64="", "", OUT!AG64) | N46: =IF(OUT!AQ64="", "", OUT!AQ64) | O46: =IF(OUT!BO64="", "", OUT!BO64) -> T3 | P46: =IF(OUT!N64="", "", OUT!N64) -> 0.926 | Q46: =IF(OUT!O64="", "", OUT!O64) -> 66.67 | R46: =IF(PPG!H64="", "", PPG!H64) | S46: =IF(PPG!I64="", "", PPG!I64) | T46: =IF(PPG!J64="", "", PPG!J64) | U46: =IF(PPG!K64="", "", PPG!K64) | V46: =IF(PPG!L64="", "", PPG!L64) | W46: =IF(PPG!M64="", "", PPG!M64) | X46: =IF(PPG!N64="", "", PPG!N64) | Y46: =IF(PPG!O64="", "", PPG!O64) | Z46: =IF(PPG!Q64="", "", PPG!Q64) | AA46: =IF(PPG!R64="", "", PPG!R64) | AB46: =IF(PPG!S64="", "", PPG!S64) | AC46: =IF(PPG!T64="", "", PPG!T64) | AD46: =IF(PPG!U64="", "", PPG!U64) | AE46: =IF(PPG!V64="", "", PPG!V64) | AF46: =IF(PPG!W64="", "", PPG!W64) | AG46: =IF(PPG!X64="", "", PPG!X64) | ... AI46: =IF(PPG!Z64="", "", PPG!Z64) | AJ46: =IF(D46<>"",D46*I46, "0.00") -> 0.00 | AK46: =IF(D46<>"",D46, "0") -> 0 | AL46: =IF(D46<>"",D46*K46, "0") -> 0
A47: =IF(OUT!C66="", "", OUT!C66) -> 754 | B47: =IF(OUT!A66="", "", OUT!A66) -> 93612 | C47: =IF(OUT!D66="", "", OUT!D66) -> O | E47: =IF(OUT!E66="", "", OUT!E66) -> 72 TRAY | F47: =IF(OUT!AE66="NEW", "✷", "") | G47: =IF(OUT!B66="", "", OUT!B66) -> FICUS PUMILA GREEN | H47: =IF(AND($K$3=1,$K$4="N"),P47,IF(AND($K$3=2,$K$4="N"),R47,IF(AND($K$3=3,$K$4="N"),T47,IF(AND($K$3=4,$K$4="N"),V47,IF(AND($K$3=5,$K$4="N"),X47,IF(AND($K$3=1,$K$4="Y"),Z47,IF(AND($K$3=2,$K$4="Y"),AB47,IF(AND($K$3=3,$K$4="Y"),AD47,IF(AND($K$3=4,$K$4="Y"),AF47,IF(AND($K$3=5,$K$4="Y"),AH47,"FALSE")))))))))) -> 0.915 | I47: =IF(AND($K$3=1,$K$4="N"),Q47,IF(AND($K$3=2,$K$4="N"),S47,IF(AND($K$3=3,$K$4="N"),U47,IF(AND($K$3=4,$K$4="N"),W47,IF(AND($K$3=5,$K$4="N"),Y47,IF(AND($K$3=1,$K$4="Y"),AA47,IF(AND($K$3=2,$K$4="Y"),AC47,IF(AND($K$3=3,$K$4="Y"),AE47,IF(AND($K$3=4,$K$4="Y"),AG47,IF(AND($K$3=5,$K$4="Y"),AI47,"FALSE")))))))))) -> 65.88 | J47: =IF(OUT!F66="", "", OUT!F66) | K47: =IF(OUT!P66="", "", OUT!P66) -> 72 | L47: =IF(OUT!AE66="", "", OUT!AE66) | M47: =IF(OUT!AG66="", "", OUT!AG66) | N47: =IF(OUT!AQ66="", "", OUT!AQ66) | O47: =IF(OUT!BO66="", "", OUT!BO66) -> T3 | P47: =IF(OUT!N66="", "", OUT!N66) -> 0.915 | Q47: =IF(OUT!O66="", "", OUT!O66) -> 65.88 | R47: =IF(PPG!H66="", "", PPG!H66) | S47: =IF(PPG!I66="", "", PPG!I66) | T47: =IF(PPG!J66="", "", PPG!J66) | U47: =IF(PPG!K66="", "", PPG!K66) | V47: =IF(PPG!L66="", "", PPG!L66) | W47: =IF(PPG!M66="", "", PPG!M66) | X47: =IF(PPG!N66="", "", PPG!N66) | Y47: =IF(PPG!O66="", "", PPG!O66) | Z47: =IF(PPG!Q66="", "", PPG!Q66) | AA47: =IF(PPG!R66="", "", PPG!R66) | AB47: =IF(PPG!S66="", "", PPG!S66) | AC47: =IF(PPG!T66="", "", PPG!T66) | AD47: =IF(PPG!U66="", "", PPG!U66) | AE47: =IF(PPG!V66="", "", PPG!V66) | AF47: =IF(PPG!W66="", "", PPG!W66) | AG47: =IF(PPG!X66="", "", PPG!X66) | ... AI47: =IF(PPG!Z66="", "", PPG!Z66) | AJ47: =IF(D47<>"",D47*I47, "0.00") -> 0.00 | AK47: =IF(D47<>"",D47, "0") -> 0 | AL47: =IF(D47<>"",D47*K47, "0") -> 0
A48: =IF(OUT!C65="", "", OUT!C65) -> 754 | B48: =IF(OUT!A65="", "", OUT!A65) -> 93611 | C48: =IF(OUT!D65="", "", OUT!D65) -> O | E48: =IF(OUT!E65="", "", OUT!E65) -> 72 TRAY | F48: =IF(OUT!AE65="NEW", "✷", "") | G48: =IF(OUT!B65="", "", OUT!B65) -> FICUS PUMILA VARIEGATA | H48: =IF(AND($K$3=1,$K$4="N"),P48,IF(AND($K$3=2,$K$4="N"),R48,IF(AND($K$3=3,$K$4="N"),T48,IF(AND($K$3=4,$K$4="N"),V48,IF(AND($K$3=5,$K$4="N"),X48,IF(AND($K$3=1,$K$4="Y"),Z48,IF(AND($K$3=2,$K$4="Y"),AB48,IF(AND($K$3=3,$K$4="Y"),AD48,IF(AND($K$3=4,$K$4="Y"),AF48,IF(AND($K$3=5,$K$4="Y"),AH48,"FALSE")))))))))) -> 0.972 | I48: =IF(AND($K$3=1,$K$4="N"),Q48,IF(AND($K$3=2,$K$4="N"),S48,IF(AND($K$3=3,$K$4="N"),U48,IF(AND($K$3=4,$K$4="N"),W48,IF(AND($K$3=5,$K$4="N"),Y48,IF(AND($K$3=1,$K$4="Y"),AA48,IF(AND($K$3=2,$K$4="Y"),AC48,IF(AND($K$3=3,$K$4="Y"),AE48,IF(AND($K$3=4,$K$4="Y"),AG48,IF(AND($K$3=5,$K$4="Y"),AI48,"FALSE")))))))))) -> 69.98 | J48: =IF(OUT!F65="", "", OUT!F65) | K48: =IF(OUT!P65="", "", OUT!P65) -> 72 | L48: =IF(OUT!AE65="", "", OUT!AE65) | M48: =IF(OUT!AG65="", "", OUT!AG65) | N48: =IF(OUT!AQ65="", "", OUT!AQ65) | O48: =IF(OUT!BO65="", "", OUT!BO65) -> T3 | P48: =IF(OUT!N65="", "", OUT!N65) -> 0.972 | Q48: =IF(OUT!O65="", "", OUT!O65) -> 69.98 | R48: =IF(PPG!H65="", "", PPG!H65) | S48: =IF(PPG!I65="", "", PPG!I65) | T48: =IF(PPG!J65="", "", PPG!J65) | U48: =IF(PPG!K65="", "", PPG!K65) | V48: =IF(PPG!L65="", "", PPG!L65) | W48: =IF(PPG!M65="", "", PPG!M65) | X48: =IF(PPG!N65="", "", PPG!N65) | Y48: =IF(PPG!O65="", "", PPG!O65) | Z48: =IF(PPG!Q65="", "", PPG!Q65) | AA48: =IF(PPG!R65="", "", PPG!R65) | AB48: =IF(PPG!S65="", "", PPG!S65) | AC48: =IF(PPG!T65="", "", PPG!T65) | AD48: =IF(PPG!U65="", "", PPG!U65) | AE48: =IF(PPG!V65="", "", PPG!V65) | AF48: =IF(PPG!W65="", "", PPG!W65) | AG48: =IF(PPG!X65="", "", PPG!X65) | ... AI48: =IF(PPG!Z65="", "", PPG!Z65) | AJ48: =IF(D48<>"",D48*I48, "0.00") -> 0.00 | AK48: =IF(D48<>"",D48, "0") -> 0 | AL48: =IF(D48<>"",D48*K48, "0") -> 0
A49: =IF(OUT!C19="", "", OUT!C19) -> 754 | B49: =IF(OUT!A19="", "", OUT!A19) -> 41444 | C49: =IF(OUT!D19="", "", OUT!D19) -> O | E49: =IF(OUT!E19="", "", OUT!E19) -> 72 TRAY | F49: =IF(OUT!AE19="NEW", "✷", "") | G49: =IF(OUT!B19="", "", OUT!B19) -> FICUS PUMILIA QUERCIFOLIA | H49: =IF(AND($K$3=1,$K$4="N"),P49,IF(AND($K$3=2,$K$4="N"),R49,IF(AND($K$3=3,$K$4="N"),T49,IF(AND($K$3=4,$K$4="N"),V49,IF(AND($K$3=5,$K$4="N"),X49,IF(AND($K$3=1,$K$4="Y"),Z49,IF(AND($K$3=2,$K$4="Y"),AB49,IF(AND($K$3=3,$K$4="Y"),AD49,IF(AND($K$3=4,$K$4="Y"),AF49,IF(AND($K$3=5,$K$4="Y"),AH49,"FALSE")))))))))) -> 1.315 | I49: =IF(AND($K$3=1,$K$4="N"),Q49,IF(AND($K$3=2,$K$4="N"),S49,IF(AND($K$3=3,$K$4="N"),U49,IF(AND($K$3=4,$K$4="N"),W49,IF(AND($K$3=5,$K$4="N"),Y49,IF(AND($K$3=1,$K$4="Y"),AA49,IF(AND($K$3=2,$K$4="Y"),AC49,IF(AND($K$3=3,$K$4="Y"),AE49,IF(AND($K$3=4,$K$4="Y"),AG49,IF(AND($K$3=5,$K$4="Y"),AI49,"FALSE")))))))))) -> 94.68 | J49: =IF(OUT!F19="", "", OUT!F19) | K49: =IF(OUT!P19="", "", OUT!P19) -> 72 | L49: =IF(OUT!AE19="", "", OUT!AE19) | M49: =IF(OUT!AG19="", "", OUT!AG19) | N49: =IF(OUT!AQ19="", "", OUT!AQ19) | O49: =IF(OUT!BO19="", "", OUT!BO19) -> T3 | P49: =IF(OUT!N19="", "", OUT!N19) -> 1.315 | Q49: =IF(OUT!O19="", "", OUT!O19) -> 94.68 | R49: =IF(PPG!H19="", "", PPG!H19) | S49: =IF(PPG!I19="", "", PPG!I19) | T49: =IF(PPG!J19="", "", PPG!J19) | U49: =IF(PPG!K19="", "", PPG!K19) | V49: =IF(PPG!L19="", "", PPG!L19) | W49: =IF(PPG!M19="", "", PPG!M19) | X49: =IF(PPG!N19="", "", PPG!N19) | Y49: =IF(PPG!O19="", "", PPG!O19) | Z49: =IF(PPG!Q19="", "", PPG!Q19) | AA49: =IF(PPG!R19="", "", PPG!R19) | AB49: =IF(PPG!S19="", "", PPG!S19) | AC49: =IF(PPG!T19="", "", PPG!T19) | AD49: =IF(PPG!U19="", "", PPG!U19) | AE49: =IF(PPG!V19="", "", PPG!V19) | AF49: =IF(PPG!W19="", "", PPG!W19) | AG49: =IF(PPG!X19="", "", PPG!X19) | ... AI49: =IF(PPG!Z19="", "", PPG!Z19) | AJ49: =IF(D49<>"",D49*I49, "0.00") -> 0.00 | AK49: =IF(D49<>"",D49, "0") -> 0 | AL49: =IF(D49<>"",D49*K49, "0") -> 0
A50: =IF(OUT!C22="", "", OUT!C22) -> 754 | B50: =IF(OUT!A22="", "", OUT!A22) -> 42839 | C50: =IF(OUT!D22="", "", OUT!D22) -> O | E50: =IF(OUT!E22="", "", OUT!E22) -> 72 TRAY | F50: =IF(OUT!AE22="NEW", "✷", "") -> ✷ | G50: =IF(OUT!B22="", "", OUT!B22) -> FOLIAGE CALATHEA LANCIFOLIA RATTLESNAKE | H50: =IF(AND($K$3=1,$K$4="N"),P50,IF(AND($K$3=2,$K$4="N"),R50,IF(AND($K$3=3,$K$4="N"),T50,IF(AND($K$3=4,$K$4="N"),V50,IF(AND($K$3=5,$K$4="N"),X50,IF(AND($K$3=1,$K$4="Y"),Z50,IF(AND($K$3=2,$K$4="Y"),AB50,IF(AND($K$3=3,$K$4="Y"),AD50,IF(AND($K$3=4,$K$4="Y"),AF50,IF(AND($K$3=5,$K$4="Y"),AH50,"FALSE")))))))))) -> 1.829 | I50: =IF(AND($K$3=1,$K$4="N"),Q50,IF(AND($K$3=2,$K$4="N"),S50,IF(AND($K$3=3,$K$4="N"),U50,IF(AND($K$3=4,$K$4="N"),W50,IF(AND($K$3=5,$K$4="N"),Y50,IF(AND($K$3=1,$K$4="Y"),AA50,IF(AND($K$3=2,$K$4="Y"),AC50,IF(AND($K$3=3,$K$4="Y"),AE50,IF(AND($K$3=4,$K$4="Y"),AG50,IF(AND($K$3=5,$K$4="Y"),AI50,"FALSE")))))))))) -> 131.68 | J50: =IF(OUT!F22="", "", OUT!F22) | K50: =IF(OUT!P22="", "", OUT!P22) -> 72 | L50: =IF(OUT!AE22="", "", OUT!AE22) -> NEW | M50: =IF(OUT!AG22="", "", OUT!AG22) | N50: =IF(OUT!AQ22="", "", OUT!AQ22) | O50: =IF(OUT!BO22="", "", OUT!BO22) -> T3 | P50: =IF(OUT!N22="", "", OUT!N22) -> 1.829 | Q50: =IF(OUT!O22="", "", OUT!O22) -> 131.68 | R50: =IF(PPG!H22="", "", PPG!H22) | S50: =IF(PPG!I22="", "", PPG!I22) | T50: =IF(PPG!J22="", "", PPG!J22) | U50: =IF(PPG!K22="", "", PPG!K22) | V50: =IF(PPG!L22="", "", PPG!L22) | W50: =IF(PPG!M22="", "", PPG!M22) | X50: =IF(PPG!N22="", "", PPG!N22) | Y50: =IF(PPG!O22="", "", PPG!O22) | Z50: =IF(PPG!Q22="", "", PPG!Q22) | AA50: =IF(PPG!R22="", "", PPG!R22) | AB50: =IF(PPG!S22="", "", PPG!S22) | AC50: =IF(PPG!T22="", "", PPG!T22) | AD50: =IF(PPG!U22="", "", PPG!U22) | AE50: =IF(PPG!V22="", "", PPG!V22) | AF50: =IF(PPG!W22="", "", PPG!W22) | AG50: =IF(PPG!X22="", "", PPG!X22) | ... AI50: =IF(PPG!Z22="", "", PPG!Z22) | AJ50: =IF(D50<>"",D50*I50, "0.00") -> 0.00 | AK50: =IF(D50<>"",D50, "0") -> 0 | AL50: =IF(D50<>"",D50*K50, "0") -> 0
A51: =IF(OUT!C23="", "", OUT!C23) -> 754 | B51: =IF(OUT!A23="", "", OUT!A23) -> 42842 | C51: =IF(OUT!D23="", "", OUT!D23) -> O | E51: =IF(OUT!E23="", "", OUT!E23) -> 72 TRAY | F51: =IF(OUT!AE23="NEW", "✷", "") -> ✷ | G51: =IF(OUT!B23="", "", OUT!B23) -> FOLIAGE CALATHEA ROSEOPICTA MEDALLION | H51: =IF(AND($K$3=1,$K$4="N"),P51,IF(AND($K$3=2,$K$4="N"),R51,IF(AND($K$3=3,$K$4="N"),T51,IF(AND($K$3=4,$K$4="N"),V51,IF(AND($K$3=5,$K$4="N"),X51,IF(AND($K$3=1,$K$4="Y"),Z51,IF(AND($K$3=2,$K$4="Y"),AB51,IF(AND($K$3=3,$K$4="Y"),AD51,IF(AND($K$3=4,$K$4="Y"),AF51,IF(AND($K$3=5,$K$4="Y"),AH51,"FALSE")))))))))) -> 1.383 | I51: =IF(AND($K$3=1,$K$4="N"),Q51,IF(AND($K$3=2,$K$4="N"),S51,IF(AND($K$3=3,$K$4="N"),U51,IF(AND($K$3=4,$K$4="N"),W51,IF(AND($K$3=5,$K$4="N"),Y51,IF(AND($K$3=1,$K$4="Y"),AA51,IF(AND($K$3=2,$K$4="Y"),AC51,IF(AND($K$3=3,$K$4="Y"),AE51,IF(AND($K$3=4,$K$4="Y"),AG51,IF(AND($K$3=5,$K$4="Y"),AI51,"FALSE")))))))))) -> 99.57 | J51: =IF(OUT!F23="", "", OUT!F23) | K51: =IF(OUT!P23="", "", OUT!P23) -> 72 | L51: =IF(OUT!AE23="", "", OUT!AE23) -> NEW | M51: =IF(OUT!AG23="", "", OUT!AG23) | N51: =IF(OUT!AQ23="", "", OUT!AQ23) | O51: =IF(OUT!BO23="", "", OUT!BO23) -> T3 | P51: =IF(OUT!N23="", "", OUT!N23) -> 1.383 | Q51: =IF(OUT!O23="", "", OUT!O23) -> 99.57 | R51: =IF(PPG!H23="", "", PPG!H23) | S51: =IF(PPG!I23="", "", PPG!I23) | T51: =IF(PPG!J23="", "", PPG!J23) | U51: =IF(PPG!K23="", "", PPG!K23) | V51: =IF(PPG!L23="", "", PPG!L23) | W51: =IF(PPG!M23="", "", PPG!M23) | X51: =IF(PPG!N23="", "", PPG!N23) | Y51: =IF(PPG!O23="", "", PPG!O23) | Z51: =IF(PPG!Q23="", "", PPG!Q23) | AA51: =IF(PPG!R23="", "", PPG!R23) | AB51: =IF(PPG!S23="", "", PPG!S23) | AC51: =IF(PPG!T23="", "", PPG!T23) | AD51: =IF(PPG!U23="", "", PPG!U23) | AE51: =IF(PPG!V23="", "", PPG!V23) | AF51: =IF(PPG!W23="", "", PPG!W23) | AG51: =IF(PPG!X23="", "", PPG!X23) | ... AI51: =IF(PPG!Z23="", "", PPG!Z23) | AJ51: =IF(D51<>"",D51*I51, "0.00") -> 0.00 | AK51: =IF(D51<>"",D51, "0") -> 0 | AL51: =IF(D51<>"",D51*K51, "0") -> 0
A52: =IF(OUT!C10="", "", OUT!C10) -> 754 | B52: =IF(OUT!A10="", "", OUT!A10) -> 13493 | C52: =IF(OUT!D10="", "", OUT!D10) -> O | E52: =IF(OUT!E10="", "", OUT!E10) -> 72 TRAY | F52: =IF(OUT!AE10="NEW", "✷", "") -> ✷ | G52: =IF(OUT!B10="", "", OUT!B10) -> FOLIAGE CALATHEA WARSCEWICZII JUNGLE VELVET | H52: =IF(AND($K$3=1,$K$4="N"),P52,IF(AND($K$3=2,$K$4="N"),R52,IF(AND($K$3=3,$K$4="N"),T52,IF(AND($K$3=4,$K$4="N"),V52,IF(AND($K$3=5,$K$4="N"),X52,IF(AND($K$3=1,$K$4="Y"),Z52,IF(AND($K$3=2,$K$4="Y"),AB52,IF(AND($K$3=3,$K$4="Y"),AD52,IF(AND($K$3=4,$K$4="Y"),AF52,IF(AND($K$3=5,$K$4="Y"),AH52,"FALSE")))))))))) -> 1.383 | I52: =IF(AND($K$3=1,$K$4="N"),Q52,IF(AND($K$3=2,$K$4="N"),S52,IF(AND($K$3=3,$K$4="N"),U52,IF(AND($K$3=4,$K$4="N"),W52,IF(AND($K$3=5,$K$4="N"),Y52,IF(AND($K$3=1,$K$4="Y"),AA52,IF(AND($K$3=2,$K$4="Y"),AC52,IF(AND($K$3=3,$K$4="Y"),AE52,IF(AND($K$3=4,$K$4="Y"),AG52,IF(AND($K$3=5,$K$4="Y"),AI52,"FALSE")))))))))) -> 99.57 | J52: =IF(OUT!F10="", "", OUT!F10) | K52: =IF(OUT!P10="", "", OUT!P10) -> 72 | L52: =IF(OUT!AE10="", "", OUT!AE10) -> NEW | M52: =IF(OUT!AG10="", "", OUT!AG10) | N52: =IF(OUT!AQ10="", "", OUT!AQ10) | O52: =IF(OUT!BO10="", "", OUT!BO10) -> T3 | P52: =IF(OUT!N10="", "", OUT!N10) -> 1.383 | Q52: =IF(OUT!O10="", "", OUT!O10) -> 99.57 | R52: =IF(PPG!H10="", "", PPG!H10) | S52: =IF(PPG!I10="", "", PPG!I10) | T52: =IF(PPG!J10="", "", PPG!J10) | U52: =IF(PPG!K10="", "", PPG!K10) | V52: =IF(PPG!L10="", "", PPG!L10) | W52: =IF(PPG!M10="", "", PPG!M10) | X52: =IF(PPG!N10="", "", PPG!N10) | Y52: =IF(PPG!O10="", "", PPG!O10) | Z52: =IF(PPG!Q10="", "", PPG!Q10) | AA52: =IF(PPG!R10="", "", PPG!R10) | AB52: =IF(PPG!S10="", "", PPG!S10) | AC52: =IF(PPG!T10="", "", PPG!T10) | AD52: =IF(PPG!U10="", "", PPG!U10) | AE52: =IF(PPG!V10="", "", PPG!V10) | AF52: =IF(PPG!W10="", "", PPG!W10) | AG52: =IF(PPG!X10="", "", PPG!X10) | ... AI52: =IF(PPG!Z10="", "", PPG!Z10) | AJ52: =IF(D52<>"",D52*I52, "0.00") -> 0.00 | AK52: =IF(D52<>"",D52, "0") -> 0 | AL52: =IF(D52<>"",D52*K52, "0") -> 0
A53: =IF(OUT!C49="", "", OUT!C49) -> 754 | B53: =IF(OUT!A49="", "", OUT!A49) -> 92680 | C53: =IF(OUT!D49="", "", OUT!D49) -> O | E53: =IF(OUT!E49="", "", OUT!E49) -> 72 TRAY | F53: =IF(OUT!AE49="NEW", "✷", "") | G53: =IF(OUT!B49="", "", OUT!B49) -> FOLIAGE MACODES PETOLA JEWEL ORCHID GREEN | H53: =IF(AND($K$3=1,$K$4="N"),P53,IF(AND($K$3=2,$K$4="N"),R53,IF(AND($K$3=3,$K$4="N"),T53,IF(AND($K$3=4,$K$4="N"),V53,IF(AND($K$3=5,$K$4="N"),X53,IF(AND($K$3=1,$K$4="Y"),Z53,IF(AND($K$3=2,$K$4="Y"),AB53,IF(AND($K$3=3,$K$4="Y"),AD53,IF(AND($K$3=4,$K$4="Y"),AF53,IF(AND($K$3=5,$K$4="Y"),AH53,"FALSE")))))))))) -> 4.286 | I53: =IF(AND($K$3=1,$K$4="N"),Q53,IF(AND($K$3=2,$K$4="N"),S53,IF(AND($K$3=3,$K$4="N"),U53,IF(AND($K$3=4,$K$4="N"),W53,IF(AND($K$3=5,$K$4="N"),Y53,IF(AND($K$3=1,$K$4="Y"),AA53,IF(AND($K$3=2,$K$4="Y"),AC53,IF(AND($K$3=3,$K$4="Y"),AE53,IF(AND($K$3=4,$K$4="Y"),AG53,IF(AND($K$3=5,$K$4="Y"),AI53,"FALSE")))))))))) -> 308.59 | J53: =IF(OUT!F49="", "", OUT!F49) | K53: =IF(OUT!P49="", "", OUT!P49) -> 72 | L53: =IF(OUT!AE49="", "", OUT!AE49) | M53: =IF(OUT!AG49="", "", OUT!AG49) | N53: =IF(OUT!AQ49="", "", OUT!AQ49) | O53: =IF(OUT!BO49="", "", OUT!BO49) -> T3 | P53: =IF(OUT!N49="", "", OUT!N49) -> 4.286 | Q53: =IF(OUT!O49="", "", OUT!O49) -> 308.59 | R53: =IF(PPG!H49="", "", PPG!H49) | S53: =IF(PPG!I49="", "", PPG!I49) | T53: =IF(PPG!J49="", "", PPG!J49) | U53: =IF(PPG!K49="", "", PPG!K49) | V53: =IF(PPG!L49="", "", PPG!L49) | W53: =IF(PPG!M49="", "", PPG!M49) | X53: =IF(PPG!N49="", "", PPG!N49) | Y53: =IF(PPG!O49="", "", PPG!O49) | Z53: =IF(PPG!Q49="", "", PPG!Q49) | AA53: =IF(PPG!R49="", "", PPG!R49) | AB53: =IF(PPG!S49="", "", PPG!S49) | AC53: =IF(PPG!T49="", "", PPG!T49) | AD53: =IF(PPG!U49="", "", PPG!U49) | AE53: =IF(PPG!V49="", "", PPG!V49) | AF53: =IF(PPG!W49="", "", PPG!W49) | AG53: =IF(PPG!X49="", "", PPG!X49) | ... AI53: =IF(PPG!Z49="", "", PPG!Z49) | AJ53: =IF(D53<>"",D53*I53, "0.00") -> 0.00 | AK53: =IF(D53<>"",D53, "0") -> 0 | AL53: =IF(D53<>"",D53*K53, "0") -> 0
A54: =IF(OUT!C15="", "", OUT!C15) -> 754 | B54: =IF(OUT!A15="", "", OUT!A15) -> 13496 | C54: =IF(OUT!D15="", "", OUT!D15) -> O | E54: =IF(OUT!E15="", "", OUT!E15) -> 72 TRAY | F54: =IF(OUT!AE15="NEW", "✷", "") -> ✷ | G54: =IF(OUT!B15="", "", OUT!B15) -> FOLIAGE PHILODENDRON ATOM | H54: =IF(AND($K$3=1,$K$4="N"),P54,IF(AND($K$3=2,$K$4="N"),R54,IF(AND($K$3=3,$K$4="N"),T54,IF(AND($K$3=4,$K$4="N"),V54,IF(AND($K$3=5,$K$4="N"),X54,IF(AND($K$3=1,$K$4="Y"),Z54,IF(AND($K$3=2,$K$4="Y"),AB54,IF(AND($K$3=3,$K$4="Y"),AD54,IF(AND($K$3=4,$K$4="Y"),AF54,IF(AND($K$3=5,$K$4="Y"),AH54,"FALSE")))))))))) -> 1.783 | I54: =IF(AND($K$3=1,$K$4="N"),Q54,IF(AND($K$3=2,$K$4="N"),S54,IF(AND($K$3=3,$K$4="N"),U54,IF(AND($K$3=4,$K$4="N"),W54,IF(AND($K$3=5,$K$4="N"),Y54,IF(AND($K$3=1,$K$4="Y"),AA54,IF(AND($K$3=2,$K$4="Y"),AC54,IF(AND($K$3=3,$K$4="Y"),AE54,IF(AND($K$3=4,$K$4="Y"),AG54,IF(AND($K$3=5,$K$4="Y"),AI54,"FALSE")))))))))) -> 128.37 | J54: =IF(OUT!F15="", "", OUT!F15) | K54: =IF(OUT!P15="", "", OUT!P15) -> 72 | L54: =IF(OUT!AE15="", "", OUT!AE15) -> NEW | M54: =IF(OUT!AG15="", "", OUT!AG15) | N54: =IF(OUT!AQ15="", "", OUT!AQ15) | O54: =IF(OUT!BO15="", "", OUT!BO15) -> T3 | P54: =IF(OUT!N15="", "", OUT!N15) -> 1.783 | Q54: =IF(OUT!O15="", "", OUT!O15) -> 128.37 | R54: =IF(PPG!H15="", "", PPG!H15) | S54: =IF(PPG!I15="", "", PPG!I15) | T54: =IF(PPG!J15="", "", PPG!J15) | U54: =IF(PPG!K15="", "", PPG!K15) | V54: =IF(PPG!L15="", "", PPG!L15) | W54: =IF(PPG!M15="", "", PPG!M15) | X54: =IF(PPG!N15="", "", PPG!N15) | Y54: =IF(PPG!O15="", "", PPG!O15) | Z54: =IF(PPG!Q15="", "", PPG!Q15) | AA54: =IF(PPG!R15="", "", PPG!R15) | AB54: =IF(PPG!S15="", "", PPG!S15) | AC54: =IF(PPG!T15="", "", PPG!T15) | AD54: =IF(PPG!U15="", "", PPG!U15) | AE54: =IF(PPG!V15="", "", PPG!V15) | AF54: =IF(PPG!W15="", "", PPG!W15) | AG54: =IF(PPG!X15="", "", PPG!X15) | ... AI54: =IF(PPG!Z15="", "", PPG!Z15) | AJ54: =IF(D54<>"",D54*I54, "0.00") -> 0.00 | AK54: =IF(D54<>"",D54, "0") -> 0 | AL54: =IF(D54<>"",D54*K54, "0") -> 0
A55: =IF(OUT!C67="", "", OUT!C67) -> 754 | B55: =IF(OUT!A67="", "", OUT!A67) -> 93640 | C55: =IF(OUT!D67="", "", OUT!D67) -> O | E55: =IF(OUT!E67="", "", OUT!E67) -> 72 TRAY | F55: =IF(OUT!AE67="NEW", "✷", "") | G55: =IF(OUT!B67="", "", OUT!B67) -> FOLIAGE PHILODENDRON SELLOUM HOPE | H55: =IF(AND($K$3=1,$K$4="N"),P55,IF(AND($K$3=2,$K$4="N"),R55,IF(AND($K$3=3,$K$4="N"),T55,IF(AND($K$3=4,$K$4="N"),V55,IF(AND($K$3=5,$K$4="N"),X55,IF(AND($K$3=1,$K$4="Y"),Z55,IF(AND($K$3=2,$K$4="Y"),AB55,IF(AND($K$3=3,$K$4="Y"),AD55,IF(AND($K$3=4,$K$4="Y"),AF55,IF(AND($K$3=5,$K$4="Y"),AH55,"FALSE")))))))))) -> 1.052 | I55: =IF(AND($K$3=1,$K$4="N"),Q55,IF(AND($K$3=2,$K$4="N"),S55,IF(AND($K$3=3,$K$4="N"),U55,IF(AND($K$3=4,$K$4="N"),W55,IF(AND($K$3=5,$K$4="N"),Y55,IF(AND($K$3=1,$K$4="Y"),AA55,IF(AND($K$3=2,$K$4="Y"),AC55,IF(AND($K$3=3,$K$4="Y"),AE55,IF(AND($K$3=4,$K$4="Y"),AG55,IF(AND($K$3=5,$K$4="Y"),AI55,"FALSE")))))))))) -> 75.74 | J55: =IF(OUT!F67="", "", OUT!F67) | K55: =IF(OUT!P67="", "", OUT!P67) -> 72 | L55: =IF(OUT!AE67="", "", OUT!AE67) | M55: =IF(OUT!AG67="", "", OUT!AG67) | N55: =IF(OUT!AQ67="", "", OUT!AQ67) | O55: =IF(OUT!BO67="", "", OUT!BO67) -> T3 | P55: =IF(OUT!N67="", "", OUT!N67) -> 1.052 | Q55: =IF(OUT!O67="", "", OUT!O67) -> 75.74 | R55: =IF(PPG!H67="", "", PPG!H67) | S55: =IF(PPG!I67="", "", PPG!I67) | T55: =IF(PPG!J67="", "", PPG!J67) | U55: =IF(PPG!K67="", "", PPG!K67) | V55: =IF(PPG!L67="", "", PPG!L67) | W55: =IF(PPG!M67="", "", PPG!M67) | X55: =IF(PPG!N67="", "", PPG!N67) | Y55: =IF(PPG!O67="", "", PPG!O67) | Z55: =IF(PPG!Q67="", "", PPG!Q67) | AA55: =IF(PPG!R67="", "", PPG!R67) | AB55: =IF(PPG!S67="", "", PPG!S67) | AC55: =IF(PPG!T67="", "", PPG!T67) | AD55: =IF(PPG!U67="", "", PPG!U67) | AE55: =IF(PPG!V67="", "", PPG!V67) | AF55: =IF(PPG!W67="", "", PPG!W67) | AG55: =IF(PPG!X67="", "", PPG!X67) | ... AI55: =IF(PPG!Z67="", "", PPG!Z67) | AJ55: =IF(D55<>"",D55*I55, "0.00") -> 0.00 | AK55: =IF(D55<>"",D55, "0") -> 0 | AL55: =IF(D55<>"",D55*K55, "0") -> 0
A56: =IF(OUT!C68="", "", OUT!C68) -> 754 | B56: =IF(OUT!A68="", "", OUT!A68) -> 93641 | C56: =IF(OUT!D68="", "", OUT!D68) -> O | E56: =IF(OUT!E68="", "", OUT!E68) -> 72 TRAY | F56: =IF(OUT!AE68="NEW", "✷", "") | G56: =IF(OUT!B68="", "", OUT!B68) -> FOLIAGE PHILODENDRON SELLOUM MCCOLLEYS FINALE | H56: =IF(AND($K$3=1,$K$4="N"),P56,IF(AND($K$3=2,$K$4="N"),R56,IF(AND($K$3=3,$K$4="N"),T56,IF(AND($K$3=4,$K$4="N"),V56,IF(AND($K$3=5,$K$4="N"),X56,IF(AND($K$3=1,$K$4="Y"),Z56,IF(AND($K$3=2,$K$4="Y"),AB56,IF(AND($K$3=3,$K$4="Y"),AD56,IF(AND($K$3=4,$K$4="Y"),AF56,IF(AND($K$3=5,$K$4="Y"),AH56,"FALSE")))))))))) -> 1.2 | I56: =IF(AND($K$3=1,$K$4="N"),Q56,IF(AND($K$3=2,$K$4="N"),S56,IF(AND($K$3=3,$K$4="N"),U56,IF(AND($K$3=4,$K$4="N"),W56,IF(AND($K$3=5,$K$4="N"),Y56,IF(AND($K$3=1,$K$4="Y"),AA56,IF(AND($K$3=2,$K$4="Y"),AC56,IF(AND($K$3=3,$K$4="Y"),AE56,IF(AND($K$3=4,$K$4="Y"),AG56,IF(AND($K$3=5,$K$4="Y"),AI56,"FALSE")))))))))) -> 86.4 | J56: =IF(OUT!F68="", "", OUT!F68) | K56: =IF(OUT!P68="", "", OUT!P68) -> 72 | L56: =IF(OUT!AE68="", "", OUT!AE68) | M56: =IF(OUT!AG68="", "", OUT!AG68) | N56: =IF(OUT!AQ68="", "", OUT!AQ68) | O56: =IF(OUT!BO68="", "", OUT!BO68) -> T3 | P56: =IF(OUT!N68="", "", OUT!N68) -> 1.2 | Q56: =IF(OUT!O68="", "", OUT!O68) -> 86.4 | R56: =IF(PPG!H68="", "", PPG!H68) | S56: =IF(PPG!I68="", "", PPG!I68) | T56: =IF(PPG!J68="", "", PPG!J68) | U56: =IF(PPG!K68="", "", PPG!K68) | V56: =IF(PPG!L68="", "", PPG!L68) | W56: =IF(PPG!M68="", "", PPG!M68) | X56: =IF(PPG!N68="", "", PPG!N68) | Y56: =IF(PPG!O68="", "", PPG!O68) | Z56: =IF(PPG!Q68="", "", PPG!Q68) | AA56: =IF(PPG!R68="", "", PPG!R68) | AB56: =IF(PPG!S68="", "", PPG!S68) | AC56: =IF(PPG!T68="", "", PPG!T68) | AD56: =IF(PPG!U68="", "", PPG!U68) | AE56: =IF(PPG!V68="", "", PPG!V68) | AF56: =IF(PPG!W68="", "", PPG!W68) | AG56: =IF(PPG!X68="", "", PPG!X68) | ... AI56: =IF(PPG!Z68="", "", PPG!Z68) | AJ56: =IF(D56<>"",D56*I56, "0.00") -> 0.00 | AK56: =IF(D56<>"",D56, "0") -> 0 | AL56: =IF(D56<>"",D56*K56, "0") -> 0
A57: =IF(OUT!C69="", "", OUT!C69) -> 754 | B57: =IF(OUT!A69="", "", OUT!A69) -> 93642 | C57: =IF(OUT!D69="", "", OUT!D69) -> O | E57: =IF(OUT!E69="", "", OUT!E69) -> 72 TRAY | F57: =IF(OUT!AE69="NEW", "✷", "") | G57: =IF(OUT!B69="", "", OUT!B69) -> FOLIAGE PHILODENDRON SELLOUM MOONLIGHT | H57: =IF(AND($K$3=1,$K$4="N"),P57,IF(AND($K$3=2,$K$4="N"),R57,IF(AND($K$3=3,$K$4="N"),T57,IF(AND($K$3=4,$K$4="N"),V57,IF(AND($K$3=5,$K$4="N"),X57,IF(AND($K$3=1,$K$4="Y"),Z57,IF(AND($K$3=2,$K$4="Y"),AB57,IF(AND($K$3=3,$K$4="Y"),AD57,IF(AND($K$3=4,$K$4="Y"),AF57,IF(AND($K$3=5,$K$4="Y"),AH57,"FALSE")))))))))) -> 1.2 | I57: =IF(AND($K$3=1,$K$4="N"),Q57,IF(AND($K$3=2,$K$4="N"),S57,IF(AND($K$3=3,$K$4="N"),U57,IF(AND($K$3=4,$K$4="N"),W57,IF(AND($K$3=5,$K$4="N"),Y57,IF(AND($K$3=1,$K$4="Y"),AA57,IF(AND($K$3=2,$K$4="Y"),AC57,IF(AND($K$3=3,$K$4="Y"),AE57,IF(AND($K$3=4,$K$4="Y"),AG57,IF(AND($K$3=5,$K$4="Y"),AI57,"FALSE")))))))))) -> 86.4 | J57: =IF(OUT!F69="", "", OUT!F69) | K57: =IF(OUT!P69="", "", OUT!P69) -> 72 | L57: =IF(OUT!AE69="", "", OUT!AE69) | M57: =IF(OUT!AG69="", "", OUT!AG69) | N57: =IF(OUT!AQ69="", "", OUT!AQ69) | O57: =IF(OUT!BO69="", "", OUT!BO69) -> T3 | P57: =IF(OUT!N69="", "", OUT!N69) -> 1.2 | Q57: =IF(OUT!O69="", "", OUT!O69) -> 86.4 | R57: =IF(PPG!H69="", "", PPG!H69) | S57: =IF(PPG!I69="", "", PPG!I69) | T57: =IF(PPG!J69="", "", PPG!J69) | U57: =IF(PPG!K69="", "", PPG!K69) | V57: =IF(PPG!L69="", "", PPG!L69) | W57: =IF(PPG!M69="", "", PPG!M69) | X57: =IF(PPG!N69="", "", PPG!N69) | Y57: =IF(PPG!O69="", "", PPG!O69) | Z57: =IF(PPG!Q69="", "", PPG!Q69) | AA57: =IF(PPG!R69="", "", PPG!R69) | AB57: =IF(PPG!S69="", "", PPG!S69) | AC57: =IF(PPG!T69="", "", PPG!T69) | AD57: =IF(PPG!U69="", "", PPG!U69) | AE57: =IF(PPG!V69="", "", PPG!V69) | AF57: =IF(PPG!W69="", "", PPG!W69) | AG57: =IF(PPG!X69="", "", PPG!X69) | ... AI57: =IF(PPG!Z69="", "", PPG!Z69) | AJ57: =IF(D57<>"",D57*I57, "0.00") -> 0.00 | AK57: =IF(D57<>"",D57, "0") -> 0 | AL57: =IF(D57<>"",D57*K57, "0") -> 0
A58: =IF(OUT!C70="", "", OUT!C70) -> 754 | B58: =IF(OUT!A70="", "", OUT!A70) -> 93643 | C58: =IF(OUT!D70="", "", OUT!D70) -> O | E58: =IF(OUT!E70="", "", OUT!E70) -> 72 TRAY | F58: =IF(OUT!AE70="NEW", "✷", "") | G58: =IF(OUT!B70="", "", OUT!B70) -> FOLIAGE PHILODENDRON SELLOUM PRINCE OF ORANGE | H58: =IF(AND($K$3=1,$K$4="N"),P58,IF(AND($K$3=2,$K$4="N"),R58,IF(AND($K$3=3,$K$4="N"),T58,IF(AND($K$3=4,$K$4="N"),V58,IF(AND($K$3=5,$K$4="N"),X58,IF(AND($K$3=1,$K$4="Y"),Z58,IF(AND($K$3=2,$K$4="Y"),AB58,IF(AND($K$3=3,$K$4="Y"),AD58,IF(AND($K$3=4,$K$4="Y"),AF58,IF(AND($K$3=5,$K$4="Y"),AH58,"FALSE")))))))))) -> 1.2 | I58: =IF(AND($K$3=1,$K$4="N"),Q58,IF(AND($K$3=2,$K$4="N"),S58,IF(AND($K$3=3,$K$4="N"),U58,IF(AND($K$3=4,$K$4="N"),W58,IF(AND($K$3=5,$K$4="N"),Y58,IF(AND($K$3=1,$K$4="Y"),AA58,IF(AND($K$3=2,$K$4="Y"),AC58,IF(AND($K$3=3,$K$4="Y"),AE58,IF(AND($K$3=4,$K$4="Y"),AG58,IF(AND($K$3=5,$K$4="Y"),AI58,"FALSE")))))))))) -> 86.4 | J58: =IF(OUT!F70="", "", OUT!F70) | K58: =IF(OUT!P70="", "", OUT!P70) -> 72 | L58: =IF(OUT!AE70="", "", OUT!AE70) | M58: =IF(OUT!AG70="", "", OUT!AG70) | N58: =IF(OUT!AQ70="", "", OUT!AQ70) | O58: =IF(OUT!BO70="", "", OUT!BO70) -> T3 | P58: =IF(OUT!N70="", "", OUT!N70) -> 1.2 | Q58: =IF(OUT!O70="", "", OUT!O70) -> 86.4 | R58: =IF(PPG!H70="", "", PPG!H70) | S58: =IF(PPG!I70="", "", PPG!I70) | T58: =IF(PPG!J70="", "", PPG!J70) | U58: =IF(PPG!K70="", "", PPG!K70) | V58: =IF(PPG!L70="", "", PPG!L70) | W58: =IF(PPG!M70="", "", PPG!M70) | X58: =IF(PPG!N70="", "", PPG!N70) | Y58: =IF(PPG!O70="", "", PPG!O70) | Z58: =IF(PPG!Q70="", "", PPG!Q70) | AA58: =IF(PPG!R70="", "", PPG!R70) | AB58: =IF(PPG!S70="", "", PPG!S70) | AC58: =IF(PPG!T70="", "", PPG!T70) | AD58: =IF(PPG!U70="", "", PPG!U70) | AE58: =IF(PPG!V70="", "", PPG!V70) | AF58: =IF(PPG!W70="", "", PPG!W70) | AG58: =IF(PPG!X70="", "", PPG!X70) | ... AI58: =IF(PPG!Z70="", "", PPG!Z70) | AJ58: =IF(D58<>"",D58*I58, "0.00") -> 0.00 | AK58: =IF(D58<>"",D58, "0") -> 0 | AL58: =IF(D58<>"",D58*K58, "0") -> 0
A59: =IF(OUT!C74="", "", OUT!C74) -> 754 | B59: =IF(OUT!A74="", "", OUT!A74) -> 95766 | C59: =IF(OUT!D74="", "", OUT!D74) -> O | E59: =IF(OUT!E74="", "", OUT!E74) -> 72 TRAY | F59: =IF(OUT!AE74="NEW", "✷", "") | G59: =IF(OUT!B74="", "", OUT!B74) -> GERANIUM SCENTED VAN LEENII | H59: =IF(AND($K$3=1,$K$4="N"),P59,IF(AND($K$3=2,$K$4="N"),R59,IF(AND($K$3=3,$K$4="N"),T59,IF(AND($K$3=4,$K$4="N"),V59,IF(AND($K$3=5,$K$4="N"),X59,IF(AND($K$3=1,$K$4="Y"),Z59,IF(AND($K$3=2,$K$4="Y"),AB59,IF(AND($K$3=3,$K$4="Y"),AD59,IF(AND($K$3=4,$K$4="Y"),AF59,IF(AND($K$3=5,$K$4="Y"),AH59,"FALSE")))))))))) -> 1.566 | I59: =IF(AND($K$3=1,$K$4="N"),Q59,IF(AND($K$3=2,$K$4="N"),S59,IF(AND($K$3=3,$K$4="N"),U59,IF(AND($K$3=4,$K$4="N"),W59,IF(AND($K$3=5,$K$4="N"),Y59,IF(AND($K$3=1,$K$4="Y"),AA59,IF(AND($K$3=2,$K$4="Y"),AC59,IF(AND($K$3=3,$K$4="Y"),AE59,IF(AND($K$3=4,$K$4="Y"),AG59,IF(AND($K$3=5,$K$4="Y"),AI59,"FALSE")))))))))) -> 112.75 | J59: =IF(OUT!F74="", "", OUT!F74) | K59: =IF(OUT!P74="", "", OUT!P74) -> 72 | L59: =IF(OUT!AE74="", "", OUT!AE74) | M59: =IF(OUT!AG74="", "", OUT!AG74) | N59: =IF(OUT!AQ74="", "", OUT!AQ74) | O59: =IF(OUT!BO74="", "", OUT!BO74) -> T3 | P59: =IF(OUT!N74="", "", OUT!N74) -> 1.566 | Q59: =IF(OUT!O74="", "", OUT!O74) -> 112.75 | R59: =IF(PPG!H74="", "", PPG!H74) | S59: =IF(PPG!I74="", "", PPG!I74) | T59: =IF(PPG!J74="", "", PPG!J74) | U59: =IF(PPG!K74="", "", PPG!K74) | V59: =IF(PPG!L74="", "", PPG!L74) | W59: =IF(PPG!M74="", "", PPG!M74) | X59: =IF(PPG!N74="", "", PPG!N74) | Y59: =IF(PPG!O74="", "", PPG!O74) | Z59: =IF(PPG!Q74="", "", PPG!Q74) | AA59: =IF(PPG!R74="", "", PPG!R74) | AB59: =IF(PPG!S74="", "", PPG!S74) | AC59: =IF(PPG!T74="", "", PPG!T74) | AD59: =IF(PPG!U74="", "", PPG!U74) | AE59: =IF(PPG!V74="", "", PPG!V74) | AF59: =IF(PPG!W74="", "", PPG!W74) | AG59: =IF(PPG!X74="", "", PPG!X74) | ... AI59: =IF(PPG!Z74="", "", PPG!Z74) | AJ59: =IF(D59<>"",D59*I59, "0.00") -> 0.00 | AK59: =IF(D59<>"",D59, "0") -> 0 | AL59: =IF(D59<>"",D59*K59, "0") -> 0
A60: =IF(OUT!C36="", "", OUT!C36) -> 754 | B60: =IF(OUT!A36="", "", OUT!A36) -> 76609 | C60: =IF(OUT!D36="", "", OUT!D36) -> F | E60: =IF(OUT!E36="", "", OUT!E36) -> 144 TRAY | F60: =IF(OUT!AE36="NEW", "✷", "") -> ✷ | G60: =IF(OUT!B36="", "", OUT!B36) -> GRASS CAREX PENSYLVANICA (OAK SEDGE) | H60: =IF(AND($K$3=1,$K$4="N"),P60,IF(AND($K$3=2,$K$4="N"),R60,IF(AND($K$3=3,$K$4="N"),T60,IF(AND($K$3=4,$K$4="N"),V60,IF(AND($K$3=5,$K$4="N"),X60,IF(AND($K$3=1,$K$4="Y"),Z60,IF(AND($K$3=2,$K$4="Y"),AB60,IF(AND($K$3=3,$K$4="Y"),AD60,IF(AND($K$3=4,$K$4="Y"),AF60,IF(AND($K$3=5,$K$4="Y"),AH60,"FALSE")))))))))) -> 1.129 | I60: =IF(AND($K$3=1,$K$4="N"),Q60,IF(AND($K$3=2,$K$4="N"),S60,IF(AND($K$3=3,$K$4="N"),U60,IF(AND($K$3=4,$K$4="N"),W60,IF(AND($K$3=5,$K$4="N"),Y60,IF(AND($K$3=1,$K$4="Y"),AA60,IF(AND($K$3=2,$K$4="Y"),AC60,IF(AND($K$3=3,$K$4="Y"),AE60,IF(AND($K$3=4,$K$4="Y"),AG60,IF(AND($K$3=5,$K$4="Y"),AI60,"FALSE")))))))))) -> 162.57 | J60: =IF(OUT!F36="", "", OUT!F36) | K60: =IF(OUT!P36="", "", OUT!P36) -> 144 | L60: =IF(OUT!AE36="", "", OUT!AE36) -> NEW | M60: =IF(OUT!AG36="", "", OUT!AG36) | N60: =IF(OUT!AQ36="", "", OUT!AQ36) | O60: =IF(OUT!BO36="", "", OUT!BO36) -> T3 | P60: =IF(OUT!N36="", "", OUT!N36) -> 1.129 | Q60: =IF(OUT!O36="", "", OUT!O36) -> 162.57 | R60: =IF(PPG!H36="", "", PPG!H36) | S60: =IF(PPG!I36="", "", PPG!I36) | T60: =IF(PPG!J36="", "", PPG!J36) | U60: =IF(PPG!K36="", "", PPG!K36) | V60: =IF(PPG!L36="", "", PPG!L36) | W60: =IF(PPG!M36="", "", PPG!M36) | X60: =IF(PPG!N36="", "", PPG!N36) | Y60: =IF(PPG!O36="", "", PPG!O36) | Z60: =IF(PPG!Q36="", "", PPG!Q36) | AA60: =IF(PPG!R36="", "", PPG!R36) | AB60: =IF(PPG!S36="", "", PPG!S36) | AC60: =IF(PPG!T36="", "", PPG!T36) | AD60: =IF(PPG!U36="", "", PPG!U36) | AE60: =IF(PPG!V36="", "", PPG!V36) | AF60: =IF(PPG!W36="", "", PPG!W36) | AG60: =IF(PPG!X36="", "", PPG!X36) | ... AI60: =IF(PPG!Z36="", "", PPG!Z36) | AJ60: =IF(D60<>"",D60*I60, "0.00") -> 0.00 | AK60: =IF(D60<>"",D60, "0") -> 0 | AL60: =IF(D60<>"",D60*K60, "0") -> 0
A61: =IF(OUT!C16="", "", OUT!C16) -> 754 | B61: =IF(OUT!A16="", "", OUT!A16) -> 30571 | C61: =IF(OUT!D16="", "", OUT!D16) -> O | E61: =IF(OUT!E16="", "", OUT!E16) -> 72 TRAY | F61: =IF(OUT!AE16="NEW", "✷", "") -> ✷ | G61: =IF(OUT!B16="", "", OUT!B16) -> GRASS MISCANTHUS SINENSIS ADAGIO (DWARF MAIDEN) | H61: =IF(AND($K$3=1,$K$4="N"),P61,IF(AND($K$3=2,$K$4="N"),R61,IF(AND($K$3=3,$K$4="N"),T61,IF(AND($K$3=4,$K$4="N"),V61,IF(AND($K$3=5,$K$4="N"),X61,IF(AND($K$3=1,$K$4="Y"),Z61,IF(AND($K$3=2,$K$4="Y"),AB61,IF(AND($K$3=3,$K$4="Y"),AD61,IF(AND($K$3=4,$K$4="Y"),AF61,IF(AND($K$3=5,$K$4="Y"),AH61,"FALSE")))))))))) -> 1.452 | I61: =IF(AND($K$3=1,$K$4="N"),Q61,IF(AND($K$3=2,$K$4="N"),S61,IF(AND($K$3=3,$K$4="N"),U61,IF(AND($K$3=4,$K$4="N"),W61,IF(AND($K$3=5,$K$4="N"),Y61,IF(AND($K$3=1,$K$4="Y"),AA61,IF(AND($K$3=2,$K$4="Y"),AC61,IF(AND($K$3=3,$K$4="Y"),AE61,IF(AND($K$3=4,$K$4="Y"),AG61,IF(AND($K$3=5,$K$4="Y"),AI61,"FALSE")))))))))) -> 104.54 | J61: =IF(OUT!F16="", "", OUT!F16) | K61: =IF(OUT!P16="", "", OUT!P16) -> 72 | L61: =IF(OUT!AE16="", "", OUT!AE16) -> NEW | M61: =IF(OUT!AG16="", "", OUT!AG16) | N61: =IF(OUT!AQ16="", "", OUT!AQ16) | O61: =IF(OUT!BO16="", "", OUT!BO16) -> T3 | P61: =IF(OUT!N16="", "", OUT!N16) -> 1.452 | Q61: =IF(OUT!O16="", "", OUT!O16) -> 104.54 | R61: =IF(PPG!H16="", "", PPG!H16) | S61: =IF(PPG!I16="", "", PPG!I16) | T61: =IF(PPG!J16="", "", PPG!J16) | U61: =IF(PPG!K16="", "", PPG!K16) | V61: =IF(PPG!L16="", "", PPG!L16) | W61: =IF(PPG!M16="", "", PPG!M16) | X61: =IF(PPG!N16="", "", PPG!N16) | Y61: =IF(PPG!O16="", "", PPG!O16) | Z61: =IF(PPG!Q16="", "", PPG!Q16) | AA61: =IF(PPG!R16="", "", PPG!R16) | AB61: =IF(PPG!S16="", "", PPG!S16) | AC61: =IF(PPG!T16="", "", PPG!T16) | AD61: =IF(PPG!U16="", "", PPG!U16) | AE61: =IF(PPG!V16="", "", PPG!V16) | AF61: =IF(PPG!W16="", "", PPG!W16) | AG61: =IF(PPG!X16="", "", PPG!X16) | ... AI61: =IF(PPG!Z16="", "", PPG!Z16) | AJ61: =IF(D61<>"",D61*I61, "0.00") -> 0.00 | AK61: =IF(D61<>"",D61, "0") -> 0 | AL61: =IF(D61<>"",D61*K61, "0") -> 0
A62: =IF(OUT!C21="", "", OUT!C21) -> 754 | B62: =IF(OUT!A21="", "", OUT!A21) -> 42216 | C62: =IF(OUT!D21="", "", OUT!D21) -> O | E62: =IF(OUT!E21="", "", OUT!E21) -> 72 TRAY | F62: =IF(OUT!AE21="NEW", "✷", "") | G62: =IF(OUT!B21="", "", OUT!B21) -> GRASS MUHLENBERGIA CAPILLARIS WHITE CLOUD | H62: =IF(AND($K$3=1,$K$4="N"),P62,IF(AND($K$3=2,$K$4="N"),R62,IF(AND($K$3=3,$K$4="N"),T62,IF(AND($K$3=4,$K$4="N"),V62,IF(AND($K$3=5,$K$4="N"),X62,IF(AND($K$3=1,$K$4="Y"),Z62,IF(AND($K$3=2,$K$4="Y"),AB62,IF(AND($K$3=3,$K$4="Y"),AD62,IF(AND($K$3=4,$K$4="Y"),AF62,IF(AND($K$3=5,$K$4="Y"),AH62,"FALSE")))))))))) -> 1.349 | I62: =IF(AND($K$3=1,$K$4="N"),Q62,IF(AND($K$3=2,$K$4="N"),S62,IF(AND($K$3=3,$K$4="N"),U62,IF(AND($K$3=4,$K$4="N"),W62,IF(AND($K$3=5,$K$4="N"),Y62,IF(AND($K$3=1,$K$4="Y"),AA62,IF(AND($K$3=2,$K$4="Y"),AC62,IF(AND($K$3=3,$K$4="Y"),AE62,IF(AND($K$3=4,$K$4="Y"),AG62,IF(AND($K$3=5,$K$4="Y"),AI62,"FALSE")))))))))) -> 97.12 | J62: =IF(OUT!F21="", "", OUT!F21) | K62: =IF(OUT!P21="", "", OUT!P21) -> 72 | L62: =IF(OUT!AE21="", "", OUT!AE21) | M62: =IF(OUT!AG21="", "", OUT!AG21) | N62: =IF(OUT!AQ21="", "", OUT!AQ21) | O62: =IF(OUT!BO21="", "", OUT!BO21) -> T3 | P62: =IF(OUT!N21="", "", OUT!N21) -> 1.349 | Q62: =IF(OUT!O21="", "", OUT!O21) -> 97.12 | R62: =IF(PPG!H21="", "", PPG!H21) | S62: =IF(PPG!I21="", "", PPG!I21) | T62: =IF(PPG!J21="", "", PPG!J21) | U62: =IF(PPG!K21="", "", PPG!K21) | V62: =IF(PPG!L21="", "", PPG!L21) | W62: =IF(PPG!M21="", "", PPG!M21) | X62: =IF(PPG!N21="", "", PPG!N21) | Y62: =IF(PPG!O21="", "", PPG!O21) | Z62: =IF(PPG!Q21="", "", PPG!Q21) | AA62: =IF(PPG!R21="", "", PPG!R21) | AB62: =IF(PPG!S21="", "", PPG!S21) | AC62: =IF(PPG!T21="", "", PPG!T21) | AD62: =IF(PPG!U21="", "", PPG!U21) | AE62: =IF(PPG!V21="", "", PPG!V21) | AF62: =IF(PPG!W21="", "", PPG!W21) | AG62: =IF(PPG!X21="", "", PPG!X21) | ... AI62: =IF(PPG!Z21="", "", PPG!Z21) | AJ62: =IF(D62<>"",D62*I62, "0.00") -> 0.00 | AK62: =IF(D62<>"",D62, "0") -> 0 | AL62: =IF(D62<>"",D62*K62, "0") -> 0
A63: =IF(OUT!C20="", "", OUT!C20) -> 754 | B63: =IF(OUT!A20="", "", OUT!A20) -> 42216 | C63: =IF(OUT!D20="", "", OUT!D20) -> F | E63: =IF(OUT!E20="", "", OUT!E20) -> 144 TRAY | F63: =IF(OUT!AE20="NEW", "✷", "") | G63: =IF(OUT!B20="", "", OUT!B20) -> GRASS MUHLENBERGIA CAPILLARIS WHITE CLOUD | H63: =IF(AND($K$3=1,$K$4="N"),P63,IF(AND($K$3=2,$K$4="N"),R63,IF(AND($K$3=3,$K$4="N"),T63,IF(AND($K$3=4,$K$4="N"),V63,IF(AND($K$3=5,$K$4="N"),X63,IF(AND($K$3=1,$K$4="Y"),Z63,IF(AND($K$3=2,$K$4="Y"),AB63,IF(AND($K$3=3,$K$4="Y"),AD63,IF(AND($K$3=4,$K$4="Y"),AF63,IF(AND($K$3=5,$K$4="Y"),AH63,"FALSE")))))))))) -> 1.215 | I63: =IF(AND($K$3=1,$K$4="N"),Q63,IF(AND($K$3=2,$K$4="N"),S63,IF(AND($K$3=3,$K$4="N"),U63,IF(AND($K$3=4,$K$4="N"),W63,IF(AND($K$3=5,$K$4="N"),Y63,IF(AND($K$3=1,$K$4="Y"),AA63,IF(AND($K$3=2,$K$4="Y"),AC63,IF(AND($K$3=3,$K$4="Y"),AE63,IF(AND($K$3=4,$K$4="Y"),AG63,IF(AND($K$3=5,$K$4="Y"),AI63,"FALSE")))))))))) -> 174.96 | J63: =IF(OUT!F20="", "", OUT!F20) | K63: =IF(OUT!P20="", "", OUT!P20) -> 144 | L63: =IF(OUT!AE20="", "", OUT!AE20) | M63: =IF(OUT!AG20="", "", OUT!AG20) | N63: =IF(OUT!AQ20="", "", OUT!AQ20) | O63: =IF(OUT!BO20="", "", OUT!BO20) -> T3 | P63: =IF(OUT!N20="", "", OUT!N20) -> 1.215 | Q63: =IF(OUT!O20="", "", OUT!O20) -> 174.96 | R63: =IF(PPG!H20="", "", PPG!H20) | S63: =IF(PPG!I20="", "", PPG!I20) | T63: =IF(PPG!J20="", "", PPG!J20) | U63: =IF(PPG!K20="", "", PPG!K20) | V63: =IF(PPG!L20="", "", PPG!L20) | W63: =IF(PPG!M20="", "", PPG!M20) | X63: =IF(PPG!N20="", "", PPG!N20) | Y63: =IF(PPG!O20="", "", PPG!O20) | Z63: =IF(PPG!Q20="", "", PPG!Q20) | AA63: =IF(PPG!R20="", "", PPG!R20) | AB63: =IF(PPG!S20="", "", PPG!S20) | AC63: =IF(PPG!T20="", "", PPG!T20) | AD63: =IF(PPG!U20="", "", PPG!U20) | AE63: =IF(PPG!V20="", "", PPG!V20) | AF63: =IF(PPG!W20="", "", PPG!W20) | AG63: =IF(PPG!X20="", "", PPG!X20) | ... AI63: =IF(PPG!Z20="", "", PPG!Z20) | AJ63: =IF(D63<>"",D63*I63, "0.00") -> 0.00 | AK63: =IF(D63<>"",D63, "0") -> 0 | AL63: =IF(D63<>"",D63*K63, "0") -> 0
A64: =IF(OUT!C17="", "", OUT!C17) -> 754 | B64: =IF(OUT!A17="", "", OUT!A17) -> 30594 | C64: =IF(OUT!D17="", "", OUT!D17) -> O | E64: =IF(OUT!E17="", "", OUT!E17) -> 72 TRAY | F64: =IF(OUT!AE17="NEW", "✷", "") -> ✷ | G64: =IF(OUT!B17="", "", OUT!B17) -> GRASS PENNISETUM ALOPECUROIDES HAMELN (DWARF FOUNTAIN) | H64: =IF(AND($K$3=1,$K$4="N"),P64,IF(AND($K$3=2,$K$4="N"),R64,IF(AND($K$3=3,$K$4="N"),T64,IF(AND($K$3=4,$K$4="N"),V64,IF(AND($K$3=5,$K$4="N"),X64,IF(AND($K$3=1,$K$4="Y"),Z64,IF(AND($K$3=2,$K$4="Y"),AB64,IF(AND($K$3=3,$K$4="Y"),AD64,IF(AND($K$3=4,$K$4="Y"),AF64,IF(AND($K$3=5,$K$4="Y"),AH64,"FALSE")))))))))) -> 1.452 | I64: =IF(AND($K$3=1,$K$4="N"),Q64,IF(AND($K$3=2,$K$4="N"),S64,IF(AND($K$3=3,$K$4="N"),U64,IF(AND($K$3=4,$K$4="N"),W64,IF(AND($K$3=5,$K$4="N"),Y64,IF(AND($K$3=1,$K$4="Y"),AA64,IF(AND($K$3=2,$K$4="Y"),AC64,IF(AND($K$3=3,$K$4="Y"),AE64,IF(AND($K$3=4,$K$4="Y"),AG64,IF(AND($K$3=5,$K$4="Y"),AI64,"FALSE")))))))))) -> 104.54 | J64: =IF(OUT!F17="", "", OUT!F17) | K64: =IF(OUT!P17="", "", OUT!P17) -> 72 | L64: =IF(OUT!AE17="", "", OUT!AE17) -> NEW | M64: =IF(OUT!AG17="", "", OUT!AG17) | N64: =IF(OUT!AQ17="", "", OUT!AQ17) | O64: =IF(OUT!BO17="", "", OUT!BO17) -> T3 | P64: =IF(OUT!N17="", "", OUT!N17) -> 1.452 | Q64: =IF(OUT!O17="", "", OUT!O17) -> 104.54 | R64: =IF(PPG!H17="", "", PPG!H17) | S64: =IF(PPG!I17="", "", PPG!I17) | T64: =IF(PPG!J17="", "", PPG!J17) | U64: =IF(PPG!K17="", "", PPG!K17) | V64: =IF(PPG!L17="", "", PPG!L17) | W64: =IF(PPG!M17="", "", PPG!M17) | X64: =IF(PPG!N17="", "", PPG!N17) | Y64: =IF(PPG!O17="", "", PPG!O17) | Z64: =IF(PPG!Q17="", "", PPG!Q17) | AA64: =IF(PPG!R17="", "", PPG!R17) | AB64: =IF(PPG!S17="", "", PPG!S17) | AC64: =IF(PPG!T17="", "", PPG!T17) | AD64: =IF(PPG!U17="", "", PPG!U17) | AE64: =IF(PPG!V17="", "", PPG!V17) | AF64: =IF(PPG!W17="", "", PPG!W17) | AG64: =IF(PPG!X17="", "", PPG!X17) | ... AI64: =IF(PPG!Z17="", "", PPG!Z17) | AJ64: =IF(D64<>"",D64*I64, "0.00") -> 0.00 | AK64: =IF(D64<>"",D64, "0") -> 0 | AL64: =IF(D64<>"",D64*K64, "0") -> 0
A65: =IF(OUT!C27="", "", OUT!C27) -> 754 | B65: =IF(OUT!A27="", "", OUT!A27) -> 53108 | C65: =IF(OUT!D27="", "", OUT!D27) -> F | E65: =IF(OUT!E27="", "", OUT!E27) -> 144 TRAY | F65: =IF(OUT!AE27="NEW", "✷", "") -> ✷ | G65: =IF(OUT!B27="", "", OUT!B27) -> GRASS SCHIZACHYRIUM SCOPARIUM THE BLUES | H65: =IF(AND($K$3=1,$K$4="N"),P65,IF(AND($K$3=2,$K$4="N"),R65,IF(AND($K$3=3,$K$4="N"),T65,IF(AND($K$3=4,$K$4="N"),V65,IF(AND($K$3=5,$K$4="N"),X65,IF(AND($K$3=1,$K$4="Y"),Z65,IF(AND($K$3=2,$K$4="Y"),AB65,IF(AND($K$3=3,$K$4="Y"),AD65,IF(AND($K$3=4,$K$4="Y"),AF65,IF(AND($K$3=5,$K$4="Y"),AH65,"FALSE")))))))))) -> 1.286 | I65: =IF(AND($K$3=1,$K$4="N"),Q65,IF(AND($K$3=2,$K$4="N"),S65,IF(AND($K$3=3,$K$4="N"),U65,IF(AND($K$3=4,$K$4="N"),W65,IF(AND($K$3=5,$K$4="N"),Y65,IF(AND($K$3=1,$K$4="Y"),AA65,IF(AND($K$3=2,$K$4="Y"),AC65,IF(AND($K$3=3,$K$4="Y"),AE65,IF(AND($K$3=4,$K$4="Y"),AG65,IF(AND($K$3=5,$K$4="Y"),AI65,"FALSE")))))))))) -> 185.18 | J65: =IF(OUT!F27="", "", OUT!F27) | K65: =IF(OUT!P27="", "", OUT!P27) -> 144 | L65: =IF(OUT!AE27="", "", OUT!AE27) -> NEW | M65: =IF(OUT!AG27="", "", OUT!AG27) | N65: =IF(OUT!AQ27="", "", OUT!AQ27) | O65: =IF(OUT!BO27="", "", OUT!BO27) -> T3 | P65: =IF(OUT!N27="", "", OUT!N27) -> 1.286 | Q65: =IF(OUT!O27="", "", OUT!O27) -> 185.18 | R65: =IF(PPG!H27="", "", PPG!H27) | S65: =IF(PPG!I27="", "", PPG!I27) | T65: =IF(PPG!J27="", "", PPG!J27) | U65: =IF(PPG!K27="", "", PPG!K27) | V65: =IF(PPG!L27="", "", PPG!L27) | W65: =IF(PPG!M27="", "", PPG!M27) | X65: =IF(PPG!N27="", "", PPG!N27) | Y65: =IF(PPG!O27="", "", PPG!O27) | Z65: =IF(PPG!Q27="", "", PPG!Q27) | AA65: =IF(PPG!R27="", "", PPG!R27) | AB65: =IF(PPG!S27="", "", PPG!S27) | AC65: =IF(PPG!T27="", "", PPG!T27) | AD65: =IF(PPG!U27="", "", PPG!U27) | AE65: =IF(PPG!V27="", "", PPG!V27) | AF65: =IF(PPG!W27="", "", PPG!W27) | AG65: =IF(PPG!X27="", "", PPG!X27) | ... AI65: =IF(PPG!Z27="", "", PPG!Z27) | AJ65: =IF(D65<>"",D65*I65, "0.00") -> 0.00 | AK65: =IF(D65<>"",D65, "0") -> 0 | AL65: =IF(D65<>"",D65*K65, "0") -> 0
A66: =IF(OUT!C35="", "", OUT!C35) -> 754 | B66: =IF(OUT!A35="", "", OUT!A35) -> 75034 | C66: =IF(OUT!D35="", "", OUT!D35) -> F | E66: =IF(OUT!E35="", "", OUT!E35) -> 144 TRAY | F66: =IF(OUT!AE35="NEW", "✷", "") | G66: =IF(OUT!B35="", "", OUT!B35) -> GRASS SPARTINA BAKERI (SAND CORD GRASS) | H66: =IF(AND($K$3=1,$K$4="N"),P66,IF(AND($K$3=2,$K$4="N"),R66,IF(AND($K$3=3,$K$4="N"),T66,IF(AND($K$3=4,$K$4="N"),V66,IF(AND($K$3=5,$K$4="N"),X66,IF(AND($K$3=1,$K$4="Y"),Z66,IF(AND($K$3=2,$K$4="Y"),AB66,IF(AND($K$3=3,$K$4="Y"),AD66,IF(AND($K$3=4,$K$4="Y"),AF66,IF(AND($K$3=5,$K$4="Y"),AH66,"FALSE")))))))))) -> 0.8 | I66: =IF(AND($K$3=1,$K$4="N"),Q66,IF(AND($K$3=2,$K$4="N"),S66,IF(AND($K$3=3,$K$4="N"),U66,IF(AND($K$3=4,$K$4="N"),W66,IF(AND($K$3=5,$K$4="N"),Y66,IF(AND($K$3=1,$K$4="Y"),AA66,IF(AND($K$3=2,$K$4="Y"),AC66,IF(AND($K$3=3,$K$4="Y"),AE66,IF(AND($K$3=4,$K$4="Y"),AG66,IF(AND($K$3=5,$K$4="Y"),AI66,"FALSE")))))))))) -> 115.2 | J66: =IF(OUT!F35="", "", OUT!F35) | K66: =IF(OUT!P35="", "", OUT!P35) -> 144 | L66: =IF(OUT!AE35="", "", OUT!AE35) | M66: =IF(OUT!AG35="", "", OUT!AG35) | N66: =IF(OUT!AQ35="", "", OUT!AQ35) | O66: =IF(OUT!BO35="", "", OUT!BO35) -> T3 | P66: =IF(OUT!N35="", "", OUT!N35) -> 0.8 | Q66: =IF(OUT!O35="", "", OUT!O35) -> 115.2 | R66: =IF(PPG!H35="", "", PPG!H35) | S66: =IF(PPG!I35="", "", PPG!I35) | T66: =IF(PPG!J35="", "", PPG!J35) | U66: =IF(PPG!K35="", "", PPG!K35) | V66: =IF(PPG!L35="", "", PPG!L35) | W66: =IF(PPG!M35="", "", PPG!M35) | X66: =IF(PPG!N35="", "", PPG!N35) | Y66: =IF(PPG!O35="", "", PPG!O35) | Z66: =IF(PPG!Q35="", "", PPG!Q35) | AA66: =IF(PPG!R35="", "", PPG!R35) | AB66: =IF(PPG!S35="", "", PPG!S35) | AC66: =IF(PPG!T35="", "", PPG!T35) | AD66: =IF(PPG!U35="", "", PPG!U35) | AE66: =IF(PPG!V35="", "", PPG!V35) | AF66: =IF(PPG!W35="", "", PPG!W35) | AG66: =IF(PPG!X35="", "", PPG!X35) | ... AI66: =IF(PPG!Z35="", "", PPG!Z35) | AJ66: =IF(D66<>"",D66*I66, "0.00") -> 0.00 | AK66: =IF(D66<>"",D66, "0") -> 0 | AL66: =IF(D66<>"",D66*K66, "0") -> 0
A67: =IF(OUT!C44="", "", OUT!C44) -> 754 | B67: =IF(OUT!A44="", "", OUT!A44) -> 83866 | C67: =IF(OUT!D44="", "", OUT!D44) -> O | E67: =IF(OUT!E44="", "", OUT!E44) -> 72 TRAY | F67: =IF(OUT!AE44="NEW", "✷", "") | G67: =IF(OUT!B44="", "", OUT!B44) -> IRIS NEOMARCIA CAERULEA REGINA | H67: =IF(AND($K$3=1,$K$4="N"),P67,IF(AND($K$3=2,$K$4="N"),R67,IF(AND($K$3=3,$K$4="N"),T67,IF(AND($K$3=4,$K$4="N"),V67,IF(AND($K$3=5,$K$4="N"),X67,IF(AND($K$3=1,$K$4="Y"),Z67,IF(AND($K$3=2,$K$4="Y"),AB67,IF(AND($K$3=3,$K$4="Y"),AD67,IF(AND($K$3=4,$K$4="Y"),AF67,IF(AND($K$3=5,$K$4="Y"),AH67,"FALSE")))))))))) -> 1.726 | I67: =IF(AND($K$3=1,$K$4="N"),Q67,IF(AND($K$3=2,$K$4="N"),S67,IF(AND($K$3=3,$K$4="N"),U67,IF(AND($K$3=4,$K$4="N"),W67,IF(AND($K$3=5,$K$4="N"),Y67,IF(AND($K$3=1,$K$4="Y"),AA67,IF(AND($K$3=2,$K$4="Y"),AC67,IF(AND($K$3=3,$K$4="Y"),AE67,IF(AND($K$3=4,$K$4="Y"),AG67,IF(AND($K$3=5,$K$4="Y"),AI67,"FALSE")))))))))) -> 124.27 | J67: =IF(OUT!F44="", "", OUT!F44) | K67: =IF(OUT!P44="", "", OUT!P44) -> 72 | L67: =IF(OUT!AE44="", "", OUT!AE44) | M67: =IF(OUT!AG44="", "", OUT!AG44) | N67: =IF(OUT!AQ44="", "", OUT!AQ44) | O67: =IF(OUT!BO44="", "", OUT!BO44) -> T3 | P67: =IF(OUT!N44="", "", OUT!N44) -> 1.726 | Q67: =IF(OUT!O44="", "", OUT!O44) -> 124.27 | R67: =IF(PPG!H44="", "", PPG!H44) | S67: =IF(PPG!I44="", "", PPG!I44) | T67: =IF(PPG!J44="", "", PPG!J44) | U67: =IF(PPG!K44="", "", PPG!K44) | V67: =IF(PPG!L44="", "", PPG!L44) | W67: =IF(PPG!M44="", "", PPG!M44) | X67: =IF(PPG!N44="", "", PPG!N44) | Y67: =IF(PPG!O44="", "", PPG!O44) | Z67: =IF(PPG!Q44="", "", PPG!Q44) | AA67: =IF(PPG!R44="", "", PPG!R44) | AB67: =IF(PPG!S44="", "", PPG!S44) | AC67: =IF(PPG!T44="", "", PPG!T44) | AD67: =IF(PPG!U44="", "", PPG!U44) | AE67: =IF(PPG!V44="", "", PPG!V44) | AF67: =IF(PPG!W44="", "", PPG!W44) | AG67: =IF(PPG!X44="", "", PPG!X44) | ... AI67: =IF(PPG!Z44="", "", PPG!Z44) | AJ67: =IF(D67<>"",D67*I67, "0.00") -> 0.00 | AK67: =IF(D67<>"",D67, "0") -> 0 | AL67: =IF(D67<>"",D67*K67, "0") -> 0
A68: =IF(OUT!C43="", "", OUT!C43) -> 754 | B68: =IF(OUT!A43="", "", OUT!A43) -> 83823 | C68: =IF(OUT!D43="", "", OUT!D43) -> O | E68: =IF(OUT!E43="", "", OUT!E43) -> 72 TRAY | F68: =IF(OUT!AE43="NEW", "✷", "") | G68: =IF(OUT!B43="", "", OUT!B43) -> MUSA BANANA ENSETE MAURELII RED ABYSSINIAN BANANA | H68: =IF(AND($K$3=1,$K$4="N"),P68,IF(AND($K$3=2,$K$4="N"),R68,IF(AND($K$3=3,$K$4="N"),T68,IF(AND($K$3=4,$K$4="N"),V68,IF(AND($K$3=5,$K$4="N"),X68,IF(AND($K$3=1,$K$4="Y"),Z68,IF(AND($K$3=2,$K$4="Y"),AB68,IF(AND($K$3=3,$K$4="Y"),AD68,IF(AND($K$3=4,$K$4="Y"),AF68,IF(AND($K$3=5,$K$4="Y"),AH68,"FALSE")))))))))) -> 2.332 | I68: =IF(AND($K$3=1,$K$4="N"),Q68,IF(AND($K$3=2,$K$4="N"),S68,IF(AND($K$3=3,$K$4="N"),U68,IF(AND($K$3=4,$K$4="N"),W68,IF(AND($K$3=5,$K$4="N"),Y68,IF(AND($K$3=1,$K$4="Y"),AA68,IF(AND($K$3=2,$K$4="Y"),AC68,IF(AND($K$3=3,$K$4="Y"),AE68,IF(AND($K$3=4,$K$4="Y"),AG68,IF(AND($K$3=5,$K$4="Y"),AI68,"FALSE")))))))))) -> 167.9 | J68: =IF(OUT!F43="", "", OUT!F43) | K68: =IF(OUT!P43="", "", OUT!P43) -> 72 | L68: =IF(OUT!AE43="", "", OUT!AE43) | M68: =IF(OUT!AG43="", "", OUT!AG43) | N68: =IF(OUT!AQ43="", "", OUT!AQ43) | O68: =IF(OUT!BO43="", "", OUT!BO43) -> T3 | P68: =IF(OUT!N43="", "", OUT!N43) -> 2.332 | Q68: =IF(OUT!O43="", "", OUT!O43) -> 167.9 | R68: =IF(PPG!H43="", "", PPG!H43) | S68: =IF(PPG!I43="", "", PPG!I43) | T68: =IF(PPG!J43="", "", PPG!J43) | U68: =IF(PPG!K43="", "", PPG!K43) | V68: =IF(PPG!L43="", "", PPG!L43) | W68: =IF(PPG!M43="", "", PPG!M43) | X68: =IF(PPG!N43="", "", PPG!N43) | Y68: =IF(PPG!O43="", "", PPG!O43) | Z68: =IF(PPG!Q43="", "", PPG!Q43) | AA68: =IF(PPG!R43="", "", PPG!R43) | AB68: =IF(PPG!S43="", "", PPG!S43) | AC68: =IF(PPG!T43="", "", PPG!T43) | AD68: =IF(PPG!U43="", "", PPG!U43) | AE68: =IF(PPG!V43="", "", PPG!V43) | AF68: =IF(PPG!W43="", "", PPG!W43) | AG68: =IF(PPG!X43="", "", PPG!X43) | ... AI68: =IF(PPG!Z43="", "", PPG!Z43) | AJ68: =IF(D68<>"",D68*I68, "0.00") -> 0.00 | AK68: =IF(D68<>"",D68, "0") -> 0 | AL68: =IF(D68<>"",D68*K68, "0") -> 0
A69: =IF(OUT!C3="", "", OUT!C3) -> 754 | B69: =IF(OUT!A3="", "", OUT!A3) -> 12167 | C69: =IF(OUT!D3="", "", OUT!D3) -> O | E69: =IF(OUT!E3="", "", OUT!E3) -> 72 TRAY | F69: =IF(OUT!AE3="NEW", "✷", "") | G69: =IF(OUT!B3="", "", OUT!B3) -> PEPEROMIA ARGYREIA WATERMELON (SANDIA) | H69: =IF(AND($K$3=1,$K$4="N"),P69,IF(AND($K$3=2,$K$4="N"),R69,IF(AND($K$3=3,$K$4="N"),T69,IF(AND($K$3=4,$K$4="N"),V69,IF(AND($K$3=5,$K$4="N"),X69,IF(AND($K$3=1,$K$4="Y"),Z69,IF(AND($K$3=2,$K$4="Y"),AB69,IF(AND($K$3=3,$K$4="Y"),AD69,IF(AND($K$3=4,$K$4="Y"),AF69,IF(AND($K$3=5,$K$4="Y"),AH69,"FALSE")))))))))) -> 0.983 | I69: =IF(AND($K$3=1,$K$4="N"),Q69,IF(AND($K$3=2,$K$4="N"),S69,IF(AND($K$3=3,$K$4="N"),U69,IF(AND($K$3=4,$K$4="N"),W69,IF(AND($K$3=5,$K$4="N"),Y69,IF(AND($K$3=1,$K$4="Y"),AA69,IF(AND($K$3=2,$K$4="Y"),AC69,IF(AND($K$3=3,$K$4="Y"),AE69,IF(AND($K$3=4,$K$4="Y"),AG69,IF(AND($K$3=5,$K$4="Y"),AI69,"FALSE")))))))))) -> 70.77 | J69: =IF(OUT!F3="", "", OUT!F3) | K69: =IF(OUT!P3="", "", OUT!P3) -> 72 | L69: =IF(OUT!AE3="", "", OUT!AE3) | M69: =IF(OUT!AG3="", "", OUT!AG3) | N69: =IF(OUT!AQ3="", "", OUT!AQ3) | O69: =IF(OUT!BO3="", "", OUT!BO3) -> T3 | P69: =IF(OUT!N3="", "", OUT!N3) -> 0.983 | Q69: =IF(OUT!O3="", "", OUT!O3) -> 70.77 | R69: =IF(PPG!H3="", "", PPG!H3) | S69: =IF(PPG!I3="", "", PPG!I3) | T69: =IF(PPG!J3="", "", PPG!J3) | U69: =IF(PPG!K3="", "", PPG!K3) | V69: =IF(PPG!L3="", "", PPG!L3) | W69: =IF(PPG!M3="", "", PPG!M3) | X69: =IF(PPG!N3="", "", PPG!N3) | Y69: =IF(PPG!O3="", "", PPG!O3) | Z69: =IF(PPG!Q3="", "", PPG!Q3) | AA69: =IF(PPG!R3="", "", PPG!R3) | AB69: =IF(PPG!S3="", "", PPG!S3) | AC69: =IF(PPG!T3="", "", PPG!T3) | AD69: =IF(PPG!U3="", "", PPG!U3) | AE69: =IF(PPG!V3="", "", PPG!V3) | AF69: =IF(PPG!W3="", "", PPG!W3) | AG69: =IF(PPG!X3="", "", PPG!X3) | ... AI69: =IF(PPG!Z3="", "", PPG!Z3) | AJ69: =IF(D69<>"",D69*I69, "0.00") -> 0.00 | AK69: =IF(D69<>"",D69, "0") -> 0 | AL69: =IF(D69<>"",D69*K69, "0") -> 0
A70: =IF(OUT!C2="", "", OUT!C2) -> 754 | B70: =IF(OUT!A2="", "", OUT!A2) -> 11674 | C70: =IF(OUT!D2="", "", OUT!D2) -> O | E70: =IF(OUT!E2="", "", OUT!E2) -> 72 TRAY | F70: =IF(OUT!AE2="NEW", "✷", "") | G70: =IF(OUT!B2="", "", OUT!B2) -> PEPEROMIA CLUSIFOLIA GINNY | H70: =IF(AND($K$3=1,$K$4="N"),P70,IF(AND($K$3=2,$K$4="N"),R70,IF(AND($K$3=3,$K$4="N"),T70,IF(AND($K$3=4,$K$4="N"),V70,IF(AND($K$3=5,$K$4="N"),X70,IF(AND($K$3=1,$K$4="Y"),Z70,IF(AND($K$3=2,$K$4="Y"),AB70,IF(AND($K$3=3,$K$4="Y"),AD70,IF(AND($K$3=4,$K$4="Y"),AF70,IF(AND($K$3=5,$K$4="Y"),AH70,"FALSE")))))))))) -> 0.983 | I70: =IF(AND($K$3=1,$K$4="N"),Q70,IF(AND($K$3=2,$K$4="N"),S70,IF(AND($K$3=3,$K$4="N"),U70,IF(AND($K$3=4,$K$4="N"),W70,IF(AND($K$3=5,$K$4="N"),Y70,IF(AND($K$3=1,$K$4="Y"),AA70,IF(AND($K$3=2,$K$4="Y"),AC70,IF(AND($K$3=3,$K$4="Y"),AE70,IF(AND($K$3=4,$K$4="Y"),AG70,IF(AND($K$3=5,$K$4="Y"),AI70,"FALSE")))))))))) -> 70.77 | J70: =IF(OUT!F2="", "", OUT!F2) | K70: =IF(OUT!P2="", "", OUT!P2) -> 72 | L70: =IF(OUT!AE2="", "", OUT!AE2) | M70: =IF(OUT!AG2="", "", OUT!AG2) | N70: =IF(OUT!AQ2="", "", OUT!AQ2) | O70: =IF(OUT!BO2="", "", OUT!BO2) -> T3 | P70: =IF(OUT!N2="", "", OUT!N2) -> 0.983 | Q70: =IF(OUT!O2="", "", OUT!O2) -> 70.77 | R70: =IF(PPG!H2="", "", PPG!H2) | S70: =IF(PPG!I2="", "", PPG!I2) | T70: =IF(PPG!J2="", "", PPG!J2) | U70: =IF(PPG!K2="", "", PPG!K2) | V70: =IF(PPG!L2="", "", PPG!L2) | W70: =IF(PPG!M2="", "", PPG!M2) | X70: =IF(PPG!N2="", "", PPG!N2) | Y70: =IF(PPG!O2="", "", PPG!O2) | Z70: =IF(PPG!Q2="", "", PPG!Q2) | AA70: =IF(PPG!R2="", "", PPG!R2) | AB70: =IF(PPG!S2="", "", PPG!S2) | AC70: =IF(PPG!T2="", "", PPG!T2) | AD70: =IF(PPG!U2="", "", PPG!U2) | AE70: =IF(PPG!V2="", "", PPG!V2) | AF70: =IF(PPG!W2="", "", PPG!W2) | AG70: =IF(PPG!X2="", "", PPG!X2) | ... AI70: =IF(PPG!Z2="", "", PPG!Z2) | AJ70: =IF(D70<>"",D70*I70, "0.00") -> 0.00 | AK70: =IF(D70<>"",D70, "0") -> 0 | AL70: =IF(D70<>"",D70*K70, "0") -> 0
A71: =IF(OUT!C6="", "", OUT!C6) -> 754 | B71: =IF(OUT!A6="", "", OUT!A6) -> 12471 | C71: =IF(OUT!D6="", "", OUT!D6) -> O | E71: =IF(OUT!E6="", "", OUT!E6) -> 72 TRAY | F71: =IF(OUT!AE6="NEW", "✷", "") | G71: =IF(OUT!B6="", "", OUT!B6) -> PEPEROMIA CLUSIFOLIA RED EDGE | H71: =IF(AND($K$3=1,$K$4="N"),P71,IF(AND($K$3=2,$K$4="N"),R71,IF(AND($K$3=3,$K$4="N"),T71,IF(AND($K$3=4,$K$4="N"),V71,IF(AND($K$3=5,$K$4="N"),X71,IF(AND($K$3=1,$K$4="Y"),Z71,IF(AND($K$3=2,$K$4="Y"),AB71,IF(AND($K$3=3,$K$4="Y"),AD71,IF(AND($K$3=4,$K$4="Y"),AF71,IF(AND($K$3=5,$K$4="Y"),AH71,"FALSE")))))))))) -> 0.983 | I71: =IF(AND($K$3=1,$K$4="N"),Q71,IF(AND($K$3=2,$K$4="N"),S71,IF(AND($K$3=3,$K$4="N"),U71,IF(AND($K$3=4,$K$4="N"),W71,IF(AND($K$3=5,$K$4="N"),Y71,IF(AND($K$3=1,$K$4="Y"),AA71,IF(AND($K$3=2,$K$4="Y"),AC71,IF(AND($K$3=3,$K$4="Y"),AE71,IF(AND($K$3=4,$K$4="Y"),AG71,IF(AND($K$3=5,$K$4="Y"),AI71,"FALSE")))))))))) -> 70.77 | J71: =IF(OUT!F6="", "", OUT!F6) | K71: =IF(OUT!P6="", "", OUT!P6) -> 72 | L71: =IF(OUT!AE6="", "", OUT!AE6) | M71: =IF(OUT!AG6="", "", OUT!AG6) | N71: =IF(OUT!AQ6="", "", OUT!AQ6) | O71: =IF(OUT!BO6="", "", OUT!BO6) -> T3 | P71: =IF(OUT!N6="", "", OUT!N6) -> 0.983 | Q71: =IF(OUT!O6="", "", OUT!O6) -> 70.77 | R71: =IF(PPG!H6="", "", PPG!H6) | S71: =IF(PPG!I6="", "", PPG!I6) | T71: =IF(PPG!J6="", "", PPG!J6) | U71: =IF(PPG!K6="", "", PPG!K6) | V71: =IF(PPG!L6="", "", PPG!L6) | W71: =IF(PPG!M6="", "", PPG!M6) | X71: =IF(PPG!N6="", "", PPG!N6) | Y71: =IF(PPG!O6="", "", PPG!O6) | Z71: =IF(PPG!Q6="", "", PPG!Q6) | AA71: =IF(PPG!R6="", "", PPG!R6) | AB71: =IF(PPG!S6="", "", PPG!S6) | AC71: =IF(PPG!T6="", "", PPG!T6) | AD71: =IF(PPG!U6="", "", PPG!U6) | AE71: =IF(PPG!V6="", "", PPG!V6) | AF71: =IF(PPG!W6="", "", PPG!W6) | AG71: =IF(PPG!X6="", "", PPG!X6) | ... AI71: =IF(PPG!Z6="", "", PPG!Z6) | AJ71: =IF(D71<>"",D71*I71, "0.00") -> 0.00 | AK71: =IF(D71<>"",D71, "0") -> 0 | AL71: =IF(D71<>"",D71*K71, "0") -> 0
A72: =IF(OUT!C75="", "", OUT!C75) -> 754 | B72: =IF(OUT!A75="", "", OUT!A75) -> 96758 | C72: =IF(OUT!D75="", "", OUT!D75) -> O | E72: =IF(OUT!E75="", "", OUT!E75) -> 72 TRAY | F72: =IF(OUT!AE75="NEW", "✷", "") | G72: =IF(OUT!B75="", "", OUT!B75) -> PEPEROMIA ECUADOR | H72: =IF(AND($K$3=1,$K$4="N"),P72,IF(AND($K$3=2,$K$4="N"),R72,IF(AND($K$3=3,$K$4="N"),T72,IF(AND($K$3=4,$K$4="N"),V72,IF(AND($K$3=5,$K$4="N"),X72,IF(AND($K$3=1,$K$4="Y"),Z72,IF(AND($K$3=2,$K$4="Y"),AB72,IF(AND($K$3=3,$K$4="Y"),AD72,IF(AND($K$3=4,$K$4="Y"),AF72,IF(AND($K$3=5,$K$4="Y"),AH72,"FALSE")))))))))) -> 0.983 | I72: =IF(AND($K$3=1,$K$4="N"),Q72,IF(AND($K$3=2,$K$4="N"),S72,IF(AND($K$3=3,$K$4="N"),U72,IF(AND($K$3=4,$K$4="N"),W72,IF(AND($K$3=5,$K$4="N"),Y72,IF(AND($K$3=1,$K$4="Y"),AA72,IF(AND($K$3=2,$K$4="Y"),AC72,IF(AND($K$3=3,$K$4="Y"),AE72,IF(AND($K$3=4,$K$4="Y"),AG72,IF(AND($K$3=5,$K$4="Y"),AI72,"FALSE")))))))))) -> 70.77 | J72: =IF(OUT!F75="", "", OUT!F75) | K72: =IF(OUT!P75="", "", OUT!P75) -> 72 | L72: =IF(OUT!AE75="", "", OUT!AE75) | M72: =IF(OUT!AG75="", "", OUT!AG75) | N72: =IF(OUT!AQ75="", "", OUT!AQ75) | O72: =IF(OUT!BO75="", "", OUT!BO75) -> T3 | P72: =IF(OUT!N75="", "", OUT!N75) -> 0.983 | Q72: =IF(OUT!O75="", "", OUT!O75) -> 70.77 | R72: =IF(PPG!H75="", "", PPG!H75) | S72: =IF(PPG!I75="", "", PPG!I75) | T72: =IF(PPG!J75="", "", PPG!J75) | U72: =IF(PPG!K75="", "", PPG!K75) | V72: =IF(PPG!L75="", "", PPG!L75) | W72: =IF(PPG!M75="", "", PPG!M75) | X72: =IF(PPG!N75="", "", PPG!N75) | Y72: =IF(PPG!O75="", "", PPG!O75) | Z72: =IF(PPG!Q75="", "", PPG!Q75) | AA72: =IF(PPG!R75="", "", PPG!R75) | AB72: =IF(PPG!S75="", "", PPG!S75) | AC72: =IF(PPG!T75="", "", PPG!T75) | AD72: =IF(PPG!U75="", "", PPG!U75) | AE72: =IF(PPG!V75="", "", PPG!V75) | AF72: =IF(PPG!W75="", "", PPG!W75) | AG72: =IF(PPG!X75="", "", PPG!X75) | ... AI72: =IF(PPG!Z75="", "", PPG!Z75) | AJ72: =IF(D72<>"",D72*I72, "0.00") -> 0.00 | AK72: =IF(D72<>"",D72, "0") -> 0 | AL72: =IF(D72<>"",D72*K72, "0") -> 0
A73: =IF(OUT!C77="", "", OUT!C77) -> 754 | B73: =IF(OUT!A77="", "", OUT!A77) -> 96767 | C73: =IF(OUT!D77="", "", OUT!D77) -> O | E73: =IF(OUT!E77="", "", OUT!E77) -> 72 TRAY | F73: =IF(OUT!AE77="NEW", "✷", "") | G73: =IF(OUT!B77="", "", OUT!B77) -> PEPEROMIA RAINDROP | H73: =IF(AND($K$3=1,$K$4="N"),P73,IF(AND($K$3=2,$K$4="N"),R73,IF(AND($K$3=3,$K$4="N"),T73,IF(AND($K$3=4,$K$4="N"),V73,IF(AND($K$3=5,$K$4="N"),X73,IF(AND($K$3=1,$K$4="Y"),Z73,IF(AND($K$3=2,$K$4="Y"),AB73,IF(AND($K$3=3,$K$4="Y"),AD73,IF(AND($K$3=4,$K$4="Y"),AF73,IF(AND($K$3=5,$K$4="Y"),AH73,"FALSE")))))))))) -> 1.018 | I73: =IF(AND($K$3=1,$K$4="N"),Q73,IF(AND($K$3=2,$K$4="N"),S73,IF(AND($K$3=3,$K$4="N"),U73,IF(AND($K$3=4,$K$4="N"),W73,IF(AND($K$3=5,$K$4="N"),Y73,IF(AND($K$3=1,$K$4="Y"),AA73,IF(AND($K$3=2,$K$4="Y"),AC73,IF(AND($K$3=3,$K$4="Y"),AE73,IF(AND($K$3=4,$K$4="Y"),AG73,IF(AND($K$3=5,$K$4="Y"),AI73,"FALSE")))))))))) -> 73.29 | J73: =IF(OUT!F77="", "", OUT!F77) | K73: =IF(OUT!P77="", "", OUT!P77) -> 72 | L73: =IF(OUT!AE77="", "", OUT!AE77) | M73: =IF(OUT!AG77="", "", OUT!AG77) | N73: =IF(OUT!AQ77="", "", OUT!AQ77) | O73: =IF(OUT!BO77="", "", OUT!BO77) -> T3 | P73: =IF(OUT!N77="", "", OUT!N77) -> 1.018 | Q73: =IF(OUT!O77="", "", OUT!O77) -> 73.29 | R73: =IF(PPG!H77="", "", PPG!H77) | S73: =IF(PPG!I77="", "", PPG!I77) | T73: =IF(PPG!J77="", "", PPG!J77) | U73: =IF(PPG!K77="", "", PPG!K77) | V73: =IF(PPG!L77="", "", PPG!L77) | W73: =IF(PPG!M77="", "", PPG!M77) | X73: =IF(PPG!N77="", "", PPG!N77) | Y73: =IF(PPG!O77="", "", PPG!O77) | Z73: =IF(PPG!Q77="", "", PPG!Q77) | AA73: =IF(PPG!R77="", "", PPG!R77) | AB73: =IF(PPG!S77="", "", PPG!S77) | AC73: =IF(PPG!T77="", "", PPG!T77) | AD73: =IF(PPG!U77="", "", PPG!U77) | AE73: =IF(PPG!V77="", "", PPG!V77) | AF73: =IF(PPG!W77="", "", PPG!W77) | AG73: =IF(PPG!X77="", "", PPG!X77) | ... AI73: =IF(PPG!Z77="", "", PPG!Z77) | AJ73: =IF(D73<>"",D73*I73, "0.00") -> 0.00 | AK73: =IF(D73<>"",D73, "0") -> 0 | AL73: =IF(D73<>"",D73*K73, "0") -> 0
A74: =IF(OUT!C1="", "", OUT!C1) -> 754 | B74: =IF(OUT!A1="", "", OUT!A1) -> 11022 | C74: =IF(OUT!D1="", "", OUT!D1) -> O | E74: =IF(OUT!E1="", "", OUT!E1) -> 72 TRAY | F74: =IF(OUT!AE1="NEW", "✷", "") | G74: =IF(OUT!B1="", "", OUT!B1) -> PEPEROMIA STRING OF TURTLES | H74: =IF(AND($K$3=1,$K$4="N"),P74,IF(AND($K$3=2,$K$4="N"),R74,IF(AND($K$3=3,$K$4="N"),T74,IF(AND($K$3=4,$K$4="N"),V74,IF(AND($K$3=5,$K$4="N"),X74,IF(AND($K$3=1,$K$4="Y"),Z74,IF(AND($K$3=2,$K$4="Y"),AB74,IF(AND($K$3=3,$K$4="Y"),AD74,IF(AND($K$3=4,$K$4="Y"),AF74,IF(AND($K$3=5,$K$4="Y"),AH74,"FALSE")))))))))) -> 1.189 | I74: =IF(AND($K$3=1,$K$4="N"),Q74,IF(AND($K$3=2,$K$4="N"),S74,IF(AND($K$3=3,$K$4="N"),U74,IF(AND($K$3=4,$K$4="N"),W74,IF(AND($K$3=5,$K$4="N"),Y74,IF(AND($K$3=1,$K$4="Y"),AA74,IF(AND($K$3=2,$K$4="Y"),AC74,IF(AND($K$3=3,$K$4="Y"),AE74,IF(AND($K$3=4,$K$4="Y"),AG74,IF(AND($K$3=5,$K$4="Y"),AI74,"FALSE")))))))))) -> 85.6 | J74: =IF(OUT!F1="", "", OUT!F1) | K74: =IF(OUT!P1="", "", OUT!P1) -> 72 | L74: =IF(OUT!AE1="", "", OUT!AE1) | M74: =IF(OUT!AG1="", "", OUT!AG1) | N74: =IF(OUT!AQ1="", "", OUT!AQ1) | O74: =IF(OUT!BO1="", "", OUT!BO1) -> T3 | P74: =IF(OUT!N1="", "", OUT!N1) -> 1.189 | Q74: =IF(OUT!O1="", "", OUT!O1) -> 85.6 | R74: =IF(PPG!H1="", "", PPG!H1) | S74: =IF(PPG!I1="", "", PPG!I1) | T74: =IF(PPG!J1="", "", PPG!J1) | U74: =IF(PPG!K1="", "", PPG!K1) | V74: =IF(PPG!L1="", "", PPG!L1) | W74: =IF(PPG!M1="", "", PPG!M1) | X74: =IF(PPG!N1="", "", PPG!N1) | Y74: =IF(PPG!O1="", "", PPG!O1) | Z74: =IF(PPG!Q1="", "", PPG!Q1) | AA74: =IF(PPG!R1="", "", PPG!R1) | AB74: =IF(PPG!S1="", "", PPG!S1) | AC74: =IF(PPG!T1="", "", PPG!T1) | AD74: =IF(PPG!U1="", "", PPG!U1) | AE74: =IF(PPG!V1="", "", PPG!V1) | AF74: =IF(PPG!W1="", "", PPG!W1) | AG74: =IF(PPG!X1="", "", PPG!X1) | ... AI74: =IF(PPG!Z1="", "", PPG!Z1) | AJ74: =IF(D74<>"",D74*I74, "0.00") -> 0.00 | AK74: =IF(D74<>"",D74, "0") -> 0 | AL74: =IF(D74<>"",D74*K74, "0") -> 0
A75: =IF(OUT!C7="", "", OUT!C7) -> 754 | B75: =IF(OUT!A7="", "", OUT!A7) -> 12473 | C75: =IF(OUT!D7="", "", OUT!D7) -> O | E75: =IF(OUT!E7="", "", OUT!E7) -> 72 TRAY | F75: =IF(OUT!AE7="NEW", "✷", "") | G75: =IF(OUT!B7="", "", OUT!B7) -> SARRACENIA SCARLET BELLE | H75: =IF(AND($K$3=1,$K$4="N"),P75,IF(AND($K$3=2,$K$4="N"),R75,IF(AND($K$3=3,$K$4="N"),T75,IF(AND($K$3=4,$K$4="N"),V75,IF(AND($K$3=5,$K$4="N"),X75,IF(AND($K$3=1,$K$4="Y"),Z75,IF(AND($K$3=2,$K$4="Y"),AB75,IF(AND($K$3=3,$K$4="Y"),AD75,IF(AND($K$3=4,$K$4="Y"),AF75,IF(AND($K$3=5,$K$4="Y"),AH75,"FALSE")))))))))) -> 2.298 | I75: =IF(AND($K$3=1,$K$4="N"),Q75,IF(AND($K$3=2,$K$4="N"),S75,IF(AND($K$3=3,$K$4="N"),U75,IF(AND($K$3=4,$K$4="N"),W75,IF(AND($K$3=5,$K$4="N"),Y75,IF(AND($K$3=1,$K$4="Y"),AA75,IF(AND($K$3=2,$K$4="Y"),AC75,IF(AND($K$3=3,$K$4="Y"),AE75,IF(AND($K$3=4,$K$4="Y"),AG75,IF(AND($K$3=5,$K$4="Y"),AI75,"FALSE")))))))))) -> 165.45 | J75: =IF(OUT!F7="", "", OUT!F7) | K75: =IF(OUT!P7="", "", OUT!P7) -> 72 | L75: =IF(OUT!AE7="", "", OUT!AE7) | M75: =IF(OUT!AG7="", "", OUT!AG7) | N75: =IF(OUT!AQ7="", "", OUT!AQ7) | O75: =IF(OUT!BO7="", "", OUT!BO7) -> T3 | P75: =IF(OUT!N7="", "", OUT!N7) -> 2.298 | Q75: =IF(OUT!O7="", "", OUT!O7) -> 165.45 | R75: =IF(PPG!H7="", "", PPG!H7) | S75: =IF(PPG!I7="", "", PPG!I7) | T75: =IF(PPG!J7="", "", PPG!J7) | U75: =IF(PPG!K7="", "", PPG!K7) | V75: =IF(PPG!L7="", "", PPG!L7) | W75: =IF(PPG!M7="", "", PPG!M7) | X75: =IF(PPG!N7="", "", PPG!N7) | Y75: =IF(PPG!O7="", "", PPG!O7) | Z75: =IF(PPG!Q7="", "", PPG!Q7) | AA75: =IF(PPG!R7="", "", PPG!R7) | AB75: =IF(PPG!S7="", "", PPG!S7) | AC75: =IF(PPG!T7="", "", PPG!T7) | AD75: =IF(PPG!U7="", "", PPG!U7) | AE75: =IF(PPG!V7="", "", PPG!V7) | AF75: =IF(PPG!W7="", "", PPG!W7) | AG75: =IF(PPG!X7="", "", PPG!X7) | ... AI75: =IF(PPG!Z7="", "", PPG!Z7) | AJ75: =IF(D75<>"",D75*I75, "0.00") -> 0.00 | AK75: =IF(D75<>"",D75, "0") -> 0 | AL75: =IF(D75<>"",D75*K75, "0") -> 0
A76: =IF(OUT!C45="", "", OUT!C45) -> 754 | B76: =IF(OUT!A45="", "", OUT!A45) -> 83916 | C76: =IF(OUT!D45="", "", OUT!D45) -> O | E76: =IF(OUT!E45="", "", OUT!E45) -> 72 TRAY | F76: =IF(OUT!AE45="NEW", "✷", "") | G76: =IF(OUT!B45="", "", OUT!B45) -> SHRUB NERIUM OLEANDER PETITE PINK (Dwarf Pink Ice) | H76: =IF(AND($K$3=1,$K$4="N"),P76,IF(AND($K$3=2,$K$4="N"),R76,IF(AND($K$3=3,$K$4="N"),T76,IF(AND($K$3=4,$K$4="N"),V76,IF(AND($K$3=5,$K$4="N"),X76,IF(AND($K$3=1,$K$4="Y"),Z76,IF(AND($K$3=2,$K$4="Y"),AB76,IF(AND($K$3=3,$K$4="Y"),AD76,IF(AND($K$3=4,$K$4="Y"),AF76,IF(AND($K$3=5,$K$4="Y"),AH76,"FALSE")))))))))) -> 1.246 | I76: =IF(AND($K$3=1,$K$4="N"),Q76,IF(AND($K$3=2,$K$4="N"),S76,IF(AND($K$3=3,$K$4="N"),U76,IF(AND($K$3=4,$K$4="N"),W76,IF(AND($K$3=5,$K$4="N"),Y76,IF(AND($K$3=1,$K$4="Y"),AA76,IF(AND($K$3=2,$K$4="Y"),AC76,IF(AND($K$3=3,$K$4="Y"),AE76,IF(AND($K$3=4,$K$4="Y"),AG76,IF(AND($K$3=5,$K$4="Y"),AI76,"FALSE")))))))))) -> 89.71 | J76: =IF(OUT!F45="", "", OUT!F45) | K76: =IF(OUT!P45="", "", OUT!P45) -> 72 | L76: =IF(OUT!AE45="", "", OUT!AE45) | M76: =IF(OUT!AG45="", "", OUT!AG45) | N76: =IF(OUT!AQ45="", "", OUT!AQ45) | O76: =IF(OUT!BO45="", "", OUT!BO45) -> T3 | P76: =IF(OUT!N45="", "", OUT!N45) -> 1.246 | Q76: =IF(OUT!O45="", "", OUT!O45) -> 89.71 | R76: =IF(PPG!H45="", "", PPG!H45) | S76: =IF(PPG!I45="", "", PPG!I45) | T76: =IF(PPG!J45="", "", PPG!J45) | U76: =IF(PPG!K45="", "", PPG!K45) | V76: =IF(PPG!L45="", "", PPG!L45) | W76: =IF(PPG!M45="", "", PPG!M45) | X76: =IF(PPG!N45="", "", PPG!N45) | Y76: =IF(PPG!O45="", "", PPG!O45) | Z76: =IF(PPG!Q45="", "", PPG!Q45) | AA76: =IF(PPG!R45="", "", PPG!R45) | AB76: =IF(PPG!S45="", "", PPG!S45) | AC76: =IF(PPG!T45="", "", PPG!T45) | AD76: =IF(PPG!U45="", "", PPG!U45) | AE76: =IF(PPG!V45="", "", PPG!V45) | AF76: =IF(PPG!W45="", "", PPG!W45) | AG76: =IF(PPG!X45="", "", PPG!X45) | ... AI76: =IF(PPG!Z45="", "", PPG!Z45) | AJ76: =IF(D76<>"",D76*I76, "0.00") -> 0.00 | AK76: =IF(D76<>"",D76, "0") -> 0 | AL76: =IF(D76<>"",D76*K76, "0") -> 0
A77: =IF(OUT!C4="", "", OUT!C4) -> 754 | B77: =IF(OUT!A4="", "", OUT!A4) -> 12170 | C77: =IF(OUT!D4="", "", OUT!D4) -> O | E77: =IF(OUT!E4="", "", OUT!E4) -> 72 TRAY | F77: =IF(OUT!AE4="NEW", "✷", "") -> ✷ | G77: =IF(OUT!B4="", "", OUT!B4) -> SUCCULENT AGAVE BLUE GLOW | H77: =IF(AND($K$3=1,$K$4="N"),P77,IF(AND($K$3=2,$K$4="N"),R77,IF(AND($K$3=3,$K$4="N"),T77,IF(AND($K$3=4,$K$4="N"),V77,IF(AND($K$3=5,$K$4="N"),X77,IF(AND($K$3=1,$K$4="Y"),Z77,IF(AND($K$3=2,$K$4="Y"),AB77,IF(AND($K$3=3,$K$4="Y"),AD77,IF(AND($K$3=4,$K$4="Y"),AF77,IF(AND($K$3=5,$K$4="Y"),AH77,"FALSE")))))))))) -> 2.298 | I77: =IF(AND($K$3=1,$K$4="N"),Q77,IF(AND($K$3=2,$K$4="N"),S77,IF(AND($K$3=3,$K$4="N"),U77,IF(AND($K$3=4,$K$4="N"),W77,IF(AND($K$3=5,$K$4="N"),Y77,IF(AND($K$3=1,$K$4="Y"),AA77,IF(AND($K$3=2,$K$4="Y"),AC77,IF(AND($K$3=3,$K$4="Y"),AE77,IF(AND($K$3=4,$K$4="Y"),AG77,IF(AND($K$3=5,$K$4="Y"),AI77,"FALSE")))))))))) -> 165.45 | J77: =IF(OUT!F4="", "", OUT!F4) | K77: =IF(OUT!P4="", "", OUT!P4) -> 72 | L77: =IF(OUT!AE4="", "", OUT!AE4) -> NEW | M77: =IF(OUT!AG4="", "", OUT!AG4) | N77: =IF(OUT!AQ4="", "", OUT!AQ4) | O77: =IF(OUT!BO4="", "", OUT!BO4) -> T3 | P77: =IF(OUT!N4="", "", OUT!N4) -> 2.298 | Q77: =IF(OUT!O4="", "", OUT!O4) -> 165.45 | R77: =IF(PPG!H4="", "", PPG!H4) | S77: =IF(PPG!I4="", "", PPG!I4) | T77: =IF(PPG!J4="", "", PPG!J4) | U77: =IF(PPG!K4="", "", PPG!K4) | V77: =IF(PPG!L4="", "", PPG!L4) | W77: =IF(PPG!M4="", "", PPG!M4) | X77: =IF(PPG!N4="", "", PPG!N4) | Y77: =IF(PPG!O4="", "", PPG!O4) | Z77: =IF(PPG!Q4="", "", PPG!Q4) | AA77: =IF(PPG!R4="", "", PPG!R4) | AB77: =IF(PPG!S4="", "", PPG!S4) | AC77: =IF(PPG!T4="", "", PPG!T4) | AD77: =IF(PPG!U4="", "", PPG!U4) | AE77: =IF(PPG!V4="", "", PPG!V4) | AF77: =IF(PPG!W4="", "", PPG!W4) | AG77: =IF(PPG!X4="", "", PPG!X4) | ... AI77: =IF(PPG!Z4="", "", PPG!Z4) | AJ77: =IF(D77<>"",D77*I77, "0.00") -> 0.00 | AK77: =IF(D77<>"",D77, "0") -> 0 | AL77: =IF(D77<>"",D77*K77, "0") -> 0
A78: =IF(OUT!C50="", "", OUT!C50) -> 754 | B78: =IF(OUT!A50="", "", OUT!A50) -> 93546 | C78: =IF(OUT!D50="", "", OUT!D50) -> O | E78: =IF(OUT!E50="", "", OUT!E50) -> 72 TRAY | F78: =IF(OUT!AE50="NEW", "✷", "") | G78: =IF(OUT!B50="", "", OUT!B50) -> SUCCULENT AGAVE GEMINIFLORA | H78: =IF(AND($K$3=1,$K$4="N"),P78,IF(AND($K$3=2,$K$4="N"),R78,IF(AND($K$3=3,$K$4="N"),T78,IF(AND($K$3=4,$K$4="N"),V78,IF(AND($K$3=5,$K$4="N"),X78,IF(AND($K$3=1,$K$4="Y"),Z78,IF(AND($K$3=2,$K$4="Y"),AB78,IF(AND($K$3=3,$K$4="Y"),AD78,IF(AND($K$3=4,$K$4="Y"),AF78,IF(AND($K$3=5,$K$4="Y"),AH78,"FALSE")))))))))) -> 1.76 | I78: =IF(AND($K$3=1,$K$4="N"),Q78,IF(AND($K$3=2,$K$4="N"),S78,IF(AND($K$3=3,$K$4="N"),U78,IF(AND($K$3=4,$K$4="N"),W78,IF(AND($K$3=5,$K$4="N"),Y78,IF(AND($K$3=1,$K$4="Y"),AA78,IF(AND($K$3=2,$K$4="Y"),AC78,IF(AND($K$3=3,$K$4="Y"),AE78,IF(AND($K$3=4,$K$4="Y"),AG78,IF(AND($K$3=5,$K$4="Y"),AI78,"FALSE")))))))))) -> 126.72 | J78: =IF(OUT!F50="", "", OUT!F50) | K78: =IF(OUT!P50="", "", OUT!P50) -> 72 | L78: =IF(OUT!AE50="", "", OUT!AE50) | M78: =IF(OUT!AG50="", "", OUT!AG50) | N78: =IF(OUT!AQ50="", "", OUT!AQ50) | O78: =IF(OUT!BO50="", "", OUT!BO50) -> T3 | P78: =IF(OUT!N50="", "", OUT!N50) -> 1.76 | Q78: =IF(OUT!O50="", "", OUT!O50) -> 126.72 | R78: =IF(PPG!H50="", "", PPG!H50) | S78: =IF(PPG!I50="", "", PPG!I50) | T78: =IF(PPG!J50="", "", PPG!J50) | U78: =IF(PPG!K50="", "", PPG!K50) | V78: =IF(PPG!L50="", "", PPG!L50) | W78: =IF(PPG!M50="", "", PPG!M50) | X78: =IF(PPG!N50="", "", PPG!N50) | Y78: =IF(PPG!O50="", "", PPG!O50) | Z78: =IF(PPG!Q50="", "", PPG!Q50) | AA78: =IF(PPG!R50="", "", PPG!R50) | AB78: =IF(PPG!S50="", "", PPG!S50) | AC78: =IF(PPG!T50="", "", PPG!T50) | AD78: =IF(PPG!U50="", "", PPG!U50) | AE78: =IF(PPG!V50="", "", PPG!V50) | AF78: =IF(PPG!W50="", "", PPG!W50) | AG78: =IF(PPG!X50="", "", PPG!X50) | ... AI78: =IF(PPG!Z50="", "", PPG!Z50) | AJ78: =IF(D78<>"",D78*I78, "0.00") -> 0.00 | AK78: =IF(D78<>"",D78, "0") -> 0 | AL78: =IF(D78<>"",D78*K78, "0") -> 0
A79: =IF(OUT!C51="", "", OUT!C51) -> 754 | B79: =IF(OUT!A51="", "", OUT!A51) -> 93547 | C79: =IF(OUT!D51="", "", OUT!D51) -> O | E79: =IF(OUT!E51="", "", OUT!E51) -> 72 TRAY | F79: =IF(OUT!AE51="NEW", "✷", "") | G79: =IF(OUT!B51="", "", OUT!B51) -> SUCCULENT AGAVE PARRYI J C RAULSTON | H79: =IF(AND($K$3=1,$K$4="N"),P79,IF(AND($K$3=2,$K$4="N"),R79,IF(AND($K$3=3,$K$4="N"),T79,IF(AND($K$3=4,$K$4="N"),V79,IF(AND($K$3=5,$K$4="N"),X79,IF(AND($K$3=1,$K$4="Y"),Z79,IF(AND($K$3=2,$K$4="Y"),AB79,IF(AND($K$3=3,$K$4="Y"),AD79,IF(AND($K$3=4,$K$4="Y"),AF79,IF(AND($K$3=5,$K$4="Y"),AH79,"FALSE")))))))))) -> 2.069 | I79: =IF(AND($K$3=1,$K$4="N"),Q79,IF(AND($K$3=2,$K$4="N"),S79,IF(AND($K$3=3,$K$4="N"),U79,IF(AND($K$3=4,$K$4="N"),W79,IF(AND($K$3=5,$K$4="N"),Y79,IF(AND($K$3=1,$K$4="Y"),AA79,IF(AND($K$3=2,$K$4="Y"),AC79,IF(AND($K$3=3,$K$4="Y"),AE79,IF(AND($K$3=4,$K$4="Y"),AG79,IF(AND($K$3=5,$K$4="Y"),AI79,"FALSE")))))))))) -> 148.96 | J79: =IF(OUT!F51="", "", OUT!F51) | K79: =IF(OUT!P51="", "", OUT!P51) -> 72 | L79: =IF(OUT!AE51="", "", OUT!AE51) | M79: =IF(OUT!AG51="", "", OUT!AG51) | N79: =IF(OUT!AQ51="", "", OUT!AQ51) | O79: =IF(OUT!BO51="", "", OUT!BO51) -> T3 | P79: =IF(OUT!N51="", "", OUT!N51) -> 2.069 | Q79: =IF(OUT!O51="", "", OUT!O51) -> 148.96 | R79: =IF(PPG!H51="", "", PPG!H51) | S79: =IF(PPG!I51="", "", PPG!I51) | T79: =IF(PPG!J51="", "", PPG!J51) | U79: =IF(PPG!K51="", "", PPG!K51) | V79: =IF(PPG!L51="", "", PPG!L51) | W79: =IF(PPG!M51="", "", PPG!M51) | X79: =IF(PPG!N51="", "", PPG!N51) | Y79: =IF(PPG!O51="", "", PPG!O51) | Z79: =IF(PPG!Q51="", "", PPG!Q51) | AA79: =IF(PPG!R51="", "", PPG!R51) | AB79: =IF(PPG!S51="", "", PPG!S51) | AC79: =IF(PPG!T51="", "", PPG!T51) | AD79: =IF(PPG!U51="", "", PPG!U51) | AE79: =IF(PPG!V51="", "", PPG!V51) | AF79: =IF(PPG!W51="", "", PPG!W51) | AG79: =IF(PPG!X51="", "", PPG!X51) | ... AI79: =IF(PPG!Z51="", "", PPG!Z51) | AJ79: =IF(D79<>"",D79*I79, "0.00") -> 0.00 | AK79: =IF(D79<>"",D79, "0") -> 0 | AL79: =IF(D79<>"",D79*K79, "0") -> 0
A80: =IF(OUT!C52="", "", OUT!C52) -> 754 | B80: =IF(OUT!A52="", "", OUT!A52) -> 93548 | C80: =IF(OUT!D52="", "", OUT!D52) -> O | E80: =IF(OUT!E52="", "", OUT!E52) -> 72 TRAY | F80: =IF(OUT!AE52="NEW", "✷", "") | G80: =IF(OUT!B52="", "", OUT!B52) -> SUCCULENT AGAVE VICTORIA REGINAE PORCUPINE | H80: =IF(AND($K$3=1,$K$4="N"),P80,IF(AND($K$3=2,$K$4="N"),R80,IF(AND($K$3=3,$K$4="N"),T80,IF(AND($K$3=4,$K$4="N"),V80,IF(AND($K$3=5,$K$4="N"),X80,IF(AND($K$3=1,$K$4="Y"),Z80,IF(AND($K$3=2,$K$4="Y"),AB80,IF(AND($K$3=3,$K$4="Y"),AD80,IF(AND($K$3=4,$K$4="Y"),AF80,IF(AND($K$3=5,$K$4="Y"),AH80,"FALSE")))))))))) -> 1.76 | I80: =IF(AND($K$3=1,$K$4="N"),Q80,IF(AND($K$3=2,$K$4="N"),S80,IF(AND($K$3=3,$K$4="N"),U80,IF(AND($K$3=4,$K$4="N"),W80,IF(AND($K$3=5,$K$4="N"),Y80,IF(AND($K$3=1,$K$4="Y"),AA80,IF(AND($K$3=2,$K$4="Y"),AC80,IF(AND($K$3=3,$K$4="Y"),AE80,IF(AND($K$3=4,$K$4="Y"),AG80,IF(AND($K$3=5,$K$4="Y"),AI80,"FALSE")))))))))) -> 126.72 | J80: =IF(OUT!F52="", "", OUT!F52) | K80: =IF(OUT!P52="", "", OUT!P52) -> 72 | L80: =IF(OUT!AE52="", "", OUT!AE52) | M80: =IF(OUT!AG52="", "", OUT!AG52) | N80: =IF(OUT!AQ52="", "", OUT!AQ52) | O80: =IF(OUT!BO52="", "", OUT!BO52) -> T3 | P80: =IF(OUT!N52="", "", OUT!N52) -> 1.76 | Q80: =IF(OUT!O52="", "", OUT!O52) -> 126.72 | R80: =IF(PPG!H52="", "", PPG!H52) | S80: =IF(PPG!I52="", "", PPG!I52) | T80: =IF(PPG!J52="", "", PPG!J52) | U80: =IF(PPG!K52="", "", PPG!K52) | V80: =IF(PPG!L52="", "", PPG!L52) | W80: =IF(PPG!M52="", "", PPG!M52) | X80: =IF(PPG!N52="", "", PPG!N52) | Y80: =IF(PPG!O52="", "", PPG!O52) | Z80: =IF(PPG!Q52="", "", PPG!Q52) | AA80: =IF(PPG!R52="", "", PPG!R52) | AB80: =IF(PPG!S52="", "", PPG!S52) | AC80: =IF(PPG!T52="", "", PPG!T52) | AD80: =IF(PPG!U52="", "", PPG!U52) | AE80: =IF(PPG!V52="", "", PPG!V52) | AF80: =IF(PPG!W52="", "", PPG!W52) | AG80: =IF(PPG!X52="", "", PPG!X52) | ... AI80: =IF(PPG!Z52="", "", PPG!Z52) | AJ80: =IF(D80<>"",D80*I80, "0.00") -> 0.00 | AK80: =IF(D80<>"",D80, "0") -> 0 | AL80: =IF(D80<>"",D80*K80, "0") -> 0
A81: =IF(OUT!C8="", "", OUT!C8) -> 754 | B81: =IF(OUT!A8="", "", OUT!A8) -> 13491 | C81: =IF(OUT!D8="", "", OUT!D8) -> O | E81: =IF(OUT!E8="", "", OUT!E8) -> 72 TRAY | F81: =IF(OUT!AE8="NEW", "✷", "") -> ✷ | G81: =IF(OUT!B8="", "", OUT!B8) -> SUCCULENT ALOE SOLAR FLARE | H81: =IF(AND($K$3=1,$K$4="N"),P81,IF(AND($K$3=2,$K$4="N"),R81,IF(AND($K$3=3,$K$4="N"),T81,IF(AND($K$3=4,$K$4="N"),V81,IF(AND($K$3=5,$K$4="N"),X81,IF(AND($K$3=1,$K$4="Y"),Z81,IF(AND($K$3=2,$K$4="Y"),AB81,IF(AND($K$3=3,$K$4="Y"),AD81,IF(AND($K$3=4,$K$4="Y"),AF81,IF(AND($K$3=5,$K$4="Y"),AH81,"FALSE")))))))))) -> 1.872 | I81: =IF(AND($K$3=1,$K$4="N"),Q81,IF(AND($K$3=2,$K$4="N"),S81,IF(AND($K$3=3,$K$4="N"),U81,IF(AND($K$3=4,$K$4="N"),W81,IF(AND($K$3=5,$K$4="N"),Y81,IF(AND($K$3=1,$K$4="Y"),AA81,IF(AND($K$3=2,$K$4="Y"),AC81,IF(AND($K$3=3,$K$4="Y"),AE81,IF(AND($K$3=4,$K$4="Y"),AG81,IF(AND($K$3=5,$K$4="Y"),AI81,"FALSE")))))))))) -> 134.78 | J81: =IF(OUT!F8="", "", OUT!F8) | K81: =IF(OUT!P8="", "", OUT!P8) -> 72 | L81: =IF(OUT!AE8="", "", OUT!AE8) -> NEW | M81: =IF(OUT!AG8="", "", OUT!AG8) -> PAT | N81: =IF(OUT!AQ8="", "", OUT!AQ8) | O81: =IF(OUT!BO8="", "", OUT!BO8) -> T3 | P81: =IF(OUT!N8="", "", OUT!N8) -> 1.872 | Q81: =IF(OUT!O8="", "", OUT!O8) -> 134.78 | R81: =IF(PPG!H8="", "", PPG!H8) | S81: =IF(PPG!I8="", "", PPG!I8) | T81: =IF(PPG!J8="", "", PPG!J8) | U81: =IF(PPG!K8="", "", PPG!K8) | V81: =IF(PPG!L8="", "", PPG!L8) | W81: =IF(PPG!M8="", "", PPG!M8) | X81: =IF(PPG!N8="", "", PPG!N8) | Y81: =IF(PPG!O8="", "", PPG!O8) | Z81: =IF(PPG!Q8="", "", PPG!Q8) | AA81: =IF(PPG!R8="", "", PPG!R8) | AB81: =IF(PPG!S8="", "", PPG!S8) | AC81: =IF(PPG!T8="", "", PPG!T8) | AD81: =IF(PPG!U8="", "", PPG!U8) | AE81: =IF(PPG!V8="", "", PPG!V8) | AF81: =IF(PPG!W8="", "", PPG!W8) | AG81: =IF(PPG!X8="", "", PPG!X8) | ... AI81: =IF(PPG!Z8="", "", PPG!Z8) | AJ81: =IF(D81<>"",D81*I81, "0.00") -> 0.00 | AK81: =IF(D81<>"",D81, "0") -> 0 | AL81: =IF(D81<>"",D81*K81, "0") -> 0
A82: =IF(OUT!C37="", "", OUT!C37) -> 754 | B82: =IF(OUT!A37="", "", OUT!A37) -> 79310 | C82: =IF(OUT!D37="", "", OUT!D37) -> O | E82: =IF(OUT!E37="", "", OUT!E37) -> 72 TRAY | F82: =IF(OUT!AE37="NEW", "✷", "") | G82: =IF(OUT!B37="", "", OUT!B37) -> SUCCULENT KALANCHOE THYRSIFLORA FLAPJACKS (DESERT ROSE) | H82: =IF(AND($K$3=1,$K$4="N"),P82,IF(AND($K$3=2,$K$4="N"),R82,IF(AND($K$3=3,$K$4="N"),T82,IF(AND($K$3=4,$K$4="N"),V82,IF(AND($K$3=5,$K$4="N"),X82,IF(AND($K$3=1,$K$4="Y"),Z82,IF(AND($K$3=2,$K$4="Y"),AB82,IF(AND($K$3=3,$K$4="Y"),AD82,IF(AND($K$3=4,$K$4="Y"),AF82,IF(AND($K$3=5,$K$4="Y"),AH82,"FALSE")))))))))) -> 1.269 | I82: =IF(AND($K$3=1,$K$4="N"),Q82,IF(AND($K$3=2,$K$4="N"),S82,IF(AND($K$3=3,$K$4="N"),U82,IF(AND($K$3=4,$K$4="N"),W82,IF(AND($K$3=5,$K$4="N"),Y82,IF(AND($K$3=1,$K$4="Y"),AA82,IF(AND($K$3=2,$K$4="Y"),AC82,IF(AND($K$3=3,$K$4="Y"),AE82,IF(AND($K$3=4,$K$4="Y"),AG82,IF(AND($K$3=5,$K$4="Y"),AI82,"FALSE")))))))))) -> 91.36 | J82: =IF(OUT!F37="", "", OUT!F37) | K82: =IF(OUT!P37="", "", OUT!P37) -> 72 | L82: =IF(OUT!AE37="", "", OUT!AE37) | M82: =IF(OUT!AG37="", "", OUT!AG37) | N82: =IF(OUT!AQ37="", "", OUT!AQ37) | O82: =IF(OUT!BO37="", "", OUT!BO37) -> T3 | P82: =IF(OUT!N37="", "", OUT!N37) -> 1.269 | Q82: =IF(OUT!O37="", "", OUT!O37) -> 91.36 | R82: =IF(PPG!H37="", "", PPG!H37) | S82: =IF(PPG!I37="", "", PPG!I37) | T82: =IF(PPG!J37="", "", PPG!J37) | U82: =IF(PPG!K37="", "", PPG!K37) | V82: =IF(PPG!L37="", "", PPG!L37) | W82: =IF(PPG!M37="", "", PPG!M37) | X82: =IF(PPG!N37="", "", PPG!N37) | Y82: =IF(PPG!O37="", "", PPG!O37) | Z82: =IF(PPG!Q37="", "", PPG!Q37) | AA82: =IF(PPG!R37="", "", PPG!R37) | AB82: =IF(PPG!S37="", "", PPG!S37) | AC82: =IF(PPG!T37="", "", PPG!T37) | AD82: =IF(PPG!U37="", "", PPG!U37) | AE82: =IF(PPG!V37="", "", PPG!V37) | AF82: =IF(PPG!W37="", "", PPG!W37) | AG82: =IF(PPG!X37="", "", PPG!X37) | ... AI82: =IF(PPG!Z37="", "", PPG!Z37) | AJ82: =IF(D82<>"",D82*I82, "0.00") -> 0.00 | AK82: =IF(D82<>"",D82, "0") -> 0 | AL82: =IF(D82<>"",D82*K82, "0") -> 0
A83: =IF(OUT!C78="", "", OUT!C78) -> 754 | B83: =IF(OUT!A78="", "", OUT!A78) -> 97496 | C83: =IF(OUT!D78="", "", OUT!D78) -> O | E83: =IF(OUT!E78="", "", OUT!E78) -> 72 TRAY | F83: =IF(OUT!AE78="NEW", "✷", "") | G83: =IF(OUT!B78="", "", OUT!B78) -> TRADESCANTIA WANDERING JEW PINK PANTHER | H83: =IF(AND($K$3=1,$K$4="N"),P83,IF(AND($K$3=2,$K$4="N"),R83,IF(AND($K$3=3,$K$4="N"),T83,IF(AND($K$3=4,$K$4="N"),V83,IF(AND($K$3=5,$K$4="N"),X83,IF(AND($K$3=1,$K$4="Y"),Z83,IF(AND($K$3=2,$K$4="Y"),AB83,IF(AND($K$3=3,$K$4="Y"),AD83,IF(AND($K$3=4,$K$4="Y"),AF83,IF(AND($K$3=5,$K$4="Y"),AH83,"FALSE")))))))))) -> 0.903 | I83: =IF(AND($K$3=1,$K$4="N"),Q83,IF(AND($K$3=2,$K$4="N"),S83,IF(AND($K$3=3,$K$4="N"),U83,IF(AND($K$3=4,$K$4="N"),W83,IF(AND($K$3=5,$K$4="N"),Y83,IF(AND($K$3=1,$K$4="Y"),AA83,IF(AND($K$3=2,$K$4="Y"),AC83,IF(AND($K$3=3,$K$4="Y"),AE83,IF(AND($K$3=4,$K$4="Y"),AG83,IF(AND($K$3=5,$K$4="Y"),AI83,"FALSE")))))))))) -> 65.01 | J83: =IF(OUT!F78="", "", OUT!F78) | K83: =IF(OUT!P78="", "", OUT!P78) -> 72 | L83: =IF(OUT!AE78="", "", OUT!AE78) | M83: =IF(OUT!AG78="", "", OUT!AG78) | N83: =IF(OUT!AQ78="", "", OUT!AQ78) | O83: =IF(OUT!BO78="", "", OUT!BO78) -> T3 | P83: =IF(OUT!N78="", "", OUT!N78) -> 0.903 | Q83: =IF(OUT!O78="", "", OUT!O78) -> 65.01 | R83: =IF(PPG!H78="", "", PPG!H78) | S83: =IF(PPG!I78="", "", PPG!I78) | T83: =IF(PPG!J78="", "", PPG!J78) | U83: =IF(PPG!K78="", "", PPG!K78) | V83: =IF(PPG!L78="", "", PPG!L78) | W83: =IF(PPG!M78="", "", PPG!M78) | X83: =IF(PPG!N78="", "", PPG!N78) | Y83: =IF(PPG!O78="", "", PPG!O78) | Z83: =IF(PPG!Q78="", "", PPG!Q78) | AA83: =IF(PPG!R78="", "", PPG!R78) | AB83: =IF(PPG!S78="", "", PPG!S78) | AC83: =IF(PPG!T78="", "", PPG!T78) | AD83: =IF(PPG!U78="", "", PPG!U78) | AE83: =IF(PPG!V78="", "", PPG!V78) | AF83: =IF(PPG!W78="", "", PPG!W78) | AG83: =IF(PPG!X78="", "", PPG!X78) | ... AI83: =IF(PPG!Z78="", "", PPG!Z78) | AJ83: =IF(D83<>"",D83*I83, "0.00") -> 0.00 | AK83: =IF(D83<>"",D83, "0") -> 0 | AL83: =IF(D83<>"",D83*K83, "0") -> 0
A84: =IF(OUT!C71="", "", OUT!C71) -> 754 | B84: =IF(OUT!A71="", "", OUT!A71) -> 93654 | C84: =IF(OUT!D71="", "", OUT!D71) -> O | E84: =IF(OUT!E71="", "", OUT!E71) -> 72 TRAY | F84: =IF(OUT!AE71="NEW", "✷", "") -> ✷ | G84: =IF(OUT!B71="", "", OUT!B71) -> VANILLA PLANIFOLIA ORCHID | H84: =IF(AND($K$3=1,$K$4="N"),P84,IF(AND($K$3=2,$K$4="N"),R84,IF(AND($K$3=3,$K$4="N"),T84,IF(AND($K$3=4,$K$4="N"),V84,IF(AND($K$3=5,$K$4="N"),X84,IF(AND($K$3=1,$K$4="Y"),Z84,IF(AND($K$3=2,$K$4="Y"),AB84,IF(AND($K$3=3,$K$4="Y"),AD84,IF(AND($K$3=4,$K$4="Y"),AF84,IF(AND($K$3=5,$K$4="Y"),AH84,"FALSE")))))))))) -> 2.24 | I84: =IF(AND($K$3=1,$K$4="N"),Q84,IF(AND($K$3=2,$K$4="N"),S84,IF(AND($K$3=3,$K$4="N"),U84,IF(AND($K$3=4,$K$4="N"),W84,IF(AND($K$3=5,$K$4="N"),Y84,IF(AND($K$3=1,$K$4="Y"),AA84,IF(AND($K$3=2,$K$4="Y"),AC84,IF(AND($K$3=3,$K$4="Y"),AE84,IF(AND($K$3=4,$K$4="Y"),AG84,IF(AND($K$3=5,$K$4="Y"),AI84,"FALSE")))))))))) -> 161.28 | J84: =IF(OUT!F71="", "", OUT!F71) | K84: =IF(OUT!P71="", "", OUT!P71) -> 72 | L84: =IF(OUT!AE71="", "", OUT!AE71) -> NEW | M84: =IF(OUT!AG71="", "", OUT!AG71) | N84: =IF(OUT!AQ71="", "", OUT!AQ71) | O84: =IF(OUT!BO71="", "", OUT!BO71) -> T3 | P84: =IF(OUT!N71="", "", OUT!N71) -> 2.24 | Q84: =IF(OUT!O71="", "", OUT!O71) -> 161.28 | R84: =IF(PPG!H71="", "", PPG!H71) | S84: =IF(PPG!I71="", "", PPG!I71) | T84: =IF(PPG!J71="", "", PPG!J71) | U84: =IF(PPG!K71="", "", PPG!K71) | V84: =IF(PPG!L71="", "", PPG!L71) | W84: =IF(PPG!M71="", "", PPG!M71) | X84: =IF(PPG!N71="", "", PPG!N71) | Y84: =IF(PPG!O71="", "", PPG!O71) | Z84: =IF(PPG!Q71="", "", PPG!Q71) | AA84: =IF(PPG!R71="", "", PPG!R71) | AB84: =IF(PPG!S71="", "", PPG!S71) | AC84: =IF(PPG!T71="", "", PPG!T71) | AD84: =IF(PPG!U71="", "", PPG!U71) | AE84: =IF(PPG!V71="", "", PPG!V71) | AF84: =IF(PPG!W71="", "", PPG!W71) | AG84: =IF(PPG!X71="", "", PPG!X71) | ... AI84: =IF(PPG!Z71="", "", PPG!Z71) | AJ84: =IF(D84<>"",D84*I84, "0.00") -> 0.00 | AK84: =IF(D84<>"",D84, "0") -> 0 | AL84: =IF(D84<>"",D84*K84, "0") -> 0

Sheet OUT
A1: 11022 | B1: PEPEROMIA STRING OF TURTLES | C1: 754 | D1: O | E1: 72 TRAY | I1: 0.3 | J1: 1.189 | K1: 1.41 | L1: 0 | M1: 0 | N1: 1.189 | O1: 85.6 | P1: 72 | Q1: 202527 | R1: 202626 | U1: PETUR | V1: 26 | AO1: PER | AP1: Perennial variety | BC1: T3 | BD1: Tag available on request | BO1: T3
A2: 11674 | B2: PEPEROMIA CLUSIFOLIA GINNY | C2: 754 | D2: O | E2: 72 TRAY | I2: 0.3 | J2: 0.983 | K2: 0.96 | L2: 0 | M2: 0 | N2: 0.983 | O2: 70.77 | P2: 72 | Q2: 202527 | R2: 202626 | U2: PEGIN | V2: 20 | AO2: PER | AP2: Perennial variety | BC2: T3 | BD2: Tag available on request | BO2: T3
A3: 12167 | B3: PEPEROMIA ARGYREIA WATERMELON (SANDIA) | C3: 754 | D3: O | E3: 72 TRAY | I3: 0.3 | J3: 0.983 | K3: 0.96 | L3: 0 | M3: 0 | N3: 0.983 | O3: 70.77 | P3: 72 | Q3: 202527 | R3: 202626 | U3: PEWAT | V3: 20 | AO3: PER | AP3: Perennial variety | BC3: T3 | BD3: Tag available on request | BO3: T3
A4: 12170 | B4: SUCCULENT AGAVE BLUE GLOW | C4: 754 | D4: O | E4: 72 TRAY | I4: 0.3 | J4: 2.298 | K4: 5.28 | L4: 0 | M4: 0 | N4: 2.298 | O4: 165.45 | P4: 72 | Q4: 202527 | R4: 202626 | U4: AGBLU | V4: 53 | AE4: NEW | AF4: New item with vendor | AO4: PER | AP4: Perennial variety | BC4: T3 | BD4: Tag available on request | BO4: T3
A5: 12456 | B5: DIEFFENBACHIA MAUI WOWIE | C5: 754 | D5: O | E5: 72 TRAY | I5: 0.3 | J5: 1.269 | K5: 1.61 | L5: 0 | M5: 0 | N5: 1.269 | O5: 91.36 | P5: 72 | Q5: 202527 | R5: 202626 | U5: DFMAW | V5: 32 | AG5: PAT | AH5: Patented | BC5: T3 | BD5: Tag available on request | BO5: T3
A6: 12471 | B6: PEPEROMIA CLUSIFOLIA RED EDGE | C6: 754 | D6: O | E6: 72 TRAY | I6: 0.3 | J6: 0.983 | K6: 0.96 | L6: 0 | M6: 0 | N6: 0.983 | O6: 70.77 | P6: 72 | Q6: 202527 | R6: 202626 | U6: PERED | V6: 20 | BC6: T3 | BD6: Tag available on request | BO6: T3
A7: 12473 | B7: SARRACENIA SCARLET BELLE | C7: 754 | D7: O | E7: 72 TRAY | I7: 0.3 | J7: 2.298 | K7: 5.28 | L7: 0 | M7: 0 | N7: 2.298 | O7: 165.45 | P7: 72 | Q7: 202527 | R7: 202626 | U7: SABEL | V7: 53 | BC7: T3 | BD7: Tag available on request | BO7: T3
A8: 13491 | B8: SUCCULENT ALOE SOLAR FLARE | C8: 754 | D8: O | E8: 72 TRAY | I8: 0.3 | J8: 1.872 | K8: 3.5 | L8: 0 | M8: 0 | N8: 1.872 | O8: 134.78 | P8: 72 | Q8: 202527 | R8: 202626 | U8: ALVHE | V8: 48 | AE8: NEW | AF8: New item with vendor | AG8: PAT | AH8: Patented | AO8: PER | AP8: Perennial variety | BC8: T3 | BD8: Tag available on request | BO8: T3
A9: 13492 | B9: ALTERNANTHERA SNOW BUNNY | C9: 754 | D9: O | E9: 72 TRAY | I9: 0.3 | J9: 1.132 | K9: 1.28 | L9: 0 | M9: 0 | N9: 1.132 | O9: 81.5 | P9: 72 | Q9: 202527 | R9: 202626 | U9: ALSNB | V9: 25 | AE9: NEW | AF9: New item with vendor | AM9: ANN | AN9: Annual variety | BC9: T3 | BD9: Tag available on request | BO9: T3
A10: 13493 | B10: FOLIAGE CALATHEA WARSCEWICZII JUNGLE VELVET | C10: 754 | D10: O | E10: 72 TRAY | I10: 0.3 | J10: 1.383 | K10: 1.91 | L10: 0 | M10: 0 | N10: 1.383 | O10: 99.57 | P10: 72 | Q10: 202527 | R10: 202626 | U10: CAJVE | V10: 37 | AE10: NEW | AF10: New item with vendor | AM10: ANN | AN10: Annual variety | BC10: T3 | BD10: Tag available on request | BO10: T3
A11: 13494 | B11: FERN TROPICAL PLATYCERIUM GRANDE GIANT STAGHORN | C11: 754 | D11: M | E11: 50 TRAY | I11: 0.3 | J11: 1.84 | K11: 3.38 | L11: 0 | M11: 0 | N11: 1.84 | O11: 92 | P11: 50 | Q11: 202527 | R11: 202626 | U11: FEGRA50 | V11: 47 | AE11: NEW | AF11: New item with vendor | AM11: ANN | AN11: Annual variety | BC11: T3 | BD11: Tag available on request | BO11: T3
A12: 13494 | B12: FERN TROPICAL PLATYCERIUM GRANDE GIANT STAGHORN | C12: 754 | D12: O | E12: 72 TRAY | I12: 0.3 | J12: 1.726 | K12: 2.97 | L12: 0 | M12: 0 | N12: 1.726 | O12: 124.27 | P12: 72 | Q12: 202527 | R12: 202626 | U12: FEGRA | V12: 43 | AE12: NEW | AF12: New item with vendor | AM12: ANN | AN12: Annual variety | BC12: T3 | BD12: Tag available on request | BO12: T3
A13: 13495 | B13: FERN TROPICAL PLATYCERIUM SUPERBUM STAGHORN | C13: 754 | D13: M | E13: 50 TRAY | I13: 0.3 | J13: 1.84 | K13: 3.38 | L13: 0 | M13: 0 | N13: 1.84 | O13: 92 | P13: 50 | Q13: 202527 | R13: 202626 | U13: FESUP50 | V13: 47 | AE13: NEW | AF13: New item with vendor | AM13: ANN | AN13: Annual variety | BC13: T3 | BD13: Tag available on request | BO13: T3
A14: 13495 | B14: FERN TROPICAL PLATYCERIUM SUPERBUM STAGHORN | C14: 754 | D14: O | E14: 72 TRAY | I14: 0.3 | J14: 1.726 | K14: 2.97 | L14: 0 | M14: 0 | N14: 1.726 | O14: 124.27 | P14: 72 | Q14: 202527 | R14: 202626 | U14: FESUP | V14: 43 | AE14: NEW | AF14: New item with vendor | AM14: ANN | AN14: Annual variety | BC14: T3 | BD14: Tag available on request | BO14: T3
A15: 13496 | B15: FOLIAGE PHILODENDRON ATOM | C15: 754 | D15: O | E15: 72 TRAY | I15: 0.3 | J15: 1.783 | K15: 3.17 | L15: 0 | M15: 0 | N15: 1.783 | O15: 128.37 | P15: 72 | Q15: 202527 | R15: 202626 | U15: PHATO | V15: 45 | AE15: NEW | AF15: New item with vendor | BC15: T3 | BD15: Tag available on request | BO15: T3
A16: 30571 | B16: GRASS MISCANTHUS SINENSIS ADAGIO (DWARF MAIDEN) | C16: 754 | D16: O | E16: 72 TRAY | I16: 0.3 | J16: 1.452 | K16: 2.1 | L16: 0 | M16: 0 | N16: 1.452 | O16: 104.54 | P16: 72 | Q16: 202527 | R16: 202626 | U16: MIADA | V16: 39 | AE16: NEW | AF16: New item with vendor | AO16: PER | AP16: Perennial variety | BC16: T3 | BD16: Tag available on request | BO16: T3
A17: 30594 | B17: GRASS PENNISETUM ALOPECUROIDES HAMELN (DWARF FOUNTAIN) | C17: 754 | D17: O | E17: 72 TRAY | I17: 0.3 | J17: 1.452 | K17: 2.1 | L17: 0 | M17: 0 | N17: 1.452 | O17: 104.54 | P17: 72 | Q17: 202527 | R17: 202626 | U17: PEHAM | V17: 39 | AE17: NEW | AF17: New item with vendor | AO17: PER | AP17: Perennial variety | BC17: T3 | BD17: Tag available on request | BO17: T3
A18: 41363 | B18: EUGENIA GLOBULUS (TOPIARY PLANT) | C18: 754 | D18: FAR | E18: 105 TRAY | I18: 0.3 | J18: 0.903 | K18: 0.81 | L18: 0 | M18: 0 | N18: 0.903 | O18: 94.81 | P18: 105 | Q18: 202527 | R18: 202626 | U18: EUGLO105 | V18: 14 | AO18: PER | AP18: Perennial variety | BC18: T3 | BD18: Tag available on request | BO18: T3
A19: 41444 | B19: FICUS PUMILIA QUERCIFOLIA | C19: 754 | D19: O | E19: 72 TRAY | I19: 0.3 | J19: 1.315 | K19: 1.72 | L19: 0 | M19: 0 | N19: 1.315 | O19: 94.68 | P19: 72 | Q19: 202527 | R19: 202626 | U19: FIPQU | V19: 35 | BC19: T3 | BD19: Tag available on request | BO19: T3
A20: 42216 | B20: GRASS MUHLENBERGIA CAPILLARIS WHITE CLOUD | C20: 754 | D20: F | E20: 144 TRAY | I20: 0.3 | J20: 1.215 | K20: 1.47 | L20: 0 | M20: 0 | N20: 1.215 | O20: 174.96 | P20: 144 | Q20: 202527 | R20: 202626 | U20: MUWCL144 | V20: 29 | AO20: PER | AP20: Perennial variety | BC20: T3 | BD20: Tag available on request | BO20: T3
A21: 42216 | B21: GRASS MUHLENBERGIA CAPILLARIS WHITE CLOUD | C21: 754 | D21: O | E21: 72 TRAY | I21: 0.3 | J21: 1.349 | K21: 1.81 | L21: 0 | M21: 0 | N21: 1.349 | O21: 97.12 | P21: 72 | Q21: 202527 | R21: 202626 | U21: MUWCL | V21: 36 | AO21: PER | AP21: Perennial variety | BC21: T3 | BD21: Tag available on request | BO21: T3
A22: 42839 | B22: FOLIAGE CALATHEA LANCIFOLIA RATTLESNAKE | C22: 754 | D22: O | E22: 72 TRAY | I22: 0.3 | J22: 1.829 | K22: 3.34 | L22: 0 | M22: 0 | N22: 1.829 | O22: 131.68 | P22: 72 | Q22: 202527 | R22: 202626 | U22: CARAT | V22: 46 | AE22: NEW | AF22: New item with vendor | AM22: ANN | AN22: Annual variety | BC22: T3 | BD22: Tag available on request | BO22: T3
A23: 42842 | B23: FOLIAGE CALATHEA ROSEOPICTA MEDALLION | C23: 754 | D23: O | E23: 72 TRAY | I23: 0.3 | J23: 1.383 | K23: 1.91 | L23: 0 | M23: 0 | N23: 1.383 | O23: 99.57 | P23: 72 | Q23: 202527 | R23: 202626 | U23: CAMED | V23: 37 | AE23: NEW | AF23: New item with vendor | AM23: ANN | AN23: Annual variety | BC23: T3 | BD23: Tag available on request | BO23: T3
A24: 42847 | B24: FICUS ELASTICA BURGUNDY (RUBBER PLANT) | C24: 754 | D24: O | E24: 72 TRAY | I24: 0.3 | J24: 0.88 | K24: 0.77 | L24: 0 | M24: 0 | N24: 0.88 | O24: 63.36 | P24: 72 | Q24: 202527 | R24: 202626 | U24: FIBURS | V24: 13 | BC24: T3 | BD24: Tag available on request | BO24: T3
A25: 42848 | B25: FICUS ELASTICA RUBY (RUBBER PLANT) | C25: 754 | D25: O | E25: 72 TRAY | I25: 0.3 | J25: 0.938 | K25: 0.87 | L25: 0 | M25: 0 | N25: 0.938 | O25: 67.53 | P25: 72 | Q25: 202527 | R25: 202626 | U25: FIRUB | V25: 17 | BC25: T3 | BD25: Tag available on request | BO25: T3
A26: 42849 | B26: FICUS ELASTICA TINEKE (RUBBER PLANT) | C26: 754 | D26: O | E26: 72 TRAY | I26: 0.3 | J26: 0.96 | K26: 0.92 | L26: 0 | M26: 0 | N26: 0.96 | O26: 69.12 | P26: 72 | Q26: 202527 | R26: 202626 | U26: FITINS | V26: 18 | BC26: T3 | BD26: Tag available on request | BO26: T3
A27: 53108 | B27: GRASS SCHIZACHYRIUM SCOPARIUM THE BLUES | C27: 754 | D27: F | E27: 144 TRAY | I27: 0.3 | J27: 1.286 | K27: 1.65 | L27: 0 | M27: 0 | N27: 1.286 | O27: 185.18 | P27: 144 | Q27: 202527 | R27: 202626 | U27: SCTBL144 | V27: 33 | AE27: NEW | AF27: New item with vendor | AO27: PER | AP27: Perennial variety | BC27: T3 | BD27: Tag available on request | BO27: T3
A28: 58680 | B28: ALTERNANTHERA SNOW QUEEN | C28: 754 | D28: O | E28: 72 TRAY | I28: 0.3 | J28: 0.823 | K28: 0.67 | L28: 0 | M28: 0 | N28: 0.823 | O28: 59.25 | P28: 72 | Q28: 202527 | R28: 202626 | U28: ALSNQ | V28: 12 | AM28: ANN | AN28: Annual variety | BC28: T3 | BD28: Tag available on request | BO28: T3
A29: 59945 | B29: FERN TROPICAL PLATYCERIUM BIFURCATUM NETHERLANDS STAGHORN | C29: 754 | D29: O | E29: 72 TRAY | I29: 0.3 | J29: 0.88 | K29: 0.77 | L29: 0 | M29: 0 | N29: 0.88 | O29: 63.36 | P29: 72 | Q29: 202527 | R29: 202626 | U29: FESUN | V29: 13 | AM29: ANN | AN29: Annual variety | BC29: T3 | BD29: Tag available on request | BO29: T3
A30: 64219 | B30: ALTERNANTHERA KRINKLE RED | C30: 754 | D30: O | E30: 72 TRAY | I30: 0.3 | J30: 0.823 | K30: 0.67 | L30: 0 | M30: 0 | N30: 0.823 | O30: 59.25 | P30: 72 | Q30: 202527 | R30: 202626 | U30: ALKKR | V30: 12 | AM30: ANN | AN30: Annual variety | BC30: T3 | BD30: Tag available on request | BO30: T3
A31: 68992 | B31: ALTERNANTHERA RED THREADS | C31: 754 | D31: O | E31: 72 TRAY | I31: 0.3 | J31: 0.823 | K31: 0.67 | L31: 0 | M31: 0 | N31: 0.823 | O31: 59.25 | P31: 72 | Q31: 202527 | R31: 202626 | U31: ALRTH | V31: 12 | AM31: ANN | AN31: Annual variety | BC31: T3 | BD31: Tag available on request | BO31: T3
A32: 69619 | B32: ALTERNANTHERA PARTY TIME (Pink w/Green Upright) | C32: 754 | D32: O | E32: 72 TRAY | I32: 0.3 | J32: 1.132 | K32: 1.28 | L32: 0 | M32: 0 | N32: 1.132 | O32: 81.5 | P32: 72 | Q32: 202527 | R32: 202626 | U32: ALPAT | V32: 25 | AM32: ANN | AN32: Annual variety | BC32: T3 | BD32: Tag available on request | BO32: T3
A33: 71889 | B33: BEGONIA ODORATA ALBA (White) | C33: 754 | D33: O | E33: 72 TRAY | I33: 0.3 | J33: 1.303 | K33: 1.69 | L33: 0 | M33: 0 | N33: 1.303 | O33: 93.81 | P33: 72 | Q33: 202527 | R33: 202626 | U33: BEOAL | V33: 34 | AM33: ANN | AN33: Annual variety | BC33: T3 | BD33: Tag available on request | BO33: T3
A34: 71927 | B34: ALTERNANTHERA TRUE YELLOW | C34: 754 | D34: O | E34: 72 TRAY | I34: 0.3 | J34: 0.823 | K34: 0.67 | L34: 0 | M34: 0 | N34: 0.823 | O34: 59.25 | P34: 72 | Q34: 202527 | R34: 202626 | U34: ALYEL | V34: 12 | AM34: ANN | AN34: Annual variety | BC34: T3 | BD34: Tag available on request | BO34: T3
A35: 75034 | B35: GRASS SPARTINA BAKERI (SAND CORD GRASS) | C35: 754 | D35: F | E35: 144 TRAY | I35: 0.3 | J35: 0.8 | K35: 0.64 | L35: 0 | M35: 0 | N35: 0.8 | O35: 115.2 | P35: 144 | Q35: 202527 | R35: 202626 | U35: SPBAK144 | V35: 11 | BC35: T3 | BD35: Tag available on request | BO35: T3
A36: 76609 | B36: GRASS CAREX PENSYLVANICA (OAK SEDGE) | C36: 754 | D36: F | E36: 144 TRAY | I36: 0.3 | J36: 1.129 | K36: 1.27 | L36: 0 | M36: 0 | N36: 1.129 | O36: 162.57 | P36: 144 | Q36: 202527 | R36: 202626 | U36: CAPEN144 | V36: 24 | AE36: NEW | AF36: New item with vendor | AO36: PER | AP36: Perennial variety | BC36: T3 | BD36: Tag available on request | BO36: T3
A37: 79310 | B37: SUCCULENT KALANCHOE THYRSIFLORA FLAPJACKS (DESERT ROSE) | C37: 754 | D37: O | E37: 72 TRAY | I37: 0.3 | J37: 1.269 | K37: 1.61 | L37: 0 | M37: 0 | N37: 1.269 | O37: 91.36 | P37: 72 | Q37: 202527 | R37: 202626 | U37: KATHY | V37: 32 | AM37: ANN | AN37: Annual variety | BC37: T3 | BD37: Tag available on request | BO37: T3
A38: 83667 | B38: ALOCASIA MACRORRHIZA CALIDORA (DWARF PERSIAN PALM) | C38: 754 | D38: O | E38: 72 TRAY | I38: 0.3 | J38: 1.84 | K38: 3.38 | L38: 0 | M38: 0 | N38: 1.84 | O38: 132.48 | P38: 72 | Q38: 202527 | R38: 202626 | U38: ALCDA | V38: 47 | AM38: ANN | AN38: Annual variety | BC38: T3 | BD38: Tag available on request | BO38: T3
A39: 83668 | B39: ALOCASIA GAGAENA CALIFORNIA | C39: 754 | D39: O | E39: 72 TRAY | I39: 0.3 | J39: 1.612 | K39: 2.59 | L39: 0 | M39: 0 | N39: 1.612 | O39: 116.06 | P39: 72 | Q39: 202527 | R39: 202626 | U39: ALCAL | V39: 41 | AM39: ANN | AN39: Annual variety | BC39: T3 | BD39: Tag available on request | BO39: T3
A40: 83683 | B40: ALOCASIA ODORA | C40: 754 | D40: O | E40: 72 TRAY | I40: 0.3 | J40: 1.612 | K40: 2.59 | L40: 0 | M40: 0 | N40: 1.612 | O40: 116.06 | P40: 72 | Q40: 202527 | R40: 202626 | U40: ALODO | V40: 41 | AE40: NEW | AF40: New item with vendor | AM40: ANN | AN40: Annual variety | BC40: T3 | BD40: Tag available on request | BO40: T3
A41: 83685 | B41: ALOCASIA PORTORA | C41: 754 | D41: O | E41: 72 TRAY | I41: 0.3 | J41: 1.84 | K41: 3.38 | L41: 0 | M41: 0 | N41: 1.84 | O41: 132.48 | P41: 72 | Q41: 202527 | R41: 202626 | U41: ALPOR | V41: 47 | AM41: ANN | AN41: Annual variety | BC41: T3 | BD41: Tag available on request | BO41: T3
A42: 83763 | B42: CISSUS DISCOLOR (REX BEGONIA VINE) | C42: 754 | D42: O | E42: 72 TRAY | I42: 0.3 | J42: 1.04 | K42: 1.08 | L42: 0 | M42: 0 | N42: 1.04 | O42: 74.88 | P42: 72 | Q42: 202527 | R42: 202626 | U42: CIDIS | V42: 22 | AM42: ANN | AN42: Annual variety | BC42: T3 | BD42: Tag available on request | BO42: T3
A43: 83823 | B43: MUSA BANANA ENSETE MAURELII RED ABYSSINIAN BANANA | C43: 754 | D43: O | E43: 72 TRAY | I43: 0.3 | J43: 2.332 | K43: 5.43 | L43: 0 | M43: 0 | N43: 2.332 | O43: 167.9 | P43: 72 | Q43: 202527 | R43: 202626 | U43: ENMAU | V43: 54 | AM43: ANN | AN43: Annual variety | BC43: T3 | BD43: Tag available on request | BO43: T3
A44: 83866 | B44: IRIS NEOMARCIA CAERULEA REGINA | C44: 754 | D44: O | E44: 72 TRAY | I44: 0.3 | J44: 1.726 | K44: 2.97 | L44: 0 | M44: 0 | N44: 1.726 | O44: 124.27 | P44: 72 | Q44: 202527 | R44: 202626 | U44: IRREG | V44: 43 | AM44: ANN | AN44: Annual variety | BC44: T3 | BD44: Tag available on request | BO44: T3
A45: 83916 | B45: SHRUB NERIUM OLEANDER PETITE PINK (Dwarf Pink Ice) | C45: 754 | D45: O | E45: 72 TRAY | I45: 0.3 | J45: 1.246 | K45: 1.55 | L45: 0 | M45: 0 | N45: 1.246 | O45: 89.71 | P45: 72 | Q45: 202527 | R45: 202626 | U45: OLDWP | V45: 31 | AM45: ANN | AN45: Annual variety | BC45: T3 | BD45: Tag available on request | BO45: T3
A46: 91568 | B46: FERN TROPICAL PLATYCERIUM ELEPHANTOTIS ELEPHANT STAGHORN | C46: 754 | D46: M | E46: 50 TRAY | I46: 0.3 | J46: 1.658 | K46: 2.74 | L46: 0 | M46: 0 | N46: 1.658 | O46: 82.9 | P46: 50 | Q46: 202527 | R46: 202626 | U46: FEELE50 | V46: 42 | AM46: ANN | AN46: Annual variety | BC46: T3 | BD46: Tag available on request | BO46: T3
A47: 91568 | B47: FERN TROPICAL PLATYCERIUM ELEPHANTOTIS ELEPHANT STAGHORN | C47: 754 | D47: O | E47: 72 TRAY | I47: 0.3 | J47: 1.212 | K47: 1.46 | L47: 0 | M47: 0 | N47: 1.212 | O47: 87.26 | P47: 72 | Q47: 202527 | R47: 202626 | U47: FEELE | V47: 28 | AM47: ANN | AN47: Annual variety | BC47: T3 | BD47: Tag available on request | BO47: T3
A48: 92677 | B48: FICUS BENGHALENSIS AUDREY | C48: 754 | D48: O | E48: 72 TRAY | I48: 0.3 | J48: 0.96 | K48: 0.92 | L48: 0 | M48: 0 | N48: 0.96 | O48: 69.12 | P48: 72 | Q48: 202527 | R48: 202626 | U48: FIAUD | V48: 18 | AO48: PER | AP48: Perennial variety | BC48: T3 | BD48: Tag available on request | BO48: T3
A49: 92680 | B49: FOLIAGE MACODES PETOLA JEWEL ORCHID GREEN | C49: 754 | D49: O | E49: 72 TRAY | I49: 0.3 | J49: 4.286 | K49: 18.36 | L49: 0 | M49: 0 | N49: 4.286 | O49: 308.59 | P49: 72 | Q49: 202527 | R49: 202626 | U49: MAPET | V49: 56 | BC49: T3 | BD49: Tag available on request | BO49: T3
A50: 93546 | B50: SUCCULENT AGAVE GEMINIFLORA | C50: 754 | D50: O | E50: 72 TRAY | I50: 0.3 | J50: 1.76 | K50: 3.09 | L50: 0 | M50: 0 | N50: 1.76 | O50: 126.72 | P50: 72 | Q50: 202527 | R50: 202626 | U50: AGGEM | V50: 44 | BC50: T3 | BD50: Tag available on request | BO50: T3
A51: 93547 | B51: SUCCULENT AGAVE PARRYI J C RAULSTON | C51: 754 | D51: O | E51: 72 TRAY | I51: 0.3 | J51: 2.069 | K51: 4.28 | L51: 0 | M51: 0 | N51: 2.069 | O51: 148.96 | P51: 72 | Q51: 202527 | R51: 202626 | U51: AGPJC | V51: 50 | BC51: T3 | BD51: Tag available on request | BO51: T3
A52: 93548 | B52: SUCCULENT AGAVE VICTORIA REGINAE PORCUPINE | C52: 754 | D52: O | E52: 72 TRAY | I52: 0.3 | J52: 1.76 | K52: 3.09 | L52: 0 | M52: 0 | N52: 1.76 | O52: 126.72 | P52: 72 | Q52: 202527 | R52: 202626 | U52: AGVIC | V52: 44 | AO52: PER | AP52: Perennial variety | BC52: T3 | BD52: Tag available on request | BO52: T3
A53: 93550 | B53: ALOCASIA DARK STAR | C53: 754 | D53: O | E53: 72 TRAY | I53: 0.3 | J53: 2.06 | K53: 4.24 | L53: 0 | M53: 0 | N53: 2.06 | O53: 148.32 | P53: 72 | Q53: 202527 | R53: 202626 | U53: ALDST | V53: 49 | AG53: PAT | AH53: Patented | BC53: T3 | BD53: Tag available on request | BO53: T3
A54: 93552 | B54: ALOCASIA MAYAN MASK | C54: 754 | D54: O | E54: 72 TRAY | I54: 0.3 | J54: 2.169 | K54: 4.7 | L54: 0 | M54: 0 | N54: 2.169 | O54: 156.16 | P54: 72 | Q54: 202527 | R54: 202626 | U54: ALMMA | V54: 51 | AG54: PAT | AH54: Patented | BC54: T3 | BD54: Tag available on request | BO54: T3
A55: 93553 | B55: ALOCASIA REGAL SHIELDS | C55: 754 | D55: O | E55: 72 TRAY | I55: 0.3 | J55: 2.06 | K55: 4.24 | L55: 0 | M55: 0 | N55: 2.06 | O55: 148.32 | P55: 72 | Q55: 202527 | R55: 202626 | U55: ALREG | V55: 49 | AG55: PAT | AH55: Patented | BC55: T3 | BD55: Tag available on request | BO55: T3
A56: 93555 | B56: ALOCASIA TINY DANCERS | C56: 754 | D56: O | E56: 72 TRAY | I56: 0.3 | J56: 2.06 | K56: 4.24 | L56: 0 | M56: 0 | N56: 2.06 | O56: 148.32 | P56: 72 | Q56: 202527 | R56: 202626 | U56: ALTDA | V56: 49 | AG56: PAT | AH56: Patented | AO56: PER | AP56: Perennial variety | BC56: T3 | BD56: Tag available on request | BO56: T3
A57: 93559 | B57: ALTERNANTHERA THIN GOLD | C57: 754 | D57: O | E57: 72 TRAY | I57: 0.3 | J57: 0.823 | K57: 0.67 | L57: 0 | M57: 0 | N57: 0.823 | O57: 59.25 | P57: 72 | Q57: 202527 | R57: 202626 | U57: ALGOL | V57: 12 | AM57: ANN | AN57: Annual variety | BC57: T3 | BD57: Tag available on request | BO57: T3
A58: 93575 | B58: COLOCASIA BLACK RIPPLE | C58: 754 | D58: O | E58: 72 TRAY | I58: 0.3 | J58: 2.169 | K58: 4.7 | L58: 0 | M58: 0 | N58: 2.169 | O58: 156.16 | P58: 72 | Q58: 202527 | R58: 202626 | U58: CORIP | V58: 51 | AG58: PAT | AH58: Patented | BC58: T3 | BD58: Tag available on request | BO58: T3
A59: 93576 | B59: COLOCASIA BLACK SAPPHIRE GECKO | C59: 754 | D59: O | E59: 72 TRAY | I59: 0.3 | J59: 2.169 | K59: 4.7 | L59: 0 | M59: 0 | N59: 2.169 | O59: 156.16 | P59: 72 | Q59: 202527 | R59: 202626 | U59: COSAP | V59: 51 | AG59: PAT | AH59: Patented | BC59: T3 | BD59: Tag available on request | BO59: T3
A60: 93588 | B60: DIEFFENBACHIA CAMOUFLAGE | C60: 754 | D60: O | E60: 72 TRAY | I60: 0.3 | J60: 1.189 | K60: 1.41 | L60: 0 | M60: 0 | N60: 1.189 | O60: 85.6 | P60: 72 | Q60: 202527 | R60: 202626 | U60: DFCMF | V60: 26 | BC60: T3 | BD60: Tag available on request | BO60: T3
A61: 93589 | B61: DIEFFENBACHIA PANTHER | C61: 754 | D61: O | E61: 72 TRAY | I61: 0.3 | J61: 1.189 | K61: 1.41 | L61: 0 | M61: 0 | N61: 1.189 | O61: 85.6 | P61: 72 | Q61: 202527 | R61: 202626 | U61: DFPAN | V61: 26 | BC61: T3 | BD61: Tag available on request | BO61: T3
A62: 93591 | B62: DIEFFENBACHIA TROPIC MARIANNE | C62: 754 | D62: O | E62: 72 TRAY | I62: 0.3 | J62: 1.223 | K62: 1.49 | L62: 0 | M62: 0 | N62: 1.223 | O62: 88.05 | P62: 72 | Q62: 202527 | R62: 202626 | U62: DFTMA | V62: 30 | AO62: PER | AP62: Perennial variety | BC62: T3 | BD62: Tag available on request | BO62: T3
A63: 93594 | B63: DIONAEA MUSCIPULA VENUS FLY TRAP | C63: 754 | D63: O | E63: 72 TRAY | I63: 0.3 | J63: 2.515 | K63: 6.32 | L63: 0 | M63: 0 | N63: 2.515 | O63: 181.08 | P63: 72 | Q63: 202527 | R63: 202626 | U63: VFT | V63: 55 | BC63: T3 | BD63: Tag available on request | BO63: T3
A64: 93610 | B64: FICUS LYRATA SUNCOAST | C64: 754 | D64: O | E64: 72 TRAY | I64: 0.3 | J64: 0.926 | K64: 0.85 | L64: 0 | M64: 0 | N64: 0.926 | O64: 66.67 | P64: 72 | Q64: 202527 | R64: 202626 | U64: FILYRS | V64: 16 | BC64: T3 | BD64: Tag available on request | BO64: T3
A65: 93611 | B65: FICUS PUMILA VARIEGATA | C65: 754 | D65: O | E65: 72 TRAY | I65: 0.3 | J65: 0.972 | K65: 0.94 | L65: 0 | M65: 0 | N65: 0.972 | O65: 69.98 | P65: 72 | Q65: 202527 | R65: 202626 | U65: FIVPU | V65: 19 | BC65: T3 | BD65: Tag available on request | BO65: T3
A66: 93612 | B66: FICUS PUMILA GREEN | C66: 754 | D66: O | E66: 72 TRAY | I66: 0.3 | J66: 0.915 | K66: 0.83 | L66: 0 | M66: 0 | N66: 0.915 | O66: 65.88 | P66: 72 | Q66: 202527 | R66: 202626 | U66: FIPUM | V66: 15 | BC66: T3 | BD66: Tag available on request | BO66: T3
A67: 93640 | B67: FOLIAGE PHILODENDRON SELLOUM HOPE | C67: 754 | D67: O | E67: 72 TRAY | I67: 0.3 | J67: 1.052 | K67: 1.1 | L67: 0 | M67: 0 | N67: 1.052 | O67: 75.74 | P67: 72 | Q67: 202527 | R67: 202626 | U67: PHHOP | V67: 23 | BC67: T3 | BD67: Tag available on request | BO67: T3
A68: 93641 | B68: FOLIAGE PHILODENDRON SELLOUM MCCOLLEYS FINALE | C68: 754 | D68: O | E68: 72 TRAY | I68: 0.3 | J68: 1.2 | K68: 1.44 | L68: 0 | M68: 0 | N68: 1.2 | O68: 86.4 | P68: 72 | Q68: 202527 | R68: 202626 | U68: PHMFI | V68: 27 | BC68: T3 | BD68: Tag available on request | BO68: T3
A69: 93642 | B69: FOLIAGE PHILODENDRON SELLOUM MOONLIGHT | C69: 754 | D69: O | E69: 72 TRAY | I69: 0.3 | J69: 1.2 | K69: 1.44 | L69: 0 | M69: 0 | N69: 1.2 | O69: 86.4 | P69: 72 | Q69: 202527 | R69: 202626 | U69: PHMOO | V69: 27 | BC69: T3 | BD69: Tag available on request | BO69: T3
A70: 93643 | B70: FOLIAGE PHILODENDRON SELLOUM PRINCE OF ORANGE | C70: 754 | D70: O | E70: 72 TRAY | I70: 0.3 | J70: 1.2 | K70: 1.44 | L70: 0 | M70: 0 | N70: 1.2 | O70: 86.4 | P70: 72 | Q70: 202527 | R70: 202626 | U70: PHRO | V70: 27 | BC70: T3 | BD70: Tag available on request | BO70: T3
A71: 93654 | B71: VANILLA PLANIFOLIA ORCHID | C71: 754 | D71: O | E71: 72 TRAY | I71: 0.3 | J71: 2.24 | K71: 5.01 | L71: 0 | M71: 0 | N71: 2.24 | O71: 161.28 | P71: 72 | Q71: 202527 | R71: 202626 | U71: VAPLA | V71: 52 | AE71: NEW | AF71: New item with vendor | BC71: T3 | BD71: Tag available on request | BO71: T3
A72: 94870 | B72: FERN TROPICAL KIMBERLY QUEEN | C72: 754 | D72: O | E72: 72 TRAY | I72: 0.3 | J72: 0.732 | K72: 0.53 | L72: 0 | M72: 0 | N72: 0.732 | O72: 52.7 | P72: 72 | Q72: 202527 | R72: 202626 | U72: FEKIM | V72: 10 | AM72: ANN | AN72: Annual variety | BC72: T3 | BD72: Tag available on request | BO72: T3
A73: 95689 | B73: ALOCASIA HILO BEAUTY | C73: 754 | D73: O | E73: 72 TRAY | I73: 0.3 | J73: 1.429 | K73: 2.04 | L73: 0 | M73: 0 | N73: 1.429 | O73: 102.88 | P73: 72 | Q73: 202527 | R73: 202626 | U73: ALHIB | V73: 38 | AM73: ANN | AN73: Annual variety | BC73: T3 | BD73: Tag available on request | BO73: T3
A74: 95766 | B74: GERANIUM SCENTED VAN LEENII | C74: 754 | D74: O | E74: 72 TRAY | I74: 0.3 | J74: 1.566 | K74: 2.45 | L74: 0 | M74: 0 | N74: 1.566 | O74: 112.75 | P74: 72 | Q74: 202527 | R74: 202626 | U74: CITRO | V74: 40 | AM74: ANN | AN74: Annual variety | BC74: T3 | BD74: Tag available on request | BO74: T3
A75: 96758 | B75: PEPEROMIA ECUADOR | C75: 754 | D75: O | E75: 72 TRAY | I75: 0.3 | J75: 0.983 | K75: 0.96 | L75: 0 | M75: 0 | N75: 0.983 | O75: 70.77 | P75: 72 | Q75: 202527 | R75: 202626 | U75: PEECU | V75: 20 | BC75: T3 | BD75: Tag available on request | BO75: T3
A76: 96766 | B76: DIEFFENBACHIA COUGAR | C76: 754 | D76: O | E76: 72 TRAY | I76: 0.3 | J76: 1.189 | K76: 1.41 | L76: 0 | M76: 0 | N76: 1.189 | O76: 85.6 | P76: 72 | Q76: 202527 | R76: 202626 | U76: DFCOU | V76: 26 | AO76: PER | AP76: Perennial variety | BC76: T3 | BD76: Tag available on request | BO76: T3
A77: 96767 | B77: PEPEROMIA RAINDROP | C77: 754 | D77: O | E77: 72 TRAY | I77: 0.3 | J77: 1.018 | K77: 1.03 | L77: 0 | M77: 0 | N77: 1.018 | O77: 73.29 | P77: 72 | Q77: 202527 | R77: 202626 | U77: PEPOL | V77: 21 | AO77: PER | AP77: Perennial variety | BC77: T3 | BD77: Tag available on request | BO77: T3
A78: 97496 | B78: TRADESCANTIA WANDERING JEW PINK PANTHER | C78: 754 | D78: O | E78: 72 TRAY | I78: 0.3 | J78: 0.903 | K78: 0.81 | L78: 0 | M78: 0 | N78: 0.903 | O78: 65.01 | P78: 72 | Q78: 202527 | R78: 202626 | U78: TRPPA | V78: 14 | AO78: PER | AP78: Perennial variety | BC78: T3 | BD78: Tag available on request | BO78: T3

Sheet PPG
A1: paste in PPG file here
