Workbook

Sheet Intro

Sheet Order
A1: Who Placed The Order | C1: How Did They Place The Order | E1: Customer Number | G1: Company | H1: Ship Week | J1: Total Units | K1: =AK5 -> 0
J2: Total Qty | K2: =AL5 -> 0
A3: Add Tags to Match Order? | E3: Special Instructions: | H3: Subtotal | J3: Volumes 1- 4 | K3: 1
H4: =IFERROR(IF(AJ5<>0,AJ5,""),"VOL 1-3, EOD Y OR N") | J4: EOD (Y or N) | K4: N | R4: none | T4: none | V4: none | X4: none | AB4: none | AD4: none | AF4: none | AH4: none | AJ4: subtotal
H5: =CONCATENATE("Volume ", K3, " | EOD = ", K4, " Units: ",K1," Qty: ",K2) -> Volume 1 | EOD = N Units: 0 Qty: 0 | J5: Early Order Discount (EOD) = N/A For more quote options, contact Germania | P5: Volume 1 | R5: Volume 2 | T5: Volume 3 | V5: Volume 4 | X5: Volume 5 | Z5: Volume 1 w/EOD | AB5: Volume 2 w/EOD | AD5: Volume 3 w/EOD | AF5: Volume 4 w/EOD | AH5: Volume 5 w/EOD | AJ5: =SUBTOTAL(9,AJ7:AJ7918) -> 0 | AK5: =SUBTOTAL(9,AK7:AK14994) -> 0 | AL5: =SUBTOTAL(9,AL7:AL14994) -> 0
A6: V# | B6: sku | C6: tray code | D6: QTY | E6: tray | F6: new | G6: Variety | H6: price each | I6: price tray | J6: tray description | K6: plug count | L6: new | M6: patent | N6: cutflower | O6: tag rule | P6: price each | Q6: price tray | R6: price each | S6: price tray | T6: price each | U6: price tray | V6: price each | W6: price tray | X6: price each | Y6: price tray | Z6: price each | AA6: price tray | AB6: price each | AC6: price tray | AD6: price each | AE6: price tray | AF6: price each | AG6: price tray | AH6: price each | AI6: price tray | AJ6: extended line | AK6: total units | AL6: total qty
A7: =IF(OUT!C53="", "", OUT!C53) -> 754 | B7: =IF(OUT!A53="", "", OUT!A53) -> 93550 | C7: =IF(OUT!D53="", "", OUT!D53) -> O | E7: =IF(OUT!E53="", "", OUT!E53) -> 72 TRAY | F7: =IF(OUT!AE53="NEW", "✷", "") | G7: =IF(OUT!B53="", "", OUT!B53) -> ALOCASIA DARK STAR | H7: =IF(AND($K$3=1,$K$4="N"),P7,IF(AND($K$3=2,$K$4="N"),R7,IF(AND($K$3=3,$K$4="N"),T7,IF(AND($K$3=4,$K$4="N"),V7,IF(AND($K$3=5,$K$4="N"),X7,IF(AND($K$3=1,$K$4="Y"),Z7,IF(AND($K$3=2,$K$4="Y"),AB7,IF(AND($K$3=3,$K$4="Y"),AD7,IF(AND($K$3=4,$K$4="Y"),AF7,IF(AND($K$3=5,$K$4="Y"),AH7,"FALSE")))))))))) -> 2.06 | I7: =IF(AND($K$3=1,$K$4="N"),Q7,IF(AND($K$3=2,$K$4="N"),S7,IF(AND($K$3=3,$K$4="N"),U7,IF(AND($K$3=4,$K$4="N"),W7,IF(AND($K$3=5,$K$4="N"),Y7,IF(AND($K$3=1,$K$4="Y"),AA7,IF(AND($K$3=2,$K$4="Y"),AC7,IF(AND($K$3=3,$K$4="Y"),AE7,IF(AND($K$3=4,$K$4="Y"),AG7,IF(AND($K$3=5,$K$4="Y"),AI7,"FALSE")))))))))) -> 148.32 | J7: =IF(OUT!F53="", "", OUT!F53) | K7: =IF(OUT!P53="", "", OUT!P53) -> 72 | L7: =IF(OUT!AE53="", "", OUT!AE53) | M7: =IF(OUT!AG53="", "", OUT!AG53) -> PAT | N7: =IF(OUT!AQ53="", "", OUT!AQ53) | O7: =IF(OUT!BO53="", "", OUT!BO53) -> T3 | P7: =IF(OUT!N53="", "", OUT!N53) -> 2.06 | Q7: =IF(OUT!O53="", "", OUT!O53) -> 148.32 | R7: =IF(PPG!H53="", "", PPG!H53) | S7: =IF(PPG!I53="", "", PPG!I53) | T7: =IF(PPG!J53="", "", PPG!J53) | U7: =IF(PPG!K53="", "", PPG!K53) | V7: =IF(PPG!L53="", "", PPG!L53) | W7: =IF(PPG!M53="", "", PPG!M53) | X7: =IF(PPG!N53="", "", PPG!N53) | Y7: =IF(PPG!O53="", "", PPG!O53) | Z7: =IF(PPG!Q53="", "", PPG!Q53) | AA7: =IF(PPG!R53="", "", PPG!R53) | AB7: =IF(PPG!S53="", "", PPG!S53) | AC7: =IF(PPG!T53="", "", PPG!T53) | AD7: =IF(PPG!U53="", "", PPG!U53) | AE7: =IF(PPG!V53="", "", PPG!V53) | AF7: =IF(PPG!W53="", "", PPG!W53) | AG7: =IF(PPG!X53="", "", PPG!X53) | ... AI7: =IF(PPG!Z53="", "", PPG!Z53) | AJ7: =IF(D7<>"",D7*I7, "0.00") -> 0.00 | AK7: =IF(D7<>"",D7, "0") -> 0 | AL7: =IF(D7<>"",D7*K7, "0") -> 0
A8: =IF(OUT!C39="", "", OUT!C39) -> 754 | B8: =IF(OUT!A39="", "", OUT!A39) -> 83668 | C8: =IF(OUT!D39="", "", OUT!D39) -> O | E8: =IF(OUT!E39="", "", OUT!E39) -> 72 TRAY | F8: =IF(OUT!AE39="NEW", "✷", "") | G8: =IF(OUT!B39="", "", OUT!B39) -> ALOCASIA GAGAENA CALIFORNIA | H8: =IF(AND($K$3=1,$K$4="N"),P8,IF(AND($K$3=2,$K$4="N"),R8,IF(AND($K$3=3,$K$4="N"),T8,IF(AND($K$3=4,$K$4="N"),V8,IF(AND($K$3=5,$K$4="N"),X8,IF(AND($K$3=1,$K$4="Y"),Z8,IF(AND($K$3=2,$K$4="Y"),AB8,IF(AND($K$3=3,$K$4="Y"),AD8,IF(AND($K$3=4,$K$4="Y"),AF8,IF(AND($K$3=5,$K$4="Y"),AH8,"FALSE")))))))))) -> 1.612 | I8: =IF(AND($K$3=1,$K$4="N"),Q8,IF(AND($K$3=2,$K$4="N"),S8,IF(AND($K$3=3,$K$4="N"),U8,IF(AND($K$3=4,$K$4="N"),W8,IF(AND($K$3=5,$K$4="N"),Y8,IF(AND($K$3=1,$K$4="Y"),AA8,IF(AND($K$3=2,$K$4="Y"),AC8,IF(AND($K$3=3,$K$4="Y"),AE8,IF(AND($K$3=4,$K$4="Y"),AG8,IF(AND($K$3=5,$K$4="Y"),AI8,"FALSE")))))))))) -> 116.06 | J8: =IF(OUT!F39="", "", OUT!F39) | K8: =IF(OUT!P39="", "", OUT!P39) -> 72 | L8: =IF(OUT!AE39="", "", OUT!AE39) | M8: =IF(OUT!AG39="", "", OUT!AG39) | N8: =IF(OUT!AQ39="", "", OUT!AQ39) | O8: =IF(OUT!BO39="", "", OUT!BO39) -> T3 | P8: =IF(OUT!N39="", "", OUT!N39) -> 1.612 | Q8: =IF(OUT!O39="", "", OUT!O39) -> 116.06 | R8: =IF(PPG!H39="", "", PPG!H39) | S8: =IF(PPG!I39="", "", PPG!I39) | T8: =IF(PPG!J39="", "", PPG!J39) | U8: =IF(PPG!K39="", "", PPG!K39) | V8: =IF(PPG!L39="", "", PPG!L39) | W8: =IF(PPG!M39="", "", PPG!M39) | X8: =IF(PPG!N39="", "", PPG!N39) | Y8: =IF(PPG!O39="", "", PPG!O39) | Z8: =IF(PPG!Q39="", "", PPG!Q39) | AA8: =IF(PPG!R39="", "", PPG!R39) | AB8: =IF(PPG!S39="", "", PPG!S39) | AC8: =IF(PPG!T39="", "", PPG!T39) | AD8: =IF(PPG!U39="", "", PPG!U39) | AE8: =IF(PPG!V39="", "", PPG!V39) | AF8: =IF(PPG!W39="", "", PPG!W39) | AG8: =IF(PPG!X39="", "", PPG!X39) | ... AI8: =IF(PPG!Z39="", "", PPG!Z39) | AJ8: =IF(D8<>"",D8*I8, "0.00") -> 0.00 | AK8: =IF(D8<>"",D8, "0") -> 0 | AL8: =IF(D8<>"",D8*K8, "0") -> 0
A9: =IF(OUT!C73="", "", OUT!C73) -> 754 | B9: =IF(OUT!A73="", "", OUT!A73) -> 95689 | C9: =IF(OUT!D73="", "", OUT!D73) -> O | E9: =IF(OUT!E73="", "", OUT!E73) -> 72 TRAY | F9: =IF(OUT!AE73="NEW", "✷", "") | G9: =IF(OUT!B73="", "", OUT!B73) -> ALOCASIA HILO BEAUTY | H9: =IF(AND($K$3=1,$K$4="N"),P9,IF(AND($K$3=2,$K$4="N"),R9,IF(AND($K$3=3,$K$4="N"),T9,IF(AND($K$3=4,$K$4="N"),V9,IF(AND($K$3=5,$K$4="N"),X9,IF(AND($K$3=1,$K$4="Y"),Z9,IF(AND($K$3=2,$K$4="Y"),AB9,IF(AND($K$3=3,$K$4="Y"),AD9,IF(AND($K$3=4,$K$4="Y"),AF9,IF(AND($K$3=5,$K$4="Y"),AH9,"FALSE")))))))))) -> 1.429 | I9: =IF(AND($K$3=1,$K$4="N"),Q9,IF(AND($K$3=2,$K$4="N"),S9,IF(AND($K$3=3,$K$4="N"),U9,IF(AND($K$3=4,$K$4="N"),W9,IF(AND($K$3=5,$K$4="N"),Y9,IF(AND($K$3=1,$K$4="Y"),AA9,IF(AND($K$3=2,$K$4="Y"),AC9,IF(AND($K$3=3,$K$4="Y"),AE9,IF(AND($K$3=4,$K$4="Y"),AG9,IF(AND($K$3=5,$K$4="Y"),AI9,"FALSE")))))))))) -> 102.88 | J9: =IF(OUT!F73="", "", OUT!F73) | K9: =IF(OUT!P73="", "", OUT!P73) -> 72 | L9: =IF(OUT!AE73="", "", OUT!AE73) | M9: =IF(OUT!AG73="", "", OUT!AG73) | N9: =IF(OUT!AQ73="", "", OUT!AQ73) | O9: =IF(OUT!BO73="", "", OUT!BO73) -> T3 | P9: =IF(OUT!N73="", "", OUT!N73) -> 1.429 | Q9: =IF(OUT!O73="", "", OUT!O73) -> 102.88 | R9: =IF(PPG!H73="", "", PPG!H73) | S9: =IF(PPG!I73="", "", PPG!I73) | T9: =IF(PPG!J73="", "", PPG!J73) | U9: =IF(PPG!K73="", "", PPG!K73) | V9: =IF(PPG!L73="", "", PPG!L73) | W9: =IF(PPG!M73="", "", PPG!M73) | X9: =IF(PPG!N73="", "", PPG!N73) | Y9: =IF(PPG!O73="", "", PPG!O73) | Z9: =IF(PPG!Q73="", "", PPG!Q73) | AA9: =IF(PPG!R73="", "", PPG!R73) | AB9: =IF(PPG!S73="", "", PPG!S73) | AC9: =IF(PPG!T73="", "", PPG!T73) | AD9: =IF(PPG!U73="", "", PPG!U73) | AE9: =IF(PPG!V73="", "", PPG!V73) | AF9: =IF(PPG!W73="", "", PPG!W73) | AG9: =IF(PPG!X73="", "", PPG!X73) | ... AI9: =IF(PPG!Z73="", "", PPG!Z73) | AJ9: =IF(D9<>"",D9*I9, "0.00") -> 0.00 | AK9: =IF(D9<>"",D9, "0") -> 0 | AL9: =IF(D9<>"",D9*K9, "0") -> 0
A10: =IF(OUT!C38="", "", OUT!C38) -> 754 | B10: =IF(OUT!A38="", "", OUT!A38) -> 83667 | C10: =IF(OUT!D38="", "", OUT!D38) -> O | E10: =IF(OUT!E38="", "", OUT!E38) -> 72 TRAY | F10: =IF(OUT!AE38="NEW", "✷", "") | G10: =IF(OUT!B38="", "", OUT!B38) -> ALOCASIA MACRORRHIZA CALIDORA (DWARF PERSIAN PALM) | H10: =IF(AND($K$3=1,$K$4="N"),P10,IF(AND($K$3=2,$K$4="N"),R10,IF(AND($K$3=3,$K$4="N"),T10,IF(AND($K$3=4,$K$4="N"),V10,IF(AND($K$3=5,$K$4="N"),X10,IF(AND($K$3=1,$K$4="Y"),Z10,IF(AND($K$3=2,$K$4="Y"),AB10,IF(AND($K$3=3,$K$4="Y"),AD10,IF(AND($K$3=4,$K$4="Y"),AF10,IF(AND($K$3=5,$K$4="Y"),AH10,"FALSE")))))))))) -> 1.84 | I10: =IF(AND($K$3=1,$K$4="N"),Q10,IF(AND($K$3=2,$K$4="N"),S10,IF(AND($K$3=3,$K$4="N"),U10,IF(AND($K$3=4,$K$4="N"),W10,IF(AND($K$3=5,$K$4="N"),Y10,IF(AND($K$3=1,$K$4="Y"),AA10,IF(AND($K$3=2,$K$4="Y"),AC10,IF(AND($K$3=3,$K$4="Y"),AE10,IF(AND($K$3=4,$K$4="Y"),AG10,IF(AND($K$3=5,$K$4="Y"),AI10,"FALSE")))))))))) -> 132.48 | J10: =IF(OUT!F38="", "", OUT!F38) | K10: =IF(OUT!P38="", "", OUT!P38) -> 72 | L10: =IF(OUT!AE38="", "", OUT!AE38) | M10: =IF(OUT!AG38="", "", OUT!AG38) | N10: =IF(OUT!AQ38="", "", OUT!AQ38) | O10: =IF(OUT!BO38="", "", OUT!BO38) -> T3 | P10: =IF(OUT!N38="", "", OUT!N38) -> 1.84 | Q10: =IF(OUT!O38="", "", OUT!O38) -> 132.48 | R10: =IF(PPG!H38="", "", PPG!H38) | S10: =IF(PPG!I38="", "", PPG!I38) | T10: =IF(PPG!J38="", "", PPG!J38) | U10: =IF(PPG!K38="", "", PPG!K38) | V10: =IF(PPG!L38="", "", PPG!L38) | W10: =IF(PPG!M38="", "", PPG!M38) | X10: =IF(PPG!N38="", "", PPG!N38) | Y10: =IF(PPG!O38="", "", PPG!O38) | Z10: =IF(PPG!Q38="", "", PPG!Q38) | AA10: =IF(PPG!R38="", "", PPG!R38) | AB10: =IF(PPG!S38="", "", PPG!S38) | AC10: =IF(PPG!T38="", "", PPG!T38) | AD10: =IF(PPG!U38="", "", PPG!U38) | AE10: =IF(PPG!V38="", "", PPG!V38) | AF10: =IF(PPG!W38="", "", PPG!W38) | AG10: =IF(PPG!X38="", "", PPG!X38) | ... AI10: =IF(PPG!Z38="", "", PPG!Z38) | AJ10: =IF(D10<>"",D10*I10, "0.00") -> 0.00 | AK10: =IF(D10<>"",D10, "0") -> 0 | AL10: =IF(D10<>"",D10*K10, "0") -> 0
A11: =IF(OUT!C54="", "", OUT!C54) -> 754 | B11: =IF(OUT!A54="", "", OUT!A54) -> 93552 | C11: =IF(OUT!D54="", "", OUT!D54) -> O | E11: =IF(OUT!E54="", "", OUT!E54) -> 72 TRAY | F11: =IF(OUT!AE54="NEW", "✷", "") | G11: =IF(OUT!B54="", "", OUT!B54) -> ALOCASIA MAYAN MASK | H11: =IF(AND($K$3=1,$K$4="N"),P11,IF(AND($K$3=2,$K$4="N"),R11,IF(AND($K$3=3,$K$4="N"),T11,IF(AND($K$3=4,$K$4="N"),V11,IF(AND($K$3=5,$K$4="N"),X11,IF(AND($K$3=1,$K$4="Y"),Z11,IF(AND($K$3=2,$K$4="Y"),AB11,IF(AND($K$3=3,$K$4="Y"),AD11,IF(AND($K$3=4,$K$4="Y"),AF11,IF(AND($K$3=5,$K$4="Y"),AH11,"FALSE")))))))))) -> 2.169 | I11: =IF(AND($K$3=1,$K$4="N"),Q11,IF(AND($K$3=2,$K$4="N"),S11,IF(AND($K$3=3,$K$4="N"),U11,IF(AND($K$3=4,$K$4="N"),W11,IF(AND($K$3=5,$K$4="N"),Y11,IF(AND($K$3=1,$K$4="Y"),AA11,IF(AND($K$3=2,$K$4="Y"),AC11,IF(AND($K$3=3,$K$4="Y"),AE11,IF(AND($K$3=4,$K$4="Y"),AG11,IF(AND($K$3=5,$K$4="Y"),AI11,"FALSE")))))))))) -> 156.16 | J11: =IF(OUT!F54="", "", OUT!F54) | K11: =IF(OUT!P54="", "", OUT!P54) -> 72 | L11: =IF(OUT!AE54="", "", OUT!AE54) | M11: =IF(OUT!AG54="", "", OUT!AG54) -> PAT | N11: =IF(OUT!AQ54="", "", OUT!AQ54) | O11: =IF(OUT!BO54="", "", OUT!BO54) -> T3 | P11: =IF(OUT!N54="", "", OUT!N54) -> 2.169 | Q11: =IF(OUT!O54="", "", OUT!O54) -> 156.16 | R11: =IF(PPG!H54="", "", PPG!H54) | S11: =IF(PPG!I54="", "", PPG!I54) | T11: =IF(PPG!J54="", "", PPG!J54) | U11: =IF(PPG!K54="", "", PPG!K54) | V11: =IF(PPG!L54="", "", PPG!L54) | W11: =IF(PPG!M54="", "", PPG!M54) | X11: =IF(PPG!N54="", "", PPG!N54) | Y11: =IF(PPG!O54="", "", PPG!O54) | Z11: =IF(PPG!Q54="", "", PPG!Q54) | AA11: =IF(PPG!R54="", "", PPG!R54) | AB11: =IF(PPG!S54="", "", PPG!S54) | AC11: =IF(PPG!T54="", "", PPG!T54) | AD11: =IF(PPG!U54="", "", PPG!U54) | AE11: =IF(PPG!V54="", "", PPG!V54) | AF11: =IF(PPG!W54="", "", PPG!W54) | AG11: =IF(PPG!X54="", "", PPG!X54) | ... AI11: =IF(PPG!Z54="", "", PPG!Z54) | AJ11: =IF(D11<>"",D11*I11, "0.00") -> 0.00 | AK11: =IF(D11<>"",D11, "0") -> 0 | AL11: =IF(D11<>"",D11*K11, "0") -> 0
A12: =IF(OUT!C40="", "", OUT!C40) -> 754 | B12: =IF(OUT!A40="", "", OUT!A40) -> 83683 | C12: =IF(OUT!D40="", "", OUT!D40) -> O | E12: =IF(OUT!E40="", "", OUT!E40) -> 72 TRAY | F12: =IF(OUT!AE40="NEW", "✷", "") -> ✷ | G12: =IF(OUT!B40="", "", OUT!B40) -> ALOCASIA ODORA | H12: =IF(AND($K$3=1,$K$4="N"),P12,IF(AND($K$3=2,$K$4="N"),R12,IF(AND($K$3=3,$K$4="N"),T12,IF(AND($K$3=4,$K$4="N"),V12,IF(AND($K$3=5,$K$4="N"),X12,IF(AND($K$3=1,$K$4="Y"),Z12,IF(AND($K$3=2,$K$4="Y"),AB12,IF(AND($K$3=3,$K$4="Y"),AD12,IF(AND($K$3=4,$K$4="Y"),AF12,IF(AND($K$3=5,$K$4="Y"),AH12,"FALSE")))))))))) -> 1.612 | I12: =IF(AND($K$3=1,$K$4="N"),Q12,IF(AND($K$3=2,$K$4="N"),S12,IF(AND($K$3=3,$K$4="N"),U12,IF(AND($K$3=4,$K$4="N"),W12,IF(AND($K$3=5,$K$4="N"),Y12,IF(AND($K$3=1,$K$4="Y"),AA12,IF(AND($K$3=2,$K$4="Y"),AC12,IF(AND($K$3=3,$K$4="Y"),AE12,IF(AND($K$3=4,$K$4="Y"),AG12,IF(AND($K$3=5,$K$4="Y"),AI12,"FALSE")))))))))) -> 116.06 | J12: =IF(OUT!F40="", "", OUT!F40) | K12: =IF(OUT!P40="", "", OUT!P40) -> 72 | L12: =IF(OUT!AE40="", "", OUT!AE40) -> NEW | M12: =IF(OUT!AG40="", "", OUT!AG40) | N12: =IF(OUT!AQ40="", "", OUT!AQ40) | O12: =IF(OUT!BO40="", "", OUT!BO40) -> T3 | P12: =IF(OUT!N40="", "", OUT!N40) -> 1.612 | Q12: =IF(OUT!O40="", "", OUT!O40) -> 116.06 | R12: =IF(PPG!H40="", "", PPG!H40) | S12: =IF(PPG!I40="", "", PPG!I40) | T12: =IF(PPG!J40="", "", PPG!J40) | U12: =IF(PPG!K40="", "", PPG!K40) | V12: =IF(PPG!L40="", "", PPG!L40) | W12: =IF(PPG!M40="", "", PPG!M40) | X12: =IF(PPG!N40="", "", PPG!N40) | Y12: =IF(PPG!O40="", "", PPG!O40) | Z12: =IF(PPG!Q40="", "", PPG!Q40) | AA12: =IF(PPG!R40="", "", PPG!R40) | AB12: =IF(PPG!S40="", "", PPG!S40) | AC12: =IF(PPG!T40="", "", PPG!T40) | AD12: =IF(PPG!U40="", "", PPG!U40) | AE12: =IF(PPG!V40="", "", PPG!V40) | AF12: =IF(PPG!W40="", "", PPG!W40) | AG12: =IF(PPG!X40="", "", PPG!X40) | ... AI12: =IF(PPG!Z40="", "", PPG!Z40) | AJ12: =IF(D12<>"",D12*I12, "0.00") -> 0.00 | AK12: =IF(D12<>"",D12, "0") -> 0 | AL12: =IF(D12<>"",D12*K12, "0") -> 0
A13: =IF(OUT!C41="", "", OUT!C41) -> 754 | B13: =IF(OUT!A41="", "", OUT!A41) -> 83685 | C13: =IF(OUT!D41="", "", OUT!D41) -> O | E13: =IF(OUT!E41="", "", OUT!E41) -> 72 TRAY | F13: =IF(OUT!AE41="NEW", "✷", "") | G13: =IF(OUT!B41="", "", OUT!B41) -> ALOCASIA PORTORA | H13: =IF(AND($K$3=1,$K$4="N"),P13,IF(AND($K$3=2,$K$4="N"),R13,IF(AND($K$3=3,$K$4="N"),T13,IF(AND($K$3=4,$K$4="N"),V13,IF(AND($K$3=5,$K$4="N"),X13,IF(AND($K$3=1,$K$4="Y"),Z13,IF(AND($K$3=2,$K$4="Y"),AB13,IF(AND($K$3=3,$K$4="Y"),AD13,IF(AND($K$3=4,$K$4="Y"),AF13,IF(AND($K$3=5,$K$4="Y"),AH13,"FALSE")))))))))) -> 1.84 | I13: =IF(AND($K$3=1,$K$4="N"),Q13,IF(AND($K$3=2,$K$4="N"),S13,IF(AND($K$3=3,$K$4="N"),U13,IF(AND($K$3=4,$K$4="N"),W13,IF(AND($K$3=5,$K$4="N"),Y13,IF(AND($K$3=1,$K$4="Y"),AA13,IF(AND($K$3=2,$K$4="Y"),AC13,IF(AND($K$3=3,$K$4="Y"),AE13,IF(AND($K$3=4,$K$4="Y"),AG13,IF(AND($K$3=5,$K$4="Y"),AI13,"FALSE")))))))))) -> 132.48 | J13: =IF(OUT!F41="", "", OUT!F41) | K13: =IF(OUT!P41="", "", OUT!P41) -> 72 | L13: =IF(OUT!AE41="", "", OUT!AE41) | M13: =IF(OUT!AG41="", "", OUT!AG41) | N13: =IF(OUT!AQ41="", "", OUT!AQ41) | O13: =IF(OUT!BO41="", "", OUT!BO41) -> T3 | P13: =IF(OUT!N41="", "", OUT!N41) -> 1.84 | Q13: =IF(OUT!O41="", "", OUT!O41) -> 132.48 | R13: =IF(PPG!H41="", "", PPG!H41) | S13: =IF(PPG!I41="", "", PPG!I41) | T13: =IF(PPG!J41="", "", PPG!J41) | U13: =IF(PPG!K41="", "", PPG!K41) | V13: =IF(PPG!L41="", "", PPG!L41) | W13: =IF(PPG!M41="", "", PPG!M41) | X13: =IF(PPG!N41="", "", PPG!N41) | Y13: =IF(PPG!O41="", "", PPG!O41) | Z13: =IF(PPG!Q41="", "", PPG!Q41) | AA13: =IF(PPG!R41="", "", PPG!R41) | AB13: =IF(PPG!S41="", "", PPG!S41) | AC13: =IF(PPG!T41="", "", PPG!T41) | AD13: =IF(PPG!U41="", "", PPG!U41) | AE13: =IF(PPG!V41="", "", PPG!V41) | AF13: =IF(PPG!W41="", "", PPG!W41) | AG13: =IF(PPG!X41="", "", PPG!X41) | ... AI13: =IF(PPG!Z41="", "", PPG!Z41) | AJ13: =IF(D13<>"",D13*I13, "0.00") -> 0.00 | AK13: =IF(D13<>"",D13, "0") -> 0 | AL13: =IF(D13<>"",D13*K13, "0") -> 0
A14: =IF(OUT!C55="", "", OUT!C55) -> 754 | B14: =IF(OUT!A55="", "", OUT!A55) -> 93553 | C14: =IF(OUT!D55="", "", OUT!D55) -> O | E14: =IF(OUT!E55="", "", OUT!E55) -> 72 TRAY | F14: =IF(OUT!AE55="NEW", "✷", "") | G14: =IF(OUT!B55="", "", OUT!B55) -> ALOCASIA REGAL SHIELDS | H14: =IF(AND($K$3=1,$K$4="N"),P14,IF(AND($K$3=2,$K$4="N"),R14,IF(AND($K$3=3,$K$4="N"),T14,IF(AND($K$3=4,$K$4="N"),V14,IF(AND($K$3=5,$K$4="N"),X14,IF(AND($K$3=1,$K$4="Y"),Z14,IF(AND($K$3=2,$K$4="Y"),AB14,IF(AND($K$3=3,$K$4="Y"),AD14,IF(AND($K$3=4,$K$4="Y"),AF14,IF(AND($K$3=5,$K$4="Y"),AH14,"FALSE")))))))))) -> 2.06 | I14: =IF(AND($K$3=1,$K$4="N"),Q14,IF(AND($K$3=2,$K$4="N"),S14,IF(AND($K$3=3,$K$4="N"),U14,IF(AND($K$3=4,$K$4="N"),W14,IF(AND($K$3=5,$K$4="N"),Y14,IF(AND($K$3=1,$K$4="Y"),AA14,IF(AND($K$3=2,$K$4="Y"),AC14,IF(AND($K$3=3,$K$4="Y"),AE14,IF(AND($K$3=4,$K$4="Y"),AG14,IF(AND($K$3=5,$K$4="Y"),AI14,"FALSE")))))))))) -> 148.32 | J14: =IF(OUT!F55="", "", OUT!F55) | K14: =IF(OUT!P55="", "", OUT!P55) -> 72 | L14: =IF(OUT!AE55="", "", OUT!AE55) | M14: =IF(OUT!AG55="", "", OUT!AG55) -> PAT | N14: =IF(OUT!AQ55="", "", OUT!AQ55) | O14: =IF(OUT!BO55="", "", OUT!BO55) -> T3 | P14: =IF(OUT!N55="", "", OUT!N55) -> 2.06 | Q14: =IF(OUT!O55="", "", OUT!O55) -> 148.32 | R14: =IF(PPG!H55="", "", PPG!H55) | S14: =IF(PPG!I55="", "", PPG!I55) | T14: =IF(PPG!J55="", "", PPG!J55) | U14: =IF(PPG!K55="", "", PPG!K55) | V14: =IF(PPG!L55="", "", PPG!L55) | W14: =IF(PPG!M55="", "", PPG!M55) | X14: =IF(PPG!N55="", "", PPG!N55) | Y14: =IF(PPG!O55="", "", PPG!O55) | Z14: =IF(PPG!Q55="", "", PPG!Q55) | AA14: =IF(PPG!R55="", "", PPG!R55) | AB14: =IF(PPG!S55="", "", PPG!S55) | AC14: =IF(PPG!T55="", "", PPG!T55) | AD14: =IF(PPG!U55="", "", PPG!U55) | AE14: =IF(PPG!V55="", "", PPG!V55) | AF14: =IF(PPG!W55="", "", PPG!W55) | AG14: =IF(PPG!X55="", "", PPG!X55) | ... AI14: =IF(PPG!Z55="", "", PPG!Z55) | AJ14: =IF(D14<>"",D14*I14, "0.00") -> 0.00 | AK14: =IF(D14<>"",D14, "0") -> 0 | AL14: =IF(D14<>"",D14*K14, "0") -> 0
A15: =IF(OUT!C56="", "", OUT!C56) -> 754 | B15: =IF(OUT!A56="", "", OUT!A56) -> 93555 | C15: =IF(OUT!D56="", "", OUT!D56) -> O | E15: =IF(OUT!E56="", "", OUT!E56) -> 72 TRAY | F15: =IF(OUT!AE56="NEW", "✷", "") | G15: =IF(OUT!B56="", "", OUT!B56) -> ALOCASIA TINY DANCERS | H15: =IF(AND($K$3=1,$K$4="N"),P15,IF(AND($K$3=2,$K$4="N"),R15,IF(AND($K$3=3,$K$4="N"),T15,IF(AND($K$3=4,$K$4="N"),V15,IF(AND($K$3=5,$K$4="N"),X15,IF(AND($K$3=1,$K$4="Y"),Z15,IF(AND($K$3=2,$K$4="Y"),AB15,IF(AND($K$3=3,$K$4="Y"),AD15,IF(AND($K$3=4,$K$4="Y"),AF15,IF(AND($K$3=5,$K$4="Y"),AH15,"FALSE")))))))))) -> 2.06 | I15: =IF(AND($K$3=1,$K$4="N"),Q15,IF(AND($K$3=2,$K$4="N"),S15,IF(AND($K$3=3,$K$4="N"),U15,IF(AND($K$3=4,$K$4="N"),W15,IF(AND($K$3=5,$K$4="N"),Y15,IF(AND($K$3=1,$K$4="Y"),AA15,IF(AND($K$3=2,$K$4="Y"),AC15,IF(AND($K$3=3,$K$4="Y"),AE15,IF(AND($K$3=4,$K$4="Y"),AG15,IF(AND($K$3=5,$K$4="Y"),AI15,"FALSE")))))))))) -> 148.32 | J15: =IF(OUT!F56="", "", OUT!F56) | K15: =IF(OUT!P56="", "", OUT!P56) -> 72 | L15: =IF(OUT!AE56="", "", OUT!AE56) | M15: =IF(OUT!AG56="", "", OUT!AG56) -> PAT | N15: =IF(OUT!AQ56="", "", OUT!AQ56) | O15: =IF(OUT!BO56="", "", OUT!BO56) -> T3 | P15: =IF(OUT!N56="", "", OUT!N56) -> 2.06 | Q15: =IF(OUT!O56="", "", OUT!O56) -> 148.32 | R15: =IF(PPG!H56="", "", PPG!H56) | S15: =IF(PPG!I56="", "", PPG!I56) | T15: =IF(PPG!J56="", "", PPG!J56) | U15: =IF(PPG!K56="", "", PPG!K56) | V15: =IF(PPG!L56="", "", PPG!L56) | W15: =IF(PPG!M56="", "", PPG!M56) | X15: =IF(PPG!N56="", "", PPG!N56) | Y15: =IF(PPG!O56="", "", PPG!O56) | Z15: =IF(PPG!Q56="", "", PPG!Q56) | AA15: =IF(PPG!R56="", "", PPG!R56) | AB15: =IF(PPG!S56="", "", PPG!S56) | AC15: =IF(PPG!T56="", "", PPG!T56) | AD15: =IF(PPG!U56="", "", PPG!U56) | AE15: =IF(PPG!V56="", "", PPG!V56) | AF15: =IF(PPG!W56="", "", PPG!W56) | AG15: =IF(PPG!X56="", "", PPG!X56) | ... AI15: =IF(PPG!Z56="", "", PPG!Z56) | AJ15: =IF(D15<>"",D15*I15, "0.00") -> 0.00 | AK15: =IF(D15<>"",D15, "0") -> 0 | AL15: =IF(D15<>"",D15*K15, "0") -> 0
A16: =IF(OUT!C30="", "", OUT!C30) -> 754 | B16: =IF(OUT!A30="", "", OUT!A30) -> 64219 | C16: =IF(OUT!D30="", "", OUT!D30) -> O | E16: =IF(OUT!E30="", "", OUT!E30) -> 72 TRAY | F16: =IF(OUT!AE30="NEW", "✷", "") | G16: =IF(OUT!B30="", "", OUT!B30) -> ALTERNANTHERA KRINKLE RED | H16: =IF(AND($K$3=1,$K$4="N"),P16,IF(AND($K$3=2,$K$4="N"),R16,IF(AND($K$3=3,$K$4="N"),T16,IF(AND($K$3=4,$K$4="N"),V16,IF(AND($K$3=5,$K$4="N"),X16,IF(AND($K$3=1,$K$4="Y"),Z16,IF(AND($K$3=2,$K$4="Y"),AB16,IF(AND($K$3=3,$K$4="Y"),AD16,IF(AND($K$3=4,$K$4="Y"),AF16,IF(AND($K$3=5,$K$4="Y"),AH16,"FALSE")))))))))) -> 0.823 | I16: =IF(AND($K$3=1,$K$4="N"),Q16,IF(AND($K$3=2,$K$4="N"),S16,IF(AND($K$3=3,$K$4="N"),U16,IF(AND($K$3=4,$K$4="N"),W16,IF(AND($K$3=5,$K$4="N"),Y16,IF(AND($K$3=1,$K$4="Y"),AA16,IF(AND($K$3=2,$K$4="Y"),AC16,IF(AND($K$3=3,$K$4="Y"),AE16,IF(AND($K$3=4,$K$4="Y"),AG16,IF(AND($K$3=5,$K$4="Y"),AI16,"FALSE")))))))))) -> 59.25 | J16: =IF(OUT!F30="", "", OUT!F30) | K16: =IF(OUT!P30="", "", OUT!P30) -> 72 | L16: =IF(OUT!AE30="", "", OUT!AE30) | M16: =IF(OUT!AG30="", "", OUT!AG30) | N16: =IF(OUT!AQ30="", "", OUT!AQ30) | O16: =IF(OUT!BO30="", "", OUT!BO30) -> T3 | P16: =IF(OUT!N30="", "", OUT!N30) -> 0.823 | Q16: =IF(OUT!O30="", "", OUT!O30) -> 59.25 | R16: =IF(PPG!H30="", "", PPG!H30) | S16: =IF(PPG!I30="", "", PPG!I30) | T16: =IF(PPG!J30="", "", PPG!J30) | U16: =IF(PPG!K30="", "", PPG!K30) | V16: =IF(PPG!L30="", "", PPG!L30) | W16: =IF(PPG!M30="", "", PPG!M30) | X16: =IF(PPG!N30="", "", PPG!N30) | Y16: =IF(PPG!O30="", "", PPG!O30) | Z16: =IF(PPG!Q30="", "", PPG!Q30) | AA16: =IF(PPG!R30="", "", PPG!R30) | AB16: =IF(PPG!S30="", "", PPG!S30) | AC16: =IF(PPG!T30="", "", PPG!T30) | AD16: =IF(PPG!U30="", "", PPG!U30) | AE16: =IF(PPG!V30="", "", PPG!V30) | AF16: =IF(PPG!W30="", "", PPG!W30) | AG16: =IF(PPG!X30="", "", PPG!X30) | ... AI16: =IF(PPG!Z30="", "", PPG!Z30) | AJ16: =IF(D16<>"",D16*I16, "0.00") -> 0.00 | AK16: =IF(D16<>"",D16, "0") -> 0 | AL16: =IF(D16<>"",D16*K16, "0") -> 0
A17: =IF(OUT!C32="", "", OUT!C32) -> 754 | B17: =IF(OUT!A32="", "", OUT!A32) -> 69619 | C17: =IF(OUT!D32="", "", OUT!D32) -> O | E17: =IF(OUT!E32="", "", OUT!E32) -> 72 TRAY | F17: =IF(OUT!AE32="NEW", "✷", "") | G17: =IF(OUT!B32="", "", OUT!B32) -> ALTERNANTHERA PARTY TIME (Pink w/Green Upright) | H17: =IF(AND($K$3=1,$K$4="N"),P17,IF(AND($K$3=2,$K$4="N"),R17,IF(AND($K$3=3,$K$4="N"),T17,IF(AND($K$3=4,$K$4="N"),V17,IF(AND($K$3=5,$K$4="N"),X17,IF(AND($K$3=1,$K$4="Y"),Z17,IF(AND($K$3=2,$K$4="Y"),AB17,IF(AND($K$3=3,$K$4="Y"),AD17,IF(AND($K$3=4,$K$4="Y"),AF17,IF(AND($K$3=5,$K$4="Y"),AH17,"FALSE")))))))))) -> 1.132 | I17: =IF(AND($K$3=1,$K$4="N"),Q17,IF(AND($K$3=2,$K$4="N"),S17,IF(AND($K$3=3,$K$4="N"),U17,IF(AND($K$3=4,$K$4="N"),W17,IF(AND($K$3=5,$K$4="N"),Y17,IF(AND($K$3=1,$K$4="Y"),AA17,IF(AND($K$3=2,$K$4="Y"),AC17,IF(AND($K$3=3,$K$4="Y"),AE17,IF(AND($K$3=4,$K$4="Y"),AG17,IF(AND($K$3=5,$K$4="Y"),AI17,"FALSE")))))))))) -> 81.5 | J17: =IF(OUT!F32="", "", OUT!F32) | K17: =IF(OUT!P32="", "", OUT!P32) -> 72 | L17: =IF(OUT!AE32="", "", OUT!AE32) | M17: =IF(OUT!AG32="", "", OUT!AG32) | N17: =IF(OUT!AQ32="", "", OUT!AQ32) | O17: =IF(OUT!BO32="", "", OUT!BO32) -> T3 | P17: =IF(OUT!N32="", "", OUT!N32) -> 1.132 | Q17: =IF(OUT!O32="", "", OUT!O32) -> 81.5 | R17: =IF(PPG!H32="", "", PPG!H32) | S17: =IF(PPG!I32="", "", PPG!I32) | T17: =IF(PPG!J32="", "", PPG!J32) | U17: =IF(PPG!K32="", "", PPG!K32) | V17: =IF(PPG!L32="", "", PPG!L32) | W17: =IF(PPG!M32="", "", PPG!M32) | X17: =IF(PPG!N32="", "", PPG!N32) | Y17: =IF(PPG!O32="", "", PPG!O32) | Z17: =IF(PPG!Q32="", "", PPG!Q32) | AA17: =IF(PPG!R32="", "", PPG!R32) | AB17: =IF(PPG!S32="", "", PPG!S32) | AC17: =IF(PPG!T32="", "", PPG!T32) | AD17: =IF(PPG!U32="", "", PPG!U32) | AE17: =IF(PPG!V32="", "", PPG!V32) | AF17: =IF(PPG!W32="", "", PPG!W32) | AG17: =IF(PPG!X32="", "", PPG!X32) | ... AI17: =IF(PPG!Z32="", "", PPG!Z32) | AJ17: =IF(D17<>"",D17*I17, "0.00") -> 0.00 | AK17: =IF(D17<>"",D17, "0") -> 0 | AL17: =IF(D17<>"",D17*K17, "0") -> 0
A18: =IF(OUT!C31="", "", OUT!C31) -> 754 | B18: =IF(OUT!A31="", "", OUT!A31) -> 68992 | C18: =IF(OUT!D31="", "", OUT!D31) -> O | E18: =IF(OUT!E31="", "", OUT!E31) -> 72 TRAY | F18: =IF(OUT!AE31="NEW", "✷", "") | G18: =IF(OUT!B31="", "", OUT!B31) -> ALTERNANTHERA RED THREADS | H18: =IF(AND($K$3=1,$K$4="N"),P18,IF(AND($K$3=2,$K$4="N"),R18,IF(AND($K$3=3,$K$4="N"),T18,IF(AND($K$3=4,$K$4="N"),V18,IF(AND($K$3=5,$K$4="N"),X18,IF(AND($K$3=1,$K$4="Y"),Z18,IF(AND($K$3=2,$K$4="Y"),AB18,IF(AND($K$3=3,$K$4="Y"),AD18,IF(AND($K$3=4,$K$4="Y"),AF18,IF(AND($K$3=5,$K$4="Y"),AH18,"FALSE")))))))))) -> 0.823 | I18: =IF(AND($K$3=1,$K$4="N"),Q18,IF(AND($K$3=2,$K$4="N"),S18,IF(AND($K$3=3,$K$4="N"),U18,IF(AND($K$3=4,$K$4="N"),W18,IF(AND($K$3=5,$K$4="N"),Y18,IF(AND($K$3=1,$K$4="Y"),AA18,IF(AND($K$3=2,$K$4="Y"),AC18,IF(AND($K$3=3,$K$4="Y"),AE18,IF(AND($K$3=4,$K$4="Y"),AG18,IF(AND($K$3=5,$K$4="Y"),AI18,"FALSE")))))))))) -> 59.25 | J18: =IF(OUT!F31="", "", OUT!F31) | K18: =IF(OUT!P31="", "", OUT!P31) -> 72 | L18: =IF(OUT!AE31="", "", OUT!AE31) | M18: =IF(OUT!AG31="", "", OUT!AG31) | N18: =IF(OUT!AQ31="", "", OUT!AQ31) | O18: =IF(OUT!BO31="", "", OUT!BO31) -> T3 | P18: =IF(OUT!N31="", "", OUT!N31) -> 0.823 | Q18: =IF(OUT!O31="", "", OUT!O31) -> 59.25 | R18: =IF(PPG!H31="", "", PPG!H31) | S18: =IF(PPG!I31="", "", PPG!I31) | T18: =IF(PPG!J31="", "", PPG!J31) | U18: =IF(PPG!K31="", "", PPG!K31) | V18: =IF(PPG!L31="", "", PPG!L31) | W18: =IF(PPG!M31="", "", PPG!M31) | X18: =IF(PPG!N31="", "", PPG!N31) | Y18: =IF(PPG!O31="", "", PPG!O31) | Z18: =IF(PPG!Q31="", "", PPG!Q31) | AA18: =IF(PPG!R31="", "", PPG!R31) | AB18: =IF(PPG!S31="", "", PPG!S31) | AC18: =IF(PPG!T31="", "", PPG!T31) | AD18: =IF(PPG!U31="", "", PPG!U31) | AE18: =IF(PPG!V31="", "", PPG!V31) | AF18: =IF(PPG!W31="", "", PPG!W31) | AG18: =IF(PPG!X31="", "", PPG!X31) | ... AI18: =IF(PPG!Z31="", "", PPG!Z31) | AJ18: =IF(D18<>"",D18*I18, "0.00") -> 0.00 | AK18: =IF(D18<>"",D18, "0") -> 0 | AL18: =IF(D18<>"",D18*K18, "0") -> 0
A19: =IF(OUT!C9="", "", OUT!C9) -> 754 | B19: =IF(OUT!A9="", "", OUT!A9) -> 13492 | C19: =IF(OUT!D9="", "", OUT!D9) -> O | E19: =IF(OUT!E9="", "", OUT!E9) -> 72 TRAY | F19: =IF(OUT!AE9="NEW", "✷", "") -> ✷ | G19: =IF(OUT!B9="", "", OUT!B9) -> ALTERNANTHERA SNOW BUNNY | H19: =IF(AND($K$3=1,$K$4="N"),P19,IF(AND($K$3=2,$K$4="N"),R19,IF(AND($K$3=3,$K$4="N"),T19,IF(AND($K$3=4,$K$4="N"),V19,IF(AND($K$3=5,$K$4="N"),X19,IF(AND($K$3=1,$K$4="Y"),Z19,IF(AND($K$3=2,$K$4="Y"),AB19,IF(AND($K$3=3,$K$4="Y"),AD19,IF(AND($K$3=4,$K$4="Y"),AF19,IF(AND($K$3=5,$K$4="Y"),AH19,"FALSE")))))))))) -> 1.132 | I19: =IF(AND($K$3=1,$K$4="N"),Q19,IF(AND($K$3=2,$K$4="N"),S19,IF(AND($K$3=3,$K$4="N"),U19,IF(AND($K$3=4,$K$4="N"),W19,IF(AND($K$3=5,$K$4="N"),Y19,IF(AND($K$3=1,$K$4="Y"),AA19,IF(AND($K$3=2,$K$4="Y"),AC19,IF(AND($K$3=3,$K$4="Y"),AE19,IF(AND($K$3=4,$K$4="Y"),AG19,IF(AND($K$3=5,$K$4="Y"),AI19,"FALSE")))))))))) -> 81.5 | J19: =IF(OUT!F9="", "", OUT!F9) | K19: =IF(OUT!P9="", "", OUT!P9) -> 72 | L19: =IF(OUT!AE9="", "", OUT!AE9) -> NEW | M19: =IF(OUT!AG9="", "", OUT!AG9) | N19: =IF(OUT!AQ9="", "", OUT!AQ9) | O19: =IF(OUT!BO9="", "", OUT!BO9) -> T3 | P19: =IF(OUT!N9="", "", OUT!N9) -> 1.132 | Q19: =IF(OUT!O9="", "", OUT!O9) -> 81.5 | R19: =IF(PPG!H9="", "", PPG!H9) | S19: =IF(PPG!I9="", "", PPG!I9) | T19: =IF(PPG!J9="", "", PPG!J9) | U19: =IF(PPG!K9="", "", PPG!K9) | V19: =IF(PPG!L9="", "", PPG!L9) | W19: =IF(PPG!M9="", "", PPG!M9) | X19: =IF(PPG!N9="", "", PPG!N9) | Y19: =IF(PPG!O9="", "", PPG!O9) | Z19: =IF(PPG!Q9="", "", PPG!Q9) | AA19: =IF(PPG!R9="", "", PPG!R9) | AB19: =IF(PPG!S9="", "", PPG!S9) | AC19: =IF(PPG!T9="", "", PPG!T9) | AD19: =IF(PPG!U9="", "", PPG!U9) | AE19: =IF(PPG!V9="", "", PPG!V9) | AF19: =IF(PPG!W9="", "", PPG!W9) | AG19: =IF(PPG!X9="", "", PPG!X9) | ... AI19: =IF(PPG!Z9="", "", PPG!Z9) | AJ19: =IF(D19<>"",D19*I19, "0.00") -> 0.00 | AK19: =IF(D19<>"",D19, "0") -> 0 | AL19: =IF(D19<>"",D19*K19, "0") -> 0
A20: =IF(OUT!C28="", "", OUT!C28) -> 754 | B20: =IF(OUT!A28="", "", OUT!A28) -> 58680 | C20: =IF(OUT!D28="", "", OUT!D28) -> O | E20: =IF(OUT!E28="", "", OUT!E28) -> 72 TRAY | F20: =IF(OUT!AE28="NEW", "✷", "") | G20: =IF(OUT!B28="", "", OUT!B28) -> ALTERNANTHERA SNOW QUEEN | H20: =IF(AND($K$3=1,$K$4="N"),P20,IF(AND($K$3=2,$K$4="N"),R20,IF(AND($K$3=3,$K$4="N"),T20,IF(AND($K$3=4,$K$4="N"),V20,IF(AND($K$3=5,$K$4="N"),X20,IF(AND($K$3=1,$K$4="Y"),Z20,IF(AND($K$3=2,$K$4="Y"),AB20,IF(AND($K$3=3,$K$4="Y"),AD20,IF(AND($K$3=4,$K$4="Y"),AF20,IF(AND($K$3=5,$K$4="Y"),AH20,"FALSE")))))))))) -> 0.823 | I20: =IF(AND($K$3=1,$K$4="N"),Q20,IF(AND($K$3=2,$K$4="N"),S20,IF(AND($K$3=3,$K$4="N"),U20,IF(AND($K$3=4,$K$4="N"),W20,IF(AND($K$3=5,$K$4="N"),Y20,IF(AND($K$3=1,$K$4="Y"),AA20,IF(AND($K$3=2,$K$4="Y"),AC20,IF(AND($K$3=3,$K$4="Y"),AE20,IF(AND($K$3=4,$K$4="Y"),AG20,IF(AND($K$3=5,$K$4="Y"),AI20,"FALSE")))))))))) -> 59.25 | J20: =IF(OUT!F28="", "", OUT!F28) | K20: =IF(OUT!P28="", "", OUT!P28) -> 72 | L20: =IF(OUT!AE28="", "", OUT!AE28) | M20: =IF(OUT!AG28="", "", OUT!AG28) | N20: =IF(OUT!AQ28="", "", OUT!AQ28) | O20: =IF(OUT!BO28="", "", OUT!BO28) -> T3 | P20: =IF(OUT!N28="", "", OUT!N28) -> 0.823 | Q20: =IF(OUT!O28="", "", OUT!O28) -> 59.25 | R20: =IF(PPG!H28="", "", PPG!H28) | S20: =IF(PPG!I28="", "", PPG!I28) | T20: =IF(PPG!J28="", "", PPG!J28) | U20: =IF(PPG!K28="", "", PPG!K28) | V20: =IF(PPG!L28="", "", PPG!L28) | W20: =IF(PPG!M28="", "", PPG!M28) | X20: =IF(PPG!N28="", "", PPG!N28) | Y20: =IF(PPG!O28="", "", PPG!O28) | Z20: =IF(PPG!Q28="", "", PPG!Q28) | AA20: =IF(PPG!R28="", "", PPG!R28) | AB20: =IF(PPG!S28="", "", PPG!S28) | AC20: =IF(PPG!T28="", "", PPG!T28) | AD20: =IF(PPG!U28="", "", PPG!U28) | AE20: =IF(PPG!V28="", "", PPG!V28) | AF20: =IF(PPG!W28="", "", PPG!W28) | AG20: =IF(PPG!X28="", "", PPG!X28) | ... AI20: =IF(PPG!Z28="", "", PPG!Z28) | AJ20: =IF(D20<>"",D20*I20, "0.00") -> 0.00 | AK20: =IF(D20<>"",D20, "0") -> 0 | AL20: =IF(D20<>"",D20*K20, "0") -> 0
A21: =IF(OUT!C57="", "", OUT!C57) -> 754 | B21: =IF(OUT!A57="", "", OUT!A57) -> 93559 | C21: =IF(OUT!D57="", "", OUT!D57) -> O | E21: =IF(OUT!E57="", "", OUT!E57) -> 72 TRAY | F21: =IF(OUT!AE57="NEW", "✷", "") | G21: =IF(OUT!B57="", "", OUT!B57) -> ALTERNANTHERA THIN GOLD | H21: =IF(AND($K$3=1,$K$4="N"),P21,IF(AND($K$3=2,$K$4="N"),R21,IF(AND($K$3=3,$K$4="N"),T21,IF(AND($K$3=4,$K$4="N"),V21,IF(AND($K$3=5,$K$4="N"),X21,IF(AND($K$3=1,$K$4="Y"),Z21,IF(AND($K$3=2,$K$4="Y"),AB21,IF(AND($K$3=3,$K$4="Y"),AD21,IF(AND($K$3=4,$K$4="Y"),AF21,IF(AND($K$3=5,$K$4="Y"),AH21,"FALSE")))))))))) -> 0.823 | I21: =IF(AND($K$3=1,$K$4="N"),Q21,IF(AND($K$3=2,$K$4="N"),S21,IF(AND($K$3=3,$K$4="N"),U21,IF(AND($K$3=4,$K$4="N"),W21,IF(AND($K$3=5,$K$4="N"),Y21,IF(AND($K$3=1,$K$4="Y"),AA21,IF(AND($K$3=2,$K$4="Y"),AC21,IF(AND($K$3=3,$K$4="Y"),AE21,IF(AND($K$3=4,$K$4="Y"),AG21,IF(AND($K$3=5,$K$4="Y"),AI21,"FALSE")))))))))) -> 59.25 | J21: =IF(OUT!F57="", "", OUT!F57) | K21: =IF(OUT!P57="", "", OUT!P57) -> 72 | L21: =IF(OUT!AE57="", "", OUT!AE57) | M21: =IF(OUT!AG57="", "", OUT!AG57) | N21: =IF(OUT!AQ57="", "", OUT!AQ57) | O21: =IF(OUT!BO57="", "", OUT!BO57) -> T3 | P21: =IF(OUT!N57="", "", OUT!N57) -> 0.823 | Q21: =IF(OUT!O57="", "", OUT!O57) -> 59.25 | R21: =IF(PPG!H57="", "", PPG!H57) | S21: =IF(PPG!I57="", "", PPG!I57) | T21: =IF(PPG!J57="", "", PPG!J57) | U21: =IF(PPG!K57="", "", PPG!K57) | V21: =IF(PPG!L57="", "", PPG!L57) | W21: =IF(PPG!M57="", "", PPG!M57) | X21: =IF(PPG!N57="", "", PPG!N57) | Y21: =IF(PPG!O57="", "", PPG!O57) | Z21: =IF(PPG!Q57="", "", PPG!Q57) | AA21: =IF(PPG!R57="", "", PPG!R57) | AB21: =IF(PPG!S57="", "", PPG!S57) | AC21: =IF(PPG!T57="", "", PPG!T57) | AD21: =IF(PPG!U57="", "", PPG!U57) | AE21: =IF(PPG!V57="", "", PPG!V57) | AF21: =IF(PPG!W57="", "", PPG!W57) | AG21: =IF(PPG!X57="", "", PPG!X57) | ... AI21: =IF(PPG!Z57="", "", PPG!Z57) | AJ21: =IF(D21<>"",D21*I21, "0.00") -> 0.00 | AK21: =IF(D21<>"",D21, "0") -> 0 | AL21: =IF(D21<>"",D21*K21, "0") -> 0
A22: =IF(OUT!C34="", "", OUT!C34) -> 754 | B22: =IF(OUT!A34="", "", OUT!A34) -> 71927 | C22: =IF(OUT!D34="", "", OUT!D34) -> O | E22: =IF(OUT!E34="", "", OUT!E34) -> 72 TRAY | F22: =IF(OUT!AE34="NEW", "✷", "") | G22: =IF(OUT!B34="", "", OUT!B34) -> ALTERNANTHERA TRUE YELLOW | H22: =IF(AND($K$3=1,$K$4="N"),P22,IF(AND($K$3=2,$K$4="N"),R22,IF(AND($K$3=3,$K$4="N"),T22,IF(AND($K$3=4,$K$4="N"),V22,IF(AND($K$3=5,$K$4="N"),X22,IF(AND($K$3=1,$K$4="Y"),Z22,IF(AND($K$3=2,$K$4="Y"),AB22,IF(AND($K$3=3,$K$4="Y"),AD22,IF(AND($K$3=4,$K$4="Y"),AF22,IF(AND($K$3=5,$K$4="Y"),AH22,"FALSE")))))))))) -> 0.823 | I22: =IF(AND($K$3=1,$K$4="N"),Q22,IF(AND($K$3=2,$K$4="N"),S22,IF(AND($K$3=3,$K$4="N"),U22,IF(AND($K$3=4,$K$4="N"),W22,IF(AND($K$3=5,$K$4="N"),Y22,IF(AND($K$3=1,$K$4="Y"),AA22,IF(AND($K$3=2,$K$4="Y"),AC22,IF(AND($K$3=3,$K$4="Y"),AE22,IF(AND($K$3=4,$K$4="Y"),AG22,IF(AND($K$3=5,$K$4="Y"),AI22,"FALSE")))))))))) -> 59.25 | J22: =IF(OUT!F34="", "", OUT!F34) | K22: =IF(OUT!P34="", "", OUT!P34) -> 72 | L22: =IF(OUT!AE34="", "", OUT!AE34) | M22: =IF(OUT!AG34="", "", OUT!AG34) | N22: =IF(OUT!AQ34="", "", OUT!AQ34) | O22: =IF(OUT!BO34="", "", OUT!BO34) -> T3 | P22: =IF(OUT!N34="", "", OUT!N34) -> 0.823 | Q22: =IF(OUT!O34="", "", OUT!O34) -> 59.25 | R22: =IF(PPG!H34="", "", PPG!H34) | S22: =IF(PPG!I34="", "", PPG!I34) | T22: =IF(PPG!J34="", "", PPG!J34) | U22: =IF(PPG!K34="", "", PPG!K34) | V22: =IF(PPG!L34="", "", PPG!L34) | W22: =IF(PPG!M34="", "", PPG!M34) | X22: =IF(PPG!N34="", "", PPG!N34) | Y22: =IF(PPG!O34="", "", PPG!O34) | Z22: =IF(PPG!Q34="", "", PPG!Q34) | AA22: =IF(PPG!R34="", "", PPG!R34) | AB22: =IF(PPG!S34="", "", PPG!S34) | AC22: =IF(PPG!T34="", "", PPG!T34) | AD22: =IF(PPG!U34="", "", PPG!U34) | AE22: =IF(PPG!V34="", "", PPG!V34) | AF22: =IF(PPG!W34="", "", PPG!W34) | AG22: =IF(PPG!X34="", "", PPG!X34) | ... AI22: =IF(PPG!Z34="", "", PPG!Z34) | AJ22: =IF(D22<>"",D22*I22, "0.00") -> 0.00 | AK22: =IF(D22<>"",D22, "0") -> 0 | AL22: =IF(D22<>"",D22*K22, "0") -> 0
A23: =IF(OUT!C33="", "", OUT!C33) -> 754 | B23: =IF(OUT!A33="", "", OUT!A33) -> 71889 | C23: =IF(OUT!D33="", "", OUT!D33) -> O | E23: =IF(OUT!E33="", "", OUT!E33) -> 72 TRAY | F23: =IF(OUT!AE33="NEW", "✷", "") | G23: =IF(OUT!B33="", "", OUT!B33) -> BEGONIA ODORATA ALBA (White) | H23: =IF(AND($K$3=1,$K$4="N"),P23,IF(AND($K$3=2,$K$4="N"),R23,IF(AND($K$3=3,$K$4="N"),T23,IF(AND($K$3=4,$K$4="N"),V23,IF(AND($K$3=5,$K$4="N"),X23,IF(AND($K$3=1,$K$4="Y"),Z23,IF(AND($K$3=2,$K$4="Y"),AB23,IF(AND($K$3=3,$K$4="Y"),AD23,IF(AND($K$3=4,$K$4="Y"),AF23,IF(AND($K$3=5,$K$4="Y"),AH23,"FALSE")))))))))) -> 1.303 | I23: =IF(AND($K$3=1,$K$4="N"),Q23,IF(AND($K$3=2,$K$4="N"),S23,IF(AND($K$3=3,$K$4="N"),U23,IF(AND($K$3=4,$K$4="N"),W23,IF(AND($K$3=5,$K$4="N"),Y23,IF(AND($K$3=1,$K$4="Y"),AA23,IF(AND($K$3=2,$K$4="Y"),AC23,IF(AND($K$3=3,$K$4="Y"),AE23,IF(AND($K$3=4,$K$4="Y"),AG23,IF(AND($K$3=5,$K$4="Y"),AI23,"FALSE")))))))))) -> 93.81 | J23: =IF(OUT!F33="", "", OUT!F33) | K23: =IF(OUT!P33="", "", OUT!P33) -> 72 | L23: =IF(OUT!AE33="", "", OUT!AE33) | M23: =IF(OUT!AG33="", "", OUT!AG33) | N23: =IF(OUT!AQ33="", "", OUT!AQ33) | O23: =IF(OUT!BO33="", "", OUT!BO33) -> T3 | P23: =IF(OUT!N33="", "", OUT!N33) -> 1.303 | Q23: =IF(OUT!O33="", "", OUT!O33) -> 93.81 | R23: =IF(PPG!H33="", "", PPG!H33) | S23: =IF(PPG!I33="", "", PPG!I33) | T23: =IF(PPG!J33="", "", PPG!J33) | U23: =IF(PPG!K33="", "", PPG!K33) | V23: =IF(PPG!L33="", "", PPG!L33) | W23: =IF(PPG!M33="", "", PPG!M33) | X23: =IF(PPG!N33="", "", PPG!N33) | Y23: =IF(PPG!O33="", "", PPG!O33) | Z23: =IF(PPG!Q33="", "", PPG!Q33) | AA23: =IF(PPG!R33="", "", PPG!R33) | AB23: =IF(PPG!S33="", "", PPG!S33) | AC23: =IF(PPG!T33="", "", PPG!T33) | AD23: =IF(PPG!U33="", "", PPG!U33) | AE23: =IF(PPG!V33="", "", PPG!V33) | AF23: =IF(PPG!W33="", "", PPG!W33) | AG23: =IF(PPG!X33="", "", PPG!X33) | ... AI23: =IF(PPG!Z33="", "", PPG!Z33) | AJ23: =IF(D23<>"",D23*I23, "0.00") -> 0.00 | AK23: =IF(D23<>"",D23, "0") -> 0 | AL23: =IF(D23<>"",D23*K23, "0") -> 0
A24: =IF(OUT!C42="", "", OUT!C42) -> 754 | B24: =IF(OUT!A42="", "", OUT!A42) -> 83763 | C24: =IF(OUT!D42="", "", OUT!D42) -> O | E24: =IF(OUT!E42="", "", OUT!E42) -> 72 TRAY | F24: =IF(OUT!AE42="NEW", "✷", "") | G24: =IF(OUT!B42="", "", OUT!B42) -> CISSUS DISCOLOR (REX BEGONIA VINE) | H24: =IF(AND($K$3=1,$K$4="N"),P24,IF(AND($K$3=2,$K$4="N"),R24,IF(AND($K$3=3,$K$4="N"),T24,IF(AND($K$3=4,$K$4="N"),V24,IF(AND($K$3=5,$K$4="N"),X24,IF(AND($K$3=1,$K$4="Y"),Z24,IF(AND($K$3=2,$K$4="Y"),AB24,IF(AND($K$3=3,$K$4="Y"),AD24,IF(AND($K$3=4,$K$4="Y"),AF24,IF(AND($K$3=5,$K$4="Y"),AH24,"FALSE")))))))))) -> 1.04 | I24: =IF(AND($K$3=1,$K$4="N"),Q24,IF(AND($K$3=2,$K$4="N"),S24,IF(AND($K$3=3,$K$4="N"),U24,IF(AND($K$3=4,$K$4="N"),W24,IF(AND($K$3=5,$K$4="N"),Y24,IF(AND($K$3=1,$K$4="Y"),AA24,IF(AND($K$3=2,$K$4="Y"),AC24,IF(AND($K$3=3,$K$4="Y"),AE24,IF(AND($K$3=4,$K$4="Y"),AG24,IF(AND($K$3=5,$K$4="Y"),AI24,"FALSE")))))))))) -> 74.88 | J24: =IF(OUT!F42="", "", OUT!F42) | K24: =IF(OUT!P42="", "", OUT!P42) -> 72 | L24: =IF(OUT!AE42="", "", OUT!AE42) | M24: =IF(OUT!AG42="", "", OUT!AG42) | N24: =IF(OUT!AQ42="", "", OUT!AQ42) | O24: =IF(OUT!BO42="", "", OUT!BO42) -> T3 | P24: =IF(OUT!N42="", "", OUT!N42) -> 1.04 | Q24: =IF(OUT!O42="", "", OUT!O42) -> 74.88 | R24: =IF(PPG!H42="", "", PPG!H42) | S24: =IF(PPG!I42="", "", PPG!I42) | T24: =IF(PPG!J42="", "", PPG!J42) | U24: =IF(PPG!K42="", "", PPG!K42) | V24: =IF(PPG!L42="", "", PPG!L42) | W24: =IF(PPG!M42="", "", PPG!M42) | X24: =IF(PPG!N42="", "", PPG!N42) | Y24: =IF(PPG!O42="", "", PPG!O42) | Z24: =IF(PPG!Q42="", "", PPG!Q42) | AA24: =IF(PPG!R42="", "", PPG!R42) | AB24: =IF(PPG!S42="", "", PPG!S42) | AC24: =IF(PPG!T42="", "", PPG!T42) | AD24: =IF(PPG!U42="", "", PPG!U42) | AE24: =IF(PPG!V42="", "", PPG!V42) | AF24: =IF(PPG!W42="", "", PPG!W42) | AG24: =IF(PPG!X42="", "", PPG!X42) | ... AI24: =IF(PPG!Z42="", "", PPG!Z42) | AJ24: =IF(D24<>"",D24*I24, "0.00") -> 0.00 | AK24: =IF(D24<>"",D24, "0") -> 0 | AL24: =IF(D24<>"",D24*K24, "0") -> 0
A25: =IF(OUT!C58="", "", OUT!C58) -> 754 | B25: =IF(OUT!A58="", "", OUT!A58) -> 93575 | C25: =IF(OUT!D58="", "", OUT!D58) -> O | E25: =IF(OUT!E58="", "", OUT!E58) -> 72 TRAY | F25: =IF(OUT!AE58="NEW", "✷", "") | G25: =IF(OUT!B58="", "", OUT!B58) -> COLOCASIA BLACK RIPPLE | H25: =IF(AND($K$3=1,$K$4="N"),P25,IF(AND($K$3=2,$K$4="N"),R25,IF(AND($K$3=3,$K$4="N"),T25,IF(AND($K$3=4,$K$4="N"),V25,IF(AND($K$3=5,$K$4="N"),X25,IF(AND($K$3=1,$K$4="Y"),Z25,IF(AND($K$3=2,$K$4="Y"),AB25,IF(AND($K$3=3,$K$4="Y"),AD25,IF(AND($K$3=4,$K$4="Y"),AF25,IF(AND($K$3=5,$K$4="Y"),AH25,"FALSE")))))))))) -> 2.169 | I25: =IF(AND($K$3=1,$K$4="N"),Q25,IF(AND($K$3=2,$K$4="N"),S25,IF(AND($K$3=3,$K$4="N"),U25,IF(AND($K$3=4,$K$4="N"),W25,IF(AND($K$3=5,$K$4="N"),Y25,IF(AND($K$3=1,$K$4="Y"),AA25,IF(AND($K$3=2,$K$4="Y"),AC25,IF(AND($K$3=3,$K$4="Y"),AE25,IF(AND($K$3=4,$K$4="Y"),AG25,IF(AND($K$3=5,$K$4="Y"),AI25,"FALSE")))))))))) -> 156.16 | J25: =IF(OUT!F58="", "", OUT!F58) | K25: =IF(OUT!P58="", "", OUT!P58) -> 72 | L25: =IF(OUT!AE58="", "", OUT!AE58) | M25: =IF(OUT!AG58="", "", OUT!AG58) -> PAT | N25: =IF(OUT!AQ58="", "", OUT!AQ58) | O25: =IF(OUT!BO58="", "", OUT!BO58) -> T3 | P25: =IF(OUT!N58="", "", OUT!N58) -> 2.169 | Q25: =IF(OUT!O58="", "", OUT!O58) -> 156.16 | R25: =IF(PPG!H58="", "", PPG!H58) | S25: =IF(PPG!I58="", "", PPG!I58) | T25: =IF(PPG!J58="", "", PPG!J58) | U25: =IF(PPG!K58="", "", PPG!K58) | V25: =IF(PPG!L58="", "", PPG!L58) | W25: =IF(PPG!M58="", "", PPG!M58) | X25: =IF(PPG!N58="", "", PPG!N58) | Y25: =IF(PPG!O58="", "", PPG!O58) | Z25: =IF(PPG!Q58="", "", PPG!Q58) | AA25: =IF(PPG!R58="", "", PPG!R58) | AB25: =IF(PPG!S58="", "", PPG!S58) | AC25: =IF(PPG!T58="", "", PPG!T58) | AD25: =IF(PPG!U58="", "", PPG!U58) | AE25: =IF(PPG!V58="", "", PPG!V58) | AF25: =IF(PPG!W58="", "", PPG!W58) | AG25: =IF(PPG!X58="", "", PPG!X58) | ... AI25: =IF(PPG!Z58="", "", PPG!Z58) | AJ25: =IF(D25<>"",D25*I25, "0.00") -> 0.00 | AK25: =IF(D25<>"",D25, "0") -> 0 | AL25: =IF(D25<>"",D25*K25, "0") -> 0
A26: =IF(OUT!C59="", "", OUT!C59) -> 754 | B26: =IF(OUT!A59="", "", OUT!A59) -> 93576 | C26: =IF(OUT!D59="", "", OUT!D59) -> O | E26: =IF(OUT!E59="", "", OUT!E59) -> 72 TRAY | F26: =IF(OUT!AE59="NEW", "✷", "") | G26: =IF(OUT!B59="", "", OUT!B59) -> COLOCASIA BLACK SAPPHIRE GECKO | H26: =IF(AND($K$3=1,$K$4="N"),P26,IF(AND($K$3=2,$K$4="N"),R26,IF(AND($K$3=3,$K$4="N"),T26,IF(AND($K$3=4,$K$4="N"),V26,IF(AND($K$3=5,$K$4="N"),X26,IF(AND($K$3=1,$K$4="Y"),Z26,IF(AND($K$3=2,$K$4="Y"),AB26,IF(AND($K$3=3,$K$4="Y"),AD26,IF(AND($K$3=4,$K$4="Y"),AF26,IF(AND($K$3=5,$K$4="Y"),AH26,"FALSE")))))))))) -> 2.169 | I26: =IF(AND($K$3=1,$K$4="N"),Q26,IF(AND($K$3=2,$K$4="N"),S26,IF(AND($K$3=3,$K$4="N"),U26,IF(AND($K$3=4,$K$4="N"),W26,IF(AND($K$3=5,$K$4="N"),Y26,IF(AND($K$3=1,$K$4="Y"),AA26,IF(AND($K$3=2,$K$4="Y"),AC26,IF(AND($K$3=3,$K$4="Y"),AE26,IF(AND($K$3=4,$K$4="Y"),AG26,IF(AND($K$3=5,$K$4="Y"),AI26,"FALSE")))))))))) -> 156.16 | J26: =IF(OUT!F59="", "", OUT!F59) | K26: =IF(OUT!P59="", "", OUT!P59) -> 72 | L26: =IF(OUT!AE59="", "", OUT!AE59) | M26: =IF(OUT!AG59="", "", OUT!AG59) -> PAT | N26: =IF(OUT!AQ59="", "", OUT!AQ59) | O26: =IF(OUT!BO59="", "", OUT!BO59) -> T3 | P26: =IF(OUT!N59="", "", OUT!N59) -> 2.169 | Q26: =IF(OUT!O59="", "", OUT!O59) -> 156.16 | R26: =IF(PPG!H59="", "", PPG!H59) | S26: =IF(PPG!I59="", "", PPG!I59) | T26: =IF(PPG!J59="", "", PPG!J59) | U26: =IF(PPG!K59="", "", PPG!K59) | V26: =IF(PPG!L59="", "", PPG!L59) | W26: =IF(PPG!M59="", "", PPG!M59) | X26: =IF(PPG!N59="", "", PPG!N59) | Y26: =IF(PPG!O59="", "", PPG!O59) | Z26: =IF(PPG!Q59="", "", PPG!Q59) | AA26: =IF(PPG!R59="", "", PPG!R59) | AB26: =IF(PPG!S59="", "", PPG!S59) | AC26: =IF(PPG!T59="", "", PPG!T59) | AD26: =IF(PPG!U59="", "", PPG!U59) | AE26: =IF(PPG!V59="", "", PPG!V59) | AF26: =IF(PPG!W59="", "", PPG!W59) | AG26: =IF(PPG!X59="", "", PPG!X59) | ... AI26: =IF(PPG!Z59="", "", PPG!Z59) | AJ26: =IF(D26<>"",D26*I26, "0.00") -> 0.00 | AK26: =IF(D26<>"",D26, "0") -> 0 | AL26: =IF(D26<>"",D26*K26, "0") -> 0
A27: =IF(OUT!C60="", "", OUT!C60) -> 754 | B27: =IF(OUT!A60="", "", OUT!A60) -> 93588 | C27: =IF(OUT!D60="", "", OUT!D60) -> O | E27: =IF(OUT!E60="", "", OUT!E60) -> 72 TRAY | F27: =IF(OUT!AE60="NEW", "✷", "") | G27: =IF(OUT!B60="", "", OUT!B60) -> DIEFFENBACHIA CAMOUFLAGE | H27: =IF(AND($K$3=1,$K$4="N"),P27,IF(AND($K$3=2,$K$4="N"),R27,IF(AND($K$3=3,$K$4="N"),T27,IF(AND($K$3=4,$K$4="N"),V27,IF(AND($K$3=5,$K$4="N"),X27,IF(AND($K$3=1,$K$4="Y"),Z27,IF(AND($K$3=2,$K$4="Y"),AB27,IF(AND($K$3=3,$K$4="Y"),AD27,IF(AND($K$3=4,$K$4="Y"),AF27,IF(AND($K$3=5,$K$4="Y"),AH27,"FALSE")))))))))) -> 1.189 | I27: =IF(AND($K$3=1,$K$4="N"),Q27,IF(AND($K$3=2,$K$4="N"),S27,IF(AND($K$3=3,$K$4="N"),U27,IF(AND($K$3=4,$K$4="N"),W27,IF(AND($K$3=5,$K$4="N"),Y27,IF(AND($K$3=1,$K$4="Y"),AA27,IF(AND($K$3=2,$K$4="Y"),AC27,IF(AND($K$3=3,$K$4="Y"),AE27,IF(AND($K$3=4,$K$4="Y"),AG27,IF(AND($K$3=5,$K$4="Y"),AI27,"FALSE")))))))))) -> 85.6 | J27: =IF(OUT!F60="", "", OUT!F60) | K27: =IF(OUT!P60="", "", OUT!P60) -> 72 | L27: =IF(OUT!AE60="", "", OUT!AE60) | M27: =IF(OUT!AG60="", "", OUT!AG60) | N27: =IF(OUT!AQ60="", "", OUT!AQ60) | O27: =IF(OUT!BO60="", "", OUT!BO60) -> T3 | P27: =IF(OUT!N60="", "", OUT!N60) -> 1.189 | Q27: =IF(OUT!O60="", "", OUT!O60) -> 85.6 | R27: =IF(PPG!H60="", "", PPG!H60) | S27: =IF(PPG!I60="", "", PPG!I60) | T27: =IF(PPG!J60="", "", PPG!J60) | U27: =IF(PPG!K60="", "", PPG!K60) | V27: =IF(PPG!L60="", "", PPG!L60) | W27: =IF(PPG!M60="", "", PPG!M60) | X27: =IF(PPG!N60="", "", PPG!N60) | Y27: =IF(PPG!O60="", "", PPG!O60) | Z27: =IF(PPG!Q60="", "", PPG!Q60) | AA27: =IF(PPG!R60="", "", PPG!R60) | AB27: =IF(PPG!S60="", "", PPG!S60) | AC27: =IF(PPG!T60="", "", PPG!T60) | AD27: =IF(PPG!U60="", "", PPG!U60) | AE27: =IF(PPG!V60="", "", PPG!V60) | AF27: =IF(PPG!W60="", "", PPG!W60) | AG27: =IF(PPG!X60="", "", PPG!X60) | ... AI27: =IF(PPG!Z60="", "", PPG!Z60) | AJ27: =IF(D27<>"",D27*I27, "0.00") -> 0.00 | AK27: =IF(D27<>"",D27, "0") -> 0 | AL27: =IF(D27<>"",D27*K27, "0") -> 0
A28: =IF(OUT!C76="", "", OUT!C76) -> 754 | B28: =IF(OUT!A76="", "", OUT!A76) -> 96766 | C28: =IF(OUT!D76="", "", OUT!D76) -> O | E28: =IF(OUT!E76="", "", OUT!E76) -> 72 TRAY | F28: =IF(OUT!AE76="NEW", "✷", "") | G28: =IF(OUT!B76="", "", OUT!B76) -> DIEFFENBACHIA COUGAR | H28: =IF(AND($K$3=1,$K$4="N"),P28,IF(AND($K$3=2,$K$4="N"),R28,IF(AND($K$3=3,$K$4="N"),T28,IF(AND($K$3=4,$K$4="N"),V28,IF(AND($K$3=5,$K$4="N"),X28,IF(AND($K$3=1,$K$4="Y"),Z28,IF(AND($K$3=2,$K$4="Y"),AB28,IF(AND($K$3=3,$K$4="Y"),AD28,IF(AND($K$3=4,$K$4="Y"),AF28,IF(AND($K$3=5,$K$4="Y"),AH28,"FALSE")))))))))) -> 1.189 | I28: =IF(AND($K$3=1,$K$4="N"),Q28,IF(AND($K$3=2,$K$4="N"),S28,IF(AND($K$3=3,$K$4="N"),U28,IF(AND($K$3=4,$K$4="N"),W28,IF(AND($K$3=5,$K$4="N"),Y28,IF(AND($K$3=1,$K$4="Y"),AA28,IF(AND($K$3=2,$K$4="Y"),AC28,IF(AND($K$3=3,$K$4="Y"),AE28,IF(AND($K$3=4,$K$4="Y"),AG28,IF(AND($K$3=5,$K$4="Y"),AI28,"FALSE")))))))))) -> 85.6 | J28: =IF(OUT!F76="", "", OUT!F76) | K28: =IF(OUT!P76="", "", OUT!P76) -> 72 | L28: =IF(OUT!AE76="", "", OUT!AE76) | M28: =IF(OUT!AG76="", "", OUT!AG76) | N28: =IF(OUT!AQ76="", "", OUT!AQ76) | O28: =IF(OUT!BO76="", "", OUT!BO76) -> T3 | P28: =IF(OUT!N76="", "", OUT!N76) -> 1.189 | Q28: =IF(OUT!O76="", "", OUT!O76) -> 85.6 | R28: =IF(PPG!H76="", "", PPG!H76) | S28: =IF(PPG!I76="", "", PPG!I76) | T28: =IF(PPG!J76="", "", PPG!J76) | U28: =IF(PPG!K76="", "", PPG!K76) | V28: =IF(PPG!L76="", "", PPG!L76) | W28: =IF(PPG!M76="", "", PPG!M76) | X28: =IF(PPG!N76="", "", PPG!N76) | Y28: =IF(PPG!O76="", "", PPG!O76) | Z28: =IF(PPG!Q76="", "", PPG!Q76) | AA28: =IF(PPG!R76="", "", PPG!R76) | AB28: =IF(PPG!S76="", "", PPG!S76) | AC28: =IF(PPG!T76="", "", PPG!T76) | AD28: =IF(PPG!U76="", "", PPG!U76) | AE28: =IF(PPG!V76="", "", PPG!V76) | AF28: =IF(PPG!W76="", "", PPG!W76) | AG28: =IF(PPG!X76="", "", PPG!X76) | ... AI28: =IF(PPG!Z76="", "", PPG!Z76) | AJ28: =IF(D28<>"",D28*I28, "0.00") -> 0.00 | AK28: =IF(D28<>"",D28, "0") -> 0 | AL28: =IF(D28<>"",D28*K28, "0") -> 0
A29: =IF(OUT!C5="", "", OUT!C5) -> 754 | B29: =IF(OUT!A5="", "", OUT!A5) -> 12456 | C29: =IF(OUT!D5="", "", OUT!D5) -> O | E29: =IF(OUT!E5="", "", OUT!E5) -> 72 TRAY | F29: =IF(OUT!AE5="NEW", "✷", "") | G29: =IF(OUT!B5="", "", OUT!B5) -> DIEFFENBACHIA MAUI WOWIE | H29: =IF(AND($K$3=1,$K$4="N"),P29,IF(AND($K$3=2,$K$4="N"),R29,IF(AND($K$3=3,$K$4="N"),T29,IF(AND($K$3=4,$K$4="N"),V29,IF(AND($K$3=5,$K$4="N"),X29,IF(AND($K$3=1,$K$4="Y"),Z29,IF(AND($K$3=2,$K$4="Y"),AB29,IF(AND($K$3=3,$K$4="Y"),AD29,IF(AND($K$3=4,$K$4="Y"),AF29,IF(AND($K$3=5,$K$4="Y"),AH29,"FALSE")))))))))) -> 1.269 | I29: =IF(AND($K$3=1,$K$4="N"),Q29,IF(AND($K$3=2,$K$4="N"),S29,IF(AND($K$3=3,$K$4="N"),U29,IF(AND($K$3=4,$K$4="N"),W29,IF(AND($K$3=5,$K$4="N"),Y29,IF(AND($K$3=1,$K$4="Y"),AA29,IF(AND($K$3=2,$K$4="Y"),AC29,IF(AND($K$3=3,$K$4="Y"),AE29,IF(AND($K$3=4,$K$4="Y"),AG29,IF(AND($K$3=5,$K$4="Y"),AI29,"FALSE")))))))))) -> 91.36 | J29: =IF(OUT!F5="", "", OUT!F5) | K29: =IF(OUT!P5="", "", OUT!P5) -> 72 | L29: =IF(OUT!AE5="", "", OUT!AE5) | M29: =IF(OUT!AG5="", "", OUT!AG5) -> PAT | N29: =IF(OUT!AQ5="", "", OUT!AQ5) | O29: =IF(OUT!BO5="", "", OUT!BO5) -> T3 | P29: =IF(OUT!N5="", "", OUT!N5) -> 1.269 | Q29: =IF(OUT!O5="", "", OUT!O5) -> 91.36 | R29: =IF(PPG!H5="", "", PPG!H5) | S29: =IF(PPG!I5="", "", PPG!I5) | T29: =IF(PPG!J5="", "", PPG!J5) | U29: =IF(PPG!K5="", "", PPG!K5) | V29: =IF(PPG!L5="", "", PPG!L5) | W29: =IF(PPG!M5="", "", PPG!M5) | X29: =IF(PPG!N5="", "", PPG!N5) | Y29: =IF(PPG!O5="", "", PPG!O5) | Z29: =IF(PPG!Q5="", "", PPG!Q5) | AA29: =IF(PPG!R5="", "", PPG!R5) | AB29: =IF(PPG!S5="", "", PPG!S5) | AC29: =IF(PPG!T5="", "", PPG!T5) | AD29: =IF(PPG!U5="", "", PPG!U5) | AE29: =IF(PPG!V5="", "", PPG!V5) | AF29: =IF(PPG!W5="", "", PPG!W5) | AG29: =IF(PPG!X5="", "", PPG!X5) | ... AI29: =IF(PPG!Z5="", "", PPG!Z5) | AJ29: =IF(D29<>"",D29*I29, "0.00") -> 0.00 | AK29: =IF(D29<>"",D29, "0") -> 0 | AL29: =IF(D29<>"",D29*K29, "0") -> 0
A30: =IF(OUT!C61="", "", OUT!C61) -> 754 | B30: =IF(OUT!A61="", "", OUT!A61) -> 93589 | C30: =IF(OUT!D61="", "", OUT!D61) -> O | E30: =IF(OUT!E61="", "", OUT!E61) -> 72 TRAY | F30: =IF(OUT!AE61="NEW", "✷", "") | G30: =IF(OUT!B61="", "", OUT!B61) -> DIEFFENBACHIA PANTHER | H30: =IF(AND($K$3=1,$K$4="N"),P30,IF(AND($K$3=2,$K$4="N"),R30,IF(AND($K$3=3,$K$4="N"),T30,IF(AND($K$3=4,$K$4="N"),V30,IF(AND($K$3=5,$K$4="N"),X30,IF(AND($K$3=1,$K$4="Y"),Z30,IF(AND($K$3=2,$K$4="Y"),AB30,IF(AND($K$3=3,$K$4="Y"),AD30,IF(AND($K$3=4,$K$4="Y"),AF30,IF(AND($K$3=5,$K$4="Y"),AH30,"FALSE")))))))))) -> 1.189 | I30: =IF(AND($K$3=1,$K$4="N"),Q30,IF(AND($K$3=2,$K$4="N"),S30,IF(AND($K$3=3,$K$4="N"),U30,IF(AND($K$3=4,$K$4="N"),W30,IF(AND($K$3=5,$K$4="N"),Y30,IF(AND($K$3=1,$K$4="Y"),AA30,IF(AND($K$3=2,$K$4="Y"),AC30,IF(AND($K$3=3,$K$4="Y"),AE30,IF(AND($K$3=4,$K$4="Y"),AG30,IF(AND($K$3=5,$K$4="Y"),AI30,"FALSE")))))))))) -> 85.6 | J30: =IF(OUT!F61="", "", OUT!F61) | K30: =IF(OUT!P61="", "", OUT!P61) -> 72 | L30: =IF(OUT!AE61="", "", OUT!AE61) | M30: =IF(OUT!AG61="", "", OUT!AG61) | N30: =IF(OUT!AQ61="", "", OUT!AQ61) | O30: =IF(OUT!BO61="", "", OUT!BO61) -> T3 | P30: =IF(OUT!N61="", "", OUT!N61) -> 1.189 | Q30: =IF(OUT!O61="", "", OUT!O61) -> 85.6 | R30: =IF(PPG!H61="", "", PPG!H61) | S30: =IF(PPG!I61="", "", PPG!I61) | T30: =IF(PPG!J61="", "", PPG!J61) | U30: =IF(PPG!K61="", "", PPG!K61) | V30: =IF(PPG!L61="", "", PPG!L61) | W30: =IF(PPG!M61="", "", PPG!M61) | X30: =IF(PPG!N61="", "", PPG!N61) | Y30: =IF(PPG!O61="", "", PPG!O61) | Z30: =IF(PPG!Q61="", "", PPG!Q61) | AA30: =IF(PPG!R61="", "", PPG!R61) | AB30: =IF(PPG!S61="", "", PPG!S61) | AC30: =IF(PPG!T61="", "", PPG!T61) | AD30: =IF(PPG!U61="", "", PPG!U61) | AE30: =IF(PPG!V61="", "", PPG!V61) | AF30: =IF(PPG!W61="", "", PPG!W61) | AG30: =IF(PPG!X61="", "", PPG!X61) | ... AI30: =IF(PPG!Z61="", "", PPG!Z61) | AJ30: =IF(D30<>"",D30*I30, "0.00") -> 0.00 | AK30: =IF(D30<>"",D30, "0") -> 0 | AL30: =IF(D30<>"",D30*K30, "0") -> 0
A31: =IF(OUT!C62="", "", OUT!C62) -> 754 | B31: =IF(OUT!A62="", "", OUT!A62) -> 93591 | C31: =IF(OUT!D62="", "", OUT!D62) -> O | E31: =IF(OUT!E62="", "", OUT!E62) -> 72 TRAY | F31: =IF(OUT!AE62="NEW", "✷", "") | G31: =IF(OUT!B62="", "", OUT!B62) -> DIEFFENBACHIA TROPIC MARIANNE | H31: =IF(AND($K$3=1,$K$4="N"),P31,IF(AND($K$3=2,$K$4="N"),R31,IF(AND($K$3=3,$K$4="N"),T31,IF(AND($K$3=4,$K$4="N"),V31,IF(AND($K$3=5,$K$4="N"),X31,IF(AND($K$3=1,$K$4="Y"),Z31,IF(AND($K$3=2,$K$4="Y"),AB31,IF(AND($K$3=3,$K$4="Y"),AD31,IF(AND($K$3=4,$K$4="Y"),AF31,IF(AND($K$3=5,$K$4="Y"),AH31,"FALSE")))))))))) -> 1.223 | I31: =IF(AND($K$3=1,$K$4="N"),Q31,IF(AND($K$3=2,$K$4="N"),S31,IF(AND($K$3=3,$K$4="N"),U31,IF(AND($K$3=4,$K$4="N"),W31,IF(AND($K$3=5,$K$4="N"),Y31,IF(AND($K$3=1,$K$4="Y"),AA31,IF(AND($K$3=2,$K$4="Y"),AC31,IF(AND($K$3=3,$K$4="Y"),AE31,IF(AND($K$3=4,$K$4="Y"),AG31,IF(AND($K$3=5,$K$4="Y"),AI31,"FALSE")))))))))) -> 88.05 | J31: =IF(OUT!F62="", "", OUT!F62) | K31: =IF(OUT!P62="", "", OUT!P62) -> 72 | L31: =IF(OUT!AE62="", "", OUT!AE62) | M31: =IF(OUT!AG62="", "", OUT!AG62) | N31: =IF(OUT!AQ62="", "", OUT!AQ62) | O31: =IF(OUT!BO62="", "", OUT!BO62) -> T3 | P31: =IF(OUT!N62="", "", OUT!N62) -> 1.223 | Q31: =IF(OUT!O62="", "", OUT!O62) -> 88.05 | R31: =IF(PPG!H62="", "", PPG!H62) | S31: =IF(PPG!I62="", "", PPG!I62) | T31: =IF(PPG!J62="", "", PPG!J62) | U31: =IF(PPG!K62="", "", PPG!K62) | V31: =IF(PPG!L62="", "", PPG!L62) | W31: =IF(PPG!M62="", "", PPG!M62) | X31: =IF(PPG!N62="", "", PPG!N62) | Y31: =IF(PPG!O62="", "", PPG!O62) | Z31: =IF(PPG!Q62="", "", PPG!Q62) | AA31: =IF(PPG!R62="", "", PPG!R62) | AB31: =IF(PPG!S62="", "", PPG!S62) | AC31: =IF(PPG!T62="", "", PPG!T62) | AD31: =IF(PPG!U62="", "", PPG!U62) | AE31: =IF(PPG!V62="", "", PPG!V62) | AF31: =IF(PPG!W62="", "", PPG!W62) | AG31: =IF(PPG!X62="", "", PPG!X62) | ... AI31: =IF(PPG!Z62="", "", PPG!Z62) | AJ31: =IF(D31<>"",D31*I31, "0.00") -> 0.00 | AK31: =IF(D31<>"",D31, "0") -> 0 | AL31: =IF(D31<>"",D31*K31, "0") -> 0
A32: =IF(OUT!C63="", "", OUT!C63) -> 754 | B32: =IF(OUT!A63="", "", OUT!A63) -> 93594 | C32: =IF(OUT!D63="", "", OUT!D63) -> O | E32: =IF(OUT!E63="", "", OUT!E63) -> 72 TRAY | F32: =IF(OUT!AE63="NEW", "✷", "") | G32: =IF(OUT!B63="", "", OUT!B63) -> DIONAEA MUSCIPULA VENUS FLY TRAP | H32: =IF(AND($K$3=1,$K$4="N"),P32,IF(AND($K$3=2,$K$4="N"),R32,IF(AND($K$3=3,$K$4="N"),T32,IF(AND($K$3=4,$K$4="N"),V32,IF(AND($K$3=5,$K$4="N"),X32,IF(AND($K$3=1,$K$4="Y"),Z32,IF(AND($K$3=2,$K$4="Y"),AB32,IF(AND($K$3=3,$K$4="Y"),AD32,IF(AND($K$3=4,$K$4="Y"),AF32,IF(AND($K$3=5,$K$4="Y"),AH32,"FALSE")))))))))) -> 2.515 | I32: =IF(AND($K$3=1,$K$4="N"),Q32,IF(AND($K$3=2,$K$4="N"),S32,IF(AND($K$3=3,$K$4="N"),U32,IF(AND($K$3=4,$K$4="N"),W32,IF(AND($K$3=5,$K$4="N"),Y32,IF(AND($K$3=1,$K$4="Y"),AA32,IF(AND($K$3=2,$K$4="Y"),AC32,IF(AND($K$3=3,$K$4="Y"),AE32,IF(AND($K$3=4,$K$4="Y"),AG32,IF(AND($K$3=5,$K$4="Y"),AI32,"FALSE")))))))))) -> 181.08 | J32: =IF(OUT!F63="", "", OUT!F63) | K32: =IF(OUT!P63="", "", OUT!P63) -> 72 | L32: =IF(OUT!AE63="", "", OUT!AE63) | M32: =IF(OUT!AG63="", "", OUT!AG63) | N32: =IF(OUT!AQ63="", "", OUT!AQ63) | O32: =IF(OUT!BO63="", "", OUT!BO63) -> T3 | P32: =IF(OUT!N63="", "", OUT!N63) -> 2.515 | Q32: =IF(OUT!O63="", "", OUT!O63) -> 181.08 | R32: =IF(PPG!H63="", "", PPG!H63) | S32: =IF(PPG!I63="", "", PPG!I63) | T32: =IF(PPG!J63="", "", PPG!J63) | U32: =IF(PPG!K63="", "", PPG!K63) | V32: =IF(PPG!L63="", "", PPG!L63) | W32: =IF(PPG!M63="", "", PPG!M63) | X32: =IF(PPG!N63="", "", PPG!N63) | Y32: =IF(PPG!O63="", "", PPG!O63) | Z32: =IF(PPG!Q63="", "", PPG!Q63) | AA32: =IF(PPG!R63="", "", PPG!R63) | AB32: =IF(PPG!S63="", "", PPG!S63) | AC32: =IF(PPG!T63="", "", PPG!T63) | AD32: =IF(PPG!U63="", "", PPG!U63) | AE32: =IF(PPG!V63="", "", PPG!V63) | AF32: =IF(PPG!W63="", "", PPG!W63) | AG32: =IF(PPG!X63="", "", PPG!X63) | ... AI32: =IF(PPG!Z63="", "", PPG!Z63) | AJ32: =IF(D32<>"",D32*I32, "0.00") -> 0.00 | AK32: =IF(D32<>"",D32, "0") -> 0 | AL32: =IF(D32<>"",D32*K32, "0") -> 0
A33: =IF(OUT!C18="", "", OUT!C18) -> 754 | B33: =IF(OUT!A18="", "", OUT!A18) -> 41363 | C33: =IF(OUT!D18="", "", OUT!D18) -> FAR | E33: =IF(OUT!E18="", "", OUT!E18) -> 105 TRAY | F33: =IF(OUT!AE18="NEW", "✷", "") | G33: =IF(OUT!B18="", "", OUT!B18) -> EUGENIA GLOBULUS (TOPIARY PLANT) | H33: =IF(AND($K$3=1,$K$4="N"),P33,IF(AND($K$3=2,$K$4="N"),R33,IF(AND($K$3=3,$K$4="N"),T33,IF(AND($K$3=4,$K$4="N"),V33,IF(AND($K$3=5,$K$4="N"),X33,IF(AND($K$3=1,$K$4="Y"),Z33,IF(AND($K$3=2,$K$4="Y"),AB33,IF(AND($K$3=3,$K$4="Y"),AD33,IF(AND($K$3=4,$K$4="Y"),AF33,IF(AND($K$3=5,$K$4="Y"),AH33,"FALSE")))))))))) -> 0.903 | I33: =IF(AND($K$3=1,$K$4="N"),Q33,IF(AND($K$3=2,$K$4="N"),S33,IF(AND($K$3=3,$K$4="N"),U33,IF(AND($K$3=4,$K$4="N"),W33,IF(AND($K$3=5,$K$4="N"),Y33,IF(AND($K$3=1,$K$4="Y"),AA33,IF(AND($K$3=2,$K$4="Y"),AC33,IF(AND($K$3=3,$K$4="Y"),AE33,IF(AND($K$3=4,$K$4="Y"),AG33,IF(AND($K$3=5,$K$4="Y"),AI33,"FALSE")))))))))) -> 94.81 | J33: =IF(OUT!F18="", "", OUT!F18) | K33: =IF(OUT!P18="", "", OUT!P18) -> 105 | L33: =IF(OUT!AE18="", "", OUT!AE18) | M33: =IF(OUT!AG18="", "", OUT!AG18) | N33: =IF(OUT!AQ18="", "", OUT!AQ18) | O33: =IF(OUT!BO18="", "", OUT!BO18) -> T3 | P33: =IF(OUT!N18="", "", OUT!N18) -> 0.903 | Q33: =IF(OUT!O18="", "", OUT!O18) -> 94.81 | R33: =IF(PPG!H18="", "", PPG!H18) | S33: =IF(PPG!I18="", "", PPG!I18) | T33: =IF(PPG!J18="", "", PPG!J18) | U33: =IF(PPG!K18="", "", PPG!K18) | V33: =IF(PPG!L18="", "", PPG!L18) | W33: =IF(PPG!M18="", "", PPG!M18) | X33: =IF(PPG!N18="", "", PPG!N18) | Y33: =IF(PPG!O18="", "", PPG!O18) | Z33: =IF(PPG!Q18="", "", PPG!Q18) | AA33: =IF(PPG!R18="", "", PPG!R18) | AB33: =IF(PPG!S18="", "", PPG!S18) | AC33: =IF(PPG!T18="", "", PPG!T18) | AD33: =IF(PPG!U18="", "", PPG!U18) | AE33: =IF(PPG!V18="", "", PPG!V18) | AF33: =IF(PPG!W18="", "", PPG!W18) | AG33: =IF(PPG!X18="", "", PPG!X18) | ... AI33: =IF(PPG!Z18="", "", PPG!Z18) | AJ33: =IF(D33<>"",D33*I33, "0.00") -> 0.00 | AK33: =IF(D33<>"",D33, "0") -> 0 | AL33: =IF(D33<>"",D33*K33, "0") -> 0
A34: =IF(OUT!C29="", "", OUT!C29) -> 754 | B34: =IF(OUT!A29="", "", OUT!A29) -> 59945 | C34: =IF(OUT!D29="", "", OUT!D29) -> O | E34: =IF(OUT!E29="", "", OUT!E29) -> 72 TRAY | F34: =IF(OUT!AE29="NEW", "✷", "") | G34: =IF(OUT!B29="", "", OUT!B29) -> FERN TROPICAL PLATYCERIUM BIFURCATUM NETHERLANDS STAGHORN | H34: =IF(AND($K$3=1,$K$4="N"),P34,IF(AND($K$3=2,$K$4="N"),R34,IF(AND($K$3=3,$K$4="N"),T34,IF(AND($K$3=4,$K$4="N"),V34,IF(AND($K$3=5,$K$4="N"),X34,IF(AND($K$3=1,$K$4="Y"),Z34,IF(AND($K$3=2,$K$4="Y"),AB34,IF(AND($K$3=3,$K$4="Y"),AD34,IF(AND($K$3=4,$K$4="Y"),AF34,IF(AND($K$3=5,$K$4="Y"),AH34,"FALSE")))))))))) -> 0.88 | I34: =IF(AND($K$3=1,$K$4="N"),Q34,IF(AND($K$3=2,$K$4="N"),S34,IF(AND($K$3=3,$K$4="N"),U34,IF(AND($K$3=4,$K$4="N"),W34,IF(AND($K$3=5,$K$4="N"),Y34,IF(AND($K$3=1,$K$4="Y"),AA34,IF(AND($K$3=2,$K$4="Y"),AC34,IF(AND($K$3=3,$K$4="Y"),AE34,IF(AND($K$3=4,$K$4="Y"),AG34,IF(AND($K$3=5,$K$4="Y"),AI34,"FALSE")))))))))) -> 63.36 | J34: =IF(OUT!F29="", "", OUT!F29) | K34: =IF(OUT!P29="", "", OUT!P29) -> 72 | L34: =IF(OUT!AE29="", "", OUT!AE29) | M34: =IF(OUT!AG29="", "", OUT!AG29) | N34: =IF(OUT!AQ29="", "", OUT!AQ29) | O34: =IF(OUT!BO29="", "", OUT!BO29) -> T3 | P34: =IF(OUT!N29="", "", OUT!N29) -> 0.88 | Q34: =IF(OUT!O29="", "", OUT!O29) -> 63.36 | R34: =IF(PPG!H29="", "", PPG!H29) | S34: =IF(PPG!I29="", "", PPG!I29) | T34: =IF(PPG!J29="", "", PPG!J29) | U34: =IF(PPG!K29="", "", PPG!K29) | V34: =IF(PPG!L29="", "", PPG!L29) | W34: =IF(PPG!M29="", "", PPG!M29) | X34: =IF(PPG!N29="", "", PPG!N29) | Y34: =IF(PPG!O29="", "", PPG!O29) | Z34: =IF(PPG!Q29="", "", PPG!Q29) | AA34: =IF(PPG!R29="", "", PPG!R29) | AB34: =IF(PPG!S29="", "", PPG!S29) | AC34: =IF(PPG!T29="", "", PPG!T29) | AD34: =IF(PPG!U29="", "", PPG!U29) | AE34: =IF(PPG!V29="", "", PPG!V29) | AF34: =IF(PPG!W29="", "", PPG!W29) | AG34: =IF(PPG!X29="", "", PPG!X29) | ... AI34: =IF(PPG!Z29="", "", PPG!Z29) | AJ34: =IF(D34<>"",D34*I34, "0.00") -> 0.00 | AK34: =IF(D34<>"",D34, "0") -> 0 | AL34: =IF(D34<>"",D34*K34, "0") -> 0
A35: =IF(OUT!C46="", "", OUT!C46) -> 754 | B35: =IF(OUT!A46="", "", OUT!A46) -> 91568 | C35: =IF(OUT!D46="", "", OUT!D46) -> M | E35: =IF(OUT!E46="", "", OUT!E46) -> 50 TRAY | F35: =IF(OUT!AE46="NEW", "✷", "") | G35: =IF(OUT!B46="", "", OUT!B46) -> FERN TROPICAL PLATYCERIUM ELEPHANTOTIS ELEPHANT STAGHORN | H35: =IF(AND($K$3=1,$K$4="N"),P35,IF(AND($K$3=2,$K$4="N"),R35,IF(AND($K$3=3,$K$4="N"),T35,IF(AND($K$3=4,$K$4="N"),V35,IF(AND($K$3=5,$K$4="N"),X35,IF(AND($K$3=1,$K$4="Y"),Z35,IF(AND($K$3=2,$K$4="Y"),AB35,IF(AND($K$3=3,$K$4="Y"),AD35,IF(AND($K$3=4,$K$4="Y"),AF35,IF(AND($K$3=5,$K$4="Y"),AH35,"FALSE")))))))))) -> 1.658 | I35: =IF(AND($K$3=1,$K$4="N"),Q35,IF(AND($K$3=2,$K$4="N"),S35,IF(AND($K$3=3,$K$4="N"),U35,IF(AND($K$3=4,$K$4="N"),W35,IF(AND($K$3=5,$K$4="N"),Y35,IF(AND($K$3=1,$K$4="Y"),AA35,IF(AND($K$3=2,$K$4="Y"),AC35,IF(AND($K$3=3,$K$4="Y"),AE35,IF(AND($K$3=4,$K$4="Y"),AG35,IF(AND($K$3=5,$K$4="Y"),AI35,"FALSE")))))))))) -> 82.9 | J35: =IF(OUT!F46="", "", OUT!F46) | K35: =IF(OUT!P46="", "", OUT!P46) -> 50 | L35: =IF(OUT!AE46="", "", OUT!AE46) | M35: =IF(OUT!AG46="", "", OUT!AG46) | N35: =IF(OUT!AQ46="", "", OUT!AQ46) | O35: =IF(OUT!BO46="", "", OUT!BO46) -> T3 | P35: =IF(OUT!N46="", "", OUT!N46) -> 1.658 | Q35: =IF(OUT!O46="", "", OUT!O46) -> 82.9 | R35: =IF(PPG!H46="", "", PPG!H46) | S35: =IF(PPG!I46="", "", PPG!I46) | T35: =IF(PPG!J46="", "", PPG!J46) | U35: =IF(PPG!K46="", "", PPG!K46) | V35: =IF(PPG!L46="", "", PPG!L46) | W35: =IF(PPG!M46="", "", PPG!M46) | X35: =IF(PPG!N46="", "", PPG!N46) | Y35: =IF(PPG!O46="", "", PPG!O46) | Z35: =IF(PPG!Q46="", "", PPG!Q46) | AA35: =IF(PPG!R46="", "", PPG!R46) | AB35: =IF(PPG!S46="", "", PPG!S46) | AC35: =IF(PPG!T46="", "", PPG!T46) | AD35: =IF(PPG!U46="", "", PPG!U46) | AE35: =IF(PPG!V46="", "", PPG!V46) | AF35: =IF(PPG!W46="", "", PPG!W46) | AG35: =IF(PPG!X46="", "", PPG!X46) | ... AI35: =IF(PPG!Z46="", "", PPG!Z46) | AJ35: =IF(D35<>"",D35*I35, "0.00") -> 0.00 | AK35: =IF(D35<>"",D35, "0") -> 0 | AL35: =IF(D35<>"",D35*K35, "0") -> 0
