Workbook

Sheet Import to MasterTag.com
A1: MT ID | B1: MT Item Description | C1: Shape | D1: Drawing Number | E1: Feature(s) | F1: Bundle Size | G1: Minimum/ Increments | H1: Quantity | I1: Row | K1: Item # | L1: Multiples | M1: Tag / Product | N1: Quantity | O1: Description | P1: Description 2 | Q1: Species | R1: Category
A2: =IF(N2="","",K2) | B2: =IF(N2="","",O2) | C2: =IF(N2="","",M2) | H2: =IF(N2="","",N2) | I2: 2 | K2: {=IFERROR(IF(ROWS($K$2:K2)<=MAX('Tags - Classics'!$I$50:$I$12000),INDEX('Tags - Classics'!$A$50:$H$12000,MATCH(ROWS($K$2:K2),'Tags - Classics'!$I$50:$I$12000,0),COLUMNS($K:K)),IF(ROWS($K$2:K2)<=MAX('Tags - Classics'!$I$50:$I$12000)+MAX('Tags - Non-Classics'!$I$50:$I$8000),INDEX('Tags - Non-Classics'!$A$50:$H$8000,MATCH(ROWS($K$2:K2)-MAX('Tags - Classics'!$I$50:$I$12000),'Tags - Non-Classics'!$I$50:$I$8000,0),COLUMNS($K:K)),INDEX('Misc & Retail'!$A$50:$H$800,MATCH(ROWS($K$2:K2)-MAX('Tags - Classics'!$I$50:$I$12000)-MAX('Tags - Non-Classics'!$I$50:$I$8000),'Misc & Retail'!$I$50:$I$800,0),COLUMNS($K:K)))),"")} | L2: {=IFERROR(IF(ROWS($K$2:L2)<=MAX('Tags - Classics'!$I$50:$I$12000),INDEX('Tags - Classics'!$A$50:$H$12000,MATCH(ROWS($K$2:L2),'Tags - Classics'!$I$50:$I$12000,0),COLUMNS($K:L)),IF(ROWS($K$2:L2)<=MAX('Tags - Classics'!$I$50:$I$12000)+MAX('Tags - Non-Classics'!$I$50:$I$8000),INDEX('Tags - Non-Classics'!$A$50:$H$8000,MATCH(ROWS($K$2:L2)-MAX('Tags - Classics'!$I$50:$I$12000),'Tags - Non-Classics'!$I$50:$I$8000,0),COLUMNS($K:L)),INDEX('Misc & Retail'!$A$50:$H$800,MATCH(ROWS($K$2:L2)-MAX('Tags - Classics'!$I$50:$I$12000)-MAX('Tags - Non-Classics'!$I$50:$I$8000),'Misc & Retail'!$I$50:$I$800,0),COLUMNS($K:L)))),"")} | M2: {=IFERROR(IF(ROWS($K$2:M2)<=MAX('Tags - Classics'!$I$50:$I$12000),INDEX('Tags - Classics'!$A$50:$H$12000,MATCH(ROWS($K$2:M2),'Tags - Classics'!$I$50:$I$12000,0),COLUMNS($K:M)),IF(ROWS($K$2:M2)<=MAX('Tags - Classics'!$I$50:$I$12000)+MAX('Tags - Non-Classics'!$I$50:$I$8000),INDEX('Tags - Non-Classics'!$A$50:$H$8000,MATCH(ROWS($K$2:M2)-MAX('Tags - Classics'!$I$50:$I$12000),'Tags - Non-Classics'!$I$50:$I$8000,0),COLUMNS($K:M)),INDEX('Misc & Retail'!$A$50:$H$800,MATCH(ROWS($K$2:M2)-MAX('Tags - Classics'!$I$50:$I$12000)-MAX('Tags - Non-Classics'!$I$50:$I$8000),'Misc & Retail'!$I$50:$I$800,0),COLUMNS($K:M)))),"")} | N2: {=IFERROR(IF(ROWS($K$2:N2)<=MAX('Tags - Classics'!$I$50:$I$12000),INDEX('Tags - Classics'!$A$50:$H$12000,MATCH(ROWS($K$2:N2),'Tags - Classics'!$I$50:$I$12000,0),COLUMNS($K:N)),IF(ROWS($K$2:N2)<=MAX('Tags - Classics'!$I$50:$I$12000)+MAX('Tags - Non-Classics'!$I$50:$I$8000),INDEX('Tags - Non-Classics'!$A$50:$H$8000,MATCH(ROWS($K$2:N2)-MAX('Tags - Classics'!$I$50:$I$12000),'Tags - Non-Classics'!$I$50:$I$8000,0),COLUMNS($K:N)),INDEX('Misc & Retail'!$A$50:$H$800,MATCH(ROWS($K$2:N2)-MAX('Tags - Classics'!$I$50:$I$12000)-MAX('Tags - Non-Classics'!$I$50:$I$8000),'Misc & Retail'!$I$50:$I$800,0),COLUMNS($K:N)))),"")} | O2: {=IFERROR(IF(ROWS($K$2:O2)<=MAX('Tags - Classics'!$I$50:$I$12000),INDEX('Tags - Classics'!$A$50:$H$12000,MATCH(ROWS($K$2:O2),'Tags - Classics'!$I$50:$I$12000,0),COLUMNS($K:O)),IF(ROWS($K$2:O2)<=MAX('Tags - Classics'!$I$50:$I$12000)+MAX('Tags - Non-Classics'!$I$50:$I$8000),INDEX('Tags - Non-Classics'!$A$50:$H$8000,MATCH(ROWS($K$2:O2)-MAX('Tags - Classics'!$I$50:$I$12000),'Tags - Non-Classics'!$I$50:$I$8000,0),COLUMNS($K:O)),INDEX('Misc & Retail'!$A$50:$H$800,MATCH(ROWS($K$2:O2)-MAX('Tags - Classics'!$I$50:$I$12000)-MAX('Tags - Non-Classics'!$I$50:$I$8000),'Misc & Retail'!$I$50:$I$800,0),COLUMNS($K:O)))),"")} | P2: {=IFERROR(IF(ROWS($K$2:P2)<=MAX('Tags - Classics'!$I$50:$I$12000),INDEX('Tags - Classics'!$A$50:$H$12000,MATCH(ROWS($K$2:P2),'Tags - Classics'!$I$50:$I$12000,0),COLUMNS($K:P)),IF(ROWS($K$2:P2)<=MAX('Tags - Classics'!$I$50:$I$12000)+MAX('Tags - Non-Classics'!$I$50:$I$8000),INDEX('Tags - Non-Classics'!$A$50:$H$8000,MATCH(ROWS($K$2:P2)-MAX('Tags - Classics'!$I$50:$I$12000),'Tags - Non-Classics'!$I$50:$I$8000,0),COLUMNS($K:P)),INDEX('Misc & Retail'!$A$50:$H$800,MATCH(ROWS($K$2:P2)-MAX('Tags - Classics'!$I$50:$I$12000)-MAX('Tags - Non-Classics'!$I$50:$I$8000),'Misc & Retail'!$I$50:$I$800,0),COLUMNS($K:P)))),"")} | Q2: {=IFERROR(IF(ROWS($K$2:Q2)<=MAX('Tags - Classics'!$I$50:$I$12000),INDEX('Tags - Classics'!$A$50:$H$12000,MATCH(ROWS($K$2:Q2),'Tags - Classics'!$I$50:$I$12000,0),COLUMNS($K:Q)),IF(ROWS($K$2:Q2)<=MAX('Tags - Classics'!$I$50:$I$12000)+MAX('Tags - Non-Classics'!$I$50:$I$8000),INDEX('Tags - Non-Classics'!$A$50:$H$8000,MATCH(ROWS($K$2:Q2)-MAX('Tags - Classics'!$I$50:$I$12000),'Tags - Non-Classics'!$I$50:$I$8000,0),COLUMNS($K:Q)),INDEX('Misc & Retail'!$A$50:$H$800,MATCH(ROWS($K$2:Q2)-MAX('Tags - Classics'!$I$50:$I$12000)-MAX('Tags - Non-Classics'!$I$50:$I$8000),'Misc & Retail'!$I$50:$I$800,0),COLUMNS($K:Q)))),"")} | R2: {=IFERROR(IF(ROWS($K$2:R2)<=MAX('Tags - Classics'!$I$50:$I$12000),INDEX('Tags - Classics'!$A$50:$H$12000,MATCH(ROWS($K$2:R2),'Tags - Classics'!$I$50:$I$12000,0),COLUMNS($K:R)),IF(ROWS($K$2:R2)<=MAX('Tags - Classics'!$I$50:$I$12000)+MAX('Tags - Non-Classics'!$I$50:$I$8000),INDEX('Tags - Non-Classics'!$A$50:$H$8000,MATCH(ROWS($K$2:R2)-MAX('Tags - Classics'!$I$50:$I$12000),'Tags - Non-Classics'!$I$50:$I$8000,0),COLUMNS($K:R)),INDEX('Misc & Retail'!$A$50:$H$800,MATCH(ROWS($K$2:R2)-MAX('Tags - Classics'!$I$50:$I$12000)-MAX('Tags - Non-Classics'!$I$50:$I$8000),'Misc & Retail'!$I$50:$I$800,0),COLUMNS($K:R)))),"")}
A3: =IF(N3="","",K3) | B3: =IF(N3="","",O3) | C3: =IF(N3="","",M3) | H3: =IF(N3="","",N3) | I3: =I2+1 -> 3 | K3: {=IFERROR(IF(ROWS($K$2:K3)<=MAX('Tags - Classics'!$I$50:$I$12000),INDEX('Tags - Classics'!$A$50:$H$12000,MATCH(ROWS($K$2:K3),'Tags - Classics'!$I$50:$I$12000,0),COLUMNS($K:K)),IF(ROWS($K$2:K3)<=MAX('Tags - Classics'!$I$50:$I$12000)+MAX('Tags - Non-Classics'!$I$50:$I$8000),INDEX('Tags - Non-Classics'!$A$50:$H$8000,MATCH(ROWS($K$2:K3)-MAX('Tags - Classics'!$I$50:$I$12000),'Tags - Non-Classics'!$I$50:$I$8000,0),COLUMNS($K:K)),INDEX('Misc & Retail'!$A$50:$H$800,MATCH(ROWS($K$2:K3)-MAX('Tags - Classics'!$I$50:$I$12000)-MAX('Tags - Non-Classics'!$I$50:$I$8000),'Misc & Retail'!$I$50:$I$800,0),COLUMNS($K:K)))),"")} | L3: {=IFERROR(IF(ROWS($K$2:L3)<=MAX('Tags - Classics'!$I$50:$I$12000),INDEX('Tags - Classics'!$A$50:$H$12000,MATCH(ROWS($K$2:L3),'Tags - Classics'!$I$50:$I$12000,0),COLUMNS($K:L)),IF(ROWS($K$2:L3)<=MAX('Tags - Classics'!$I$50:$I$12000)+MAX('Tags - Non-Classics'!$I$50:$I$8000),INDEX('Tags - Non-Classics'!$A$50:$H$8000,MATCH(ROWS($K$2:L3)-MAX('Tags - Classics'!$I$50:$I$12000),'Tags - Non-Classics'!$I$50:$I$8000,0),COLUMNS($K:L)),INDEX('Misc & Retail'!$A$50:$H$800,MATCH(ROWS($K$2:L3)-MAX('Tags - Classics'!$I$50:$I$12000)-MAX('Tags - Non-Classics'!$I$50:$I$8000),'Misc & Retail'!$I$50:$I$800,0),COLUMNS($K:L)))),"")} | M3: {=IFERROR(IF(ROWS($K$2:M3)<=MAX('Tags - Classics'!$I$50:$I$12000),INDEX('Tags - Classics'!$A$50:$H$12000,MATCH(ROWS($K$2:M3),'Tags - Classics'!$I$50:$I$12000,0),COLUMNS($K:M)),IF(ROWS($K$2:M3)<=MAX('Tags - Classics'!$I$50:$I$12000)+MAX('Tags - Non-Classics'!$I$50:$I$8000),INDEX('Tags - Non-Classics'!$A$50:$H$8000,MATCH(ROWS($K$2:M3)-MAX('Tags - Classics'!$I$50:$I$12000),'Tags - Non-Classics'!$I$50:$I$8000,0),COLUMNS($K:M)),INDEX('Misc & Retail'!$A$50:$H$800,MATCH(ROWS($K$2:M3)-MAX('Tags - Classics'!$I$50:$I$12000)-MAX('Tags - Non-Classics'!$I$50:$I$8000),'Misc & Retail'!$I$50:$I$800,0),COLUMNS($K:M)))),"")} | N3: {=IFERROR(IF(ROWS($K$2:N3)<=MAX('Tags - Classics'!$I$50:$I$12000),INDEX('Tags - Classics'!$A$50:$H$12000,MATCH(ROWS($K$2:N3),'Tags - Classics'!$I$50:$I$12000,0),COLUMNS($K:N)),IF(ROWS($K$2:N3)<=MAX('Tags - Classics'!$I$50:$I$12000)+MAX('Tags - Non-Classics'!$I$50:$I$8000),INDEX('Tags - Non-Classics'!$A$50:$H$8000,MATCH(ROWS($K$2:N3)-MAX('Tags - Classics'!$I$50:$I$12000),'Tags - Non-Classics'!$I$50:$I$8000,0),COLUMNS($K:N)),INDEX('Misc & Retail'!$A$50:$H$800,MATCH(ROWS($K$2:N3)-MAX('Tags - Classics'!$I$50:$I$12000)-MAX('Tags - Non-Classics'!$I$50:$I$8000),'Misc & Retail'!$I$50:$I$800,0),COLUMNS($K:N)))),"")} | O3: {=IFERROR(IF(ROWS($K$2:O3)<=MAX('Tags - Classics'!$I$50:$I$12000),INDEX('Tags - Classics'!$A$50:$H$12000,MATCH(ROWS($K$2:O3),'Tags - Classics'!$I$50:$I$12000,0),COLUMNS($K:O)),IF(ROWS($K$2:O3)<=MAX('Tags - Classics'!$I$50:$I$12000)+MAX('Tags - Non-Classics'!$I$50:$I$8000),INDEX('Tags - Non-Classics'!$A$50:$H$8000,MATCH(ROWS($K$2:O3)-MAX('Tags - Classics'!$I$50:$I$12000),'Tags - Non-Classics'!$I$50:$I$8000,0),COLUMNS($K:O)),INDEX('Misc & Retail'!$A$50:$H$800,MATCH(ROWS($K$2:O3)-MAX('Tags - Classics'!$I$50:$I$12000)-MAX('Tags - Non-Classics'!$I$50:$I$8000),'Misc & Retail'!$I$50:$I$800,0),COLUMNS($K:O)))),"")} | P3: {=IFERROR(IF(ROWS($K$2:P3)<=MAX('Tags - Classics'!$I$50:$I$12000),INDEX('Tags - Classics'!$A$50:$H$12000,MATCH(ROWS($K$2:P3),'Tags - Classics'!$I$50:$I$12000,0),COLUMNS($K:P)),IF(ROWS($K$2:P3)<=MAX('Tags - Classics'!$I$50:$I$12000)+MAX('Tags - Non-Classics'!$I$50:$I$8000),INDEX('Tags - Non-Classics'!$A$50:$H$8000,MATCH(ROWS($K$2:P3)-MAX('Tags - Classics'!$I$50:$I$12000),'Tags - Non-Classics'!$I$50:$I$8000,0),COLUMNS($K:P)),INDEX('Misc & Retail'!$A$50:$H$800,MATCH(ROWS($K$2:P3)-MAX('Tags - Classics'!$I$50:$I$12000)-MAX('Tags - Non-Classics'!$I$50:$I$8000),'Misc & Retail'!$I$50:$I$800,0),COLUMNS($K:P)))),"")} | Q3: {=IFERROR(IF(ROWS($K$2:Q3)<=MAX('Tags - Classics'!$I$50:$I$12000),INDEX('Tags - Classics'!$A$50:$H$12000,MATCH(ROWS($K$2:Q3),'Tags - Classics'!$I$50:$I$12000,0),COLUMNS($K:Q)),IF(ROWS($K$2:Q3)<=MAX('Tags - Classics'!$I$50:$I$12000)+MAX('Tags - Non-Classics'!$I$50:$I$8000),INDEX('Tags - Non-Classics'!$A$50:$H$8000,MATCH(ROWS($K$2:Q3)-MAX('Tags - Classics'!$I$50:$I$12000),'Tags - Non-Classics'!$I$50:$I$8000,0),COLUMNS($K:Q)),INDEX('Misc & Retail'!$A$50:$H$800,MATCH(ROWS($K$2:Q3)-MAX('Tags - Classics'!$I$50:$I$12000)-MAX('Tags - Non-Classics'!$I$50:$I$8000),'Misc & Retail'!$I$50:$I$800,0),COLUMNS($K:Q)))),"")} | R3: {=IFERROR(IF(ROWS($K$2:R3)<=MAX('Tags - Classics'!$I$50:$I$12000),INDEX('Tags - Classics'!$A$50:$H$12000,MATCH(ROWS($K$2:R3),'Tags - Classics'!$I$50:$I$12000,0),COLUMNS($K:R)),IF(ROWS($K$2:R3)<=MAX('Tags - Classics'!$I$50:$I$12000)+MAX('Tags - Non-Classics'!$I$50:$I$8000),INDEX('Tags - Non-Classics'!$A$50:$H$8000,MATCH(ROWS($K$2:R3)-MAX('Tags - Classics'!$I$50:$I$12000),'Tags - Non-Classics'!$I$50:$I$8000,0),COLUMNS($K:R)),INDEX('Misc & Retail'!$A$50:$H$800,MATCH(ROWS($K$2:R3)-MAX('Tags - Classics'!$I$50:$I$12000)-MAX('Tags - Non-Classics'!$I$50:$I$8000),'Misc & Retail'!$I$50:$I$800,0),COLUMNS($K:R)))),"")}
A4: =IF(N4="","",K4) | B4: =IF(N4="","",O4) | C4: =IF(N4="","",M4) | H4: =IF(N4="","",N4) | I4: =I3+1 -> 4 | K4: {=IFERROR(IF(ROWS($K$2:K4)<=MAX('Tags - Classics'!$I$50:$I$12000),INDEX('Tags - Classics'!$A$50:$H$12000,MATCH(ROWS($K$2:K4),'Tags - Classics'!$I$50:$I$12000,0),COLUMNS($K:K)),IF(ROWS($K$2:K4)<=MAX('Tags - Classics'!$I$50:$I$12000)+MAX('Tags - Non-Classics'!$I$50:$I$8000),INDEX('Tags - Non-Classics'!$A$50:$H$8000,MATCH(ROWS($K$2:K4)-MAX('Tags - Classics'!$I$50:$I$12000),'Tags - Non-Classics'!$I$50:$I$8000,0),COLUMNS($K:K)),INDEX('Misc & Retail'!$A$50:$H$800,MATCH(ROWS($K$2:K4)-MAX('Tags - Classics'!$I$50:$I$12000)-MAX('Tags - Non-Classics'!$I$50:$I$8000),'Misc & Retail'!$I$50:$I$800,0),COLUMNS($K:K)))),"")} | L4: {=IFERROR(IF(ROWS($K$2:L4)<=MAX('Tags - Classics'!$I$50:$I$12000),INDEX('Tags - Classics'!$A$50:$H$12000,MATCH(ROWS($K$2:L4),'Tags - Classics'!$I$50:$I$12000,0),COLUMNS($K:L)),IF(ROWS($K$2:L4)<=MAX('Tags - Classics'!$I$50:$I$12000)+MAX('Tags - Non-Classics'!$I$50:$I$8000),INDEX('Tags - Non-Classics'!$A$50:$H$8000,MATCH(ROWS($K$2:L4)-MAX('Tags - Classics'!$I$50:$I$12000),'Tags - Non-Classics'!$I$50:$I$8000,0),COLUMNS($K:L)),INDEX('Misc & Retail'!$A$50:$H$800,MATCH(ROWS($K$2:L4)-MAX('Tags - Classics'!$I$50:$I$12000)-MAX('Tags - Non-Classics'!$I$50:$I$8000),'Misc & Retail'!$I$50:$I$800,0),COLUMNS($K:L)))),"")} | M4: {=IFERROR(IF(ROWS($K$2:M4)<=MAX('Tags - Classics'!$I$50:$I$12000),INDEX('Tags - Classics'!$A$50:$H$12000,MATCH(ROWS($K$2:M4),'Tags - Classics'!$I$50:$I$12000,0),COLUMNS($K:M)),IF(ROWS($K$2:M4)<=MAX('Tags - Classics'!$I$50:$I$12000)+MAX('Tags - Non-Classics'!$I$50:$I$8000),INDEX('Tags - Non-Classics'!$A$50:$H$8000,MATCH(ROWS($K$2:M4)-MAX('Tags - Classics'!$I$50:$I$12000),'Tags - Non-Classics'!$I$50:$I$8000,0),COLUMNS($K:M)),INDEX('Misc & Retail'!$A$50:$H$800,MATCH(ROWS($K$2:M4)-MAX('Tags - Classics'!$I$50:$I$12000)-MAX('Tags - Non-Classics'!$I$50:$I$8000),'Misc & Retail'!$I$50:$I$800,0),COLUMNS($K:M)))),"")} | N4: {=IFERROR(IF(ROWS($K$2:N4)<=MAX('Tags - Classics'!$I$50:$I$12000),INDEX('Tags - Classics'!$A$50:$H$12000,MATCH(ROWS($K$2:N4),'Tags - Classics'!$I$50:$I$12000,0),COLUMNS($K:N)),IF(ROWS($K$2:N4)<=MAX('Tags - Classics'!$I$50:$I$12000)+MAX('Tags - Non-Classics'!$I$50:$I$8000),INDEX('Tags - Non-Classics'!$A$50:$H$8000,MATCH(ROWS($K$2:N4)-MAX('Tags - Classics'!$I$50:$I$12000),'Tags - Non-Classics'!$I$50:$I$8000,0),COLUMNS($K:N)),INDEX('Misc & Retail'!$A$50:$H$800,MATCH(ROWS($K$2:N4)-MAX('Tags - Classics'!$I$50:$I$12000)-MAX('Tags - Non-Classics'!$I$50:$I$8000),'Misc & Retail'!$I$50:$I$800,0),COLUMNS($K:N)))),"")} | O4: {=IFERROR(IF(ROWS($K$2:O4)<=MAX('Tags - Classics'!$I$50:$I$12000),INDEX('Tags - Classics'!$A$50:$H$12000,MATCH(ROWS($K$2:O4),'Tags - Classics'!$I$50:$I$12000,0),COLUMNS($K:O)),IF(ROWS($K$2:O4)<=MAX('Tags - Classics'!$I$50:$I$12000)+MAX('Tags - Non-Classics'!$I$50:$I$8000),INDEX('Tags - Non-Classics'!$A$50:$H$8000,MATCH(ROWS($K$2:O4)-MAX('Tags - Classics'!$I$50:$I$12000),'Tags - Non-Classics'!$I$50:$I$8000,0),COLUMNS($K:O)),INDEX('Misc & Retail'!$A$50:$H$800,MATCH(ROWS($K$2:O4)-MAX('Tags - Classics'!$I$50:$I$12000)-MAX('Tags - Non-Classics'!$I$50:$I$8000),'Misc & Retail'!$I$50:$I$800,0),COLUMNS($K:O)))),"")} | P4: {=IFERROR(IF(ROWS($K$2:P4)<=MAX('Tags - Classics'!$I$50:$I$12000),INDEX('Tags - Classics'!$A$50:$H$12000,MATCH(ROWS($K$2:P4),'Tags - Classics'!$I$50:$I$12000,0),COLUMNS($K:P)),IF(ROWS($K$2:P4)<=MAX('Tags - Classics'!$I$50:$I$12000)+MAX('Tags - Non-Classics'!$I$50:$I$8000),INDEX('Tags - Non-Classics'!$A$50:$H$8000,MATCH(ROWS($K$2:P4)-MAX('Tags - Classics'!$I$50:$I$12000),'Tags - Non-Classics'!$I$50:$I$8000,0),COLUMNS($K:P)),INDEX('Misc & Retail'!$A$50:$H$800,MATCH(ROWS($K$2:P4)-MAX('Tags - Classics'!$I$50:$I$12000)-MAX('Tags - Non-Classics'!$I$50:$I$8000),'Misc & Retail'!$I$50:$I$800,0),COLUMNS($K:P)))),"")} | Q4: {=IFERROR(IF(ROWS($K$2:Q4)<=MAX('Tags - Classics'!$I$50:$I$12000),INDEX('Tags - Classics'!$A$50:$H$12000,MATCH(ROWS($K$2:Q4),'Tags - Classics'!$I$50:$I$12000,0),COLUMNS($K:Q)),IF(ROWS($K$2:Q4)<=MAX('Tags - Classics'!$I$50:$I$12000)+MAX('Tags - Non-Classics'!$I$50:$I$8000),INDEX('Tags - Non-Classics'!$A$50:$H$8000,MATCH(ROWS($K$2:Q4)-MAX('Tags - Classics'!$I$50:$I$12000),'Tags - Non-Classics'!$I$50:$I$8000,0),COLUMNS($K:Q)),INDEX('Misc & Retail'!$A$50:$H$800,MATCH(ROWS($K$2:Q4)-MAX('Tags - Classics'!$I$50:$I$12000)-MAX('Tags - Non-Classics'!$I$50:$I$8000),'Misc & Retail'!$I$50:$I$800,0),COLUMNS($K:Q)))),"")} | R4: {=IFERROR(IF(ROWS($K$2:R4)<=MAX('Tags - Classics'!$I$50:$I$12000),INDEX('Tags - Classics'!$A$50:$H$12000,MATCH(ROWS($K$2:R4),'Tags - Classics'!$I$50:$I$12000,0),COLUMNS($K:R)),IF(ROWS($K$2:R4)<=MAX('Tags - Classics'!$I$50:$I$12000)+MAX('Tags - Non-Classics'!$I$50:$I$8000),INDEX('Tags - Non-Classics'!$A$50:$H$8000,MATCH(ROWS($K$2:R4)-MAX('Tags - Classics'!$I$50:$I$12000),'Tags - Non-Classics'!$I$50:$I$8000,0),COLUMNS($K:R)),INDEX('Misc & Retail'!$A$50:$H$800,MATCH(ROWS($K$2:R4)-MAX('Tags - Classics'!$I$50:$I$12000)-MAX('Tags - Non-Classics'!$I$50:$I$8000),'Misc & Retail'!$I$50:$I$800,0),COLUMNS($K:R)))),"")}
A5: =IF(N5="","",K5) | B5: =IF(N5="","",O5) | C5: =IF(N5="","",M5) | H5: =IF(N5="","",N5) | I5: =I4+1 -> 5 | K5: {=IFERROR(IF(ROWS($K$2:K5)<=MAX('Tags - Classics'!$I$50:$I$12000),INDEX('Tags - Classics'!$A$50:$H$12000,MATCH(ROWS($K$2:K5),'Tags - Classics'!$I$50:$I$12000,0),COLUMNS($K:K)),IF(ROWS($K$2:K5)<=MAX('Tags - Classics'!$I$50:$I$12000)+MAX('Tags - Non-Classics'!$I$50:$I$8000),INDEX('Tags - Non-Classics'!$A$50:$H$8000,MATCH(ROWS($K$2:K5)-MAX('Tags - Classics'!$I$50:$I$12000),'Tags - Non-Classics'!$I$50:$I$8000,0),COLUMNS($K:K)),INDEX('Misc & Retail'!$A$50:$H$800,MATCH(ROWS($K$2:K5)-MAX('Tags - Classics'!$I$50:$I$12000)-MAX('Tags - Non-Classics'!$I$50:$I$8000),'Misc & Retail'!$I$50:$I$800,0),COLUMNS($K:K)))),"")} | L5: {=IFERROR(IF(ROWS($K$2:L5)<=MAX('Tags - Classics'!$I$50:$I$12000),INDEX('Tags - Classics'!$A$50:$H$12000,MATCH(ROWS($K$2:L5),'Tags - Classics'!$I$50:$I$12000,0),COLUMNS($K:L)),IF(ROWS($K$2:L5)<=MAX('Tags - Classics'!$I$50:$I$12000)+MAX('Tags - Non-Classics'!$I$50:$I$8000),INDEX('Tags - Non-Classics'!$A$50:$H$8000,MATCH(ROWS($K$2:L5)-MAX('Tags - Classics'!$I$50:$I$12000),'Tags - Non-Classics'!$I$50:$I$8000,0),COLUMNS($K:L)),INDEX('Misc & Retail'!$A$50:$H$800,MATCH(ROWS($K$2:L5)-MAX('Tags - Classics'!$I$50:$I$12000)-MAX('Tags - Non-Classics'!$I$50:$I$8000),'Misc & Retail'!$I$50:$I$800,0),COLUMNS($K:L)))),"")} | M5: {=IFERROR(IF(ROWS($K$2:M5)<=MAX('Tags - Classics'!$I$50:$I$12000),INDEX('Tags - Classics'!$A$50:$H$12000,MATCH(ROWS($K$2:M5),'Tags - Classics'!$I$50:$I$12000,0),COLUMNS($K:M)),IF(ROWS($K$2:M5)<=MAX('Tags - Classics'!$I$50:$I$12000)+MAX('Tags - Non-Classics'!$I$50:$I$8000),INDEX('Tags - Non-Classics'!$A$50:$H$8000,MATCH(ROWS($K$2:M5)-MAX('Tags - Classics'!$I$50:$I$12000),'Tags - Non-Classics'!$I$50:$I$8000,0),COLUMNS($K:M)),INDEX('Misc & Retail'!$A$50:$H$800,MATCH(ROWS($K$2:M5)-MAX('Tags - Classics'!$I$50:$I$12000)-MAX('Tags - Non-Classics'!$I$50:$I$8000),'Misc & Retail'!$I$50:$I$800,0),COLUMNS($K:M)))),"")} | N5: {=IFERROR(IF(ROWS($K$2:N5)<=MAX('Tags - Classics'!$I$50:$I$12000),INDEX('Tags - Classics'!$A$50:$H$12000,MATCH(ROWS($K$2:N5),'Tags - Classics'!$I$50:$I$12000,0),COLUMNS($K:N)),IF(ROWS($K$2:N5)<=MAX('Tags - Classics'!$I$50:$I$12000)+MAX('Tags - Non-Classics'!$I$50:$I$8000),INDEX('Tags - Non-Classics'!$A$50:$H$8000,MATCH(ROWS($K$2:N5)-MAX('Tags - Classics'!$I$50:$I$12000),'Tags - Non-Classics'!$I$50:$I$8000,0),COLUMNS($K:N)),INDEX('Misc & Retail'!$A$50:$H$800,MATCH(ROWS($K$2:N5)-MAX('Tags - Classics'!$I$50:$I$12000)-MAX('Tags - Non-Classics'!$I$50:$I$8000),'Misc & Retail'!$I$50:$I$800,0),COLUMNS($K:N)))),"")} | O5: {=IFERROR(IF(ROWS($K$2:O5)<=MAX('Tags - Classics'!$I$50:$I$12000),INDEX('Tags - Classics'!$A$50:$H$12000,MATCH(ROWS($K$2:O5),'Tags - Classics'!$I$50:$I$12000,0),COLUMNS($K:O)),IF(ROWS($K$2:O5)<=MAX('Tags - Classics'!$I$50:$I$12000)+MAX('Tags - Non-Classics'!$I$50:$I$8000),INDEX('Tags - Non-Classics'!$A$50:$H$8000,MATCH(ROWS($K$2:O5)-MAX('Tags - Classics'!$I$50:$I$12000),'Tags - Non-Classics'!$I$50:$I$8000,0),COLUMNS($K:O)),INDEX('Misc & Retail'!$A$50:$H$800,MATCH(ROWS($K$2:O5)-MAX('Tags - Classics'!$I$50:$I$12000)-MAX('Tags - Non-Classics'!$I$50:$I$8000),'Misc & Retail'!$I$50:$I$800,0),COLUMNS($K:O)))),"")} | P5: {=IFERROR(IF(ROWS($K$2:P5)<=MAX('Tags - Classics'!$I$50:$I$12000),INDEX('Tags - Classics'!$A$50:$H$12000,MATCH(ROWS($K$2:P5),'Tags - Classics'!$I$50:$I$12000,0),COLUMNS($K:P)),IF(ROWS($K$2:P5)<=MAX('Tags - Classics'!$I$50:$I$12000)+MAX('Tags - Non-Classics'!$I$50:$I$8000),INDEX('Tags - Non-Classics'!$A$50:$H$8000,MATCH(ROWS($K$2:P5)-MAX('Tags - Classics'!$I$50:$I$12000),'Tags - Non-Classics'!$I$50:$I$8000,0),COLUMNS($K:P)),INDEX('Misc & Retail'!$A$50:$H$800,MATCH(ROWS($K$2:P5)-MAX('Tags - Classics'!$I$50:$I$12000)-MAX('Tags - Non-Classics'!$I$50:$I$8000),'Misc & Retail'!$I$50:$I$800,0),COLUMNS($K:P)))),"")} | Q5: {=IFERROR(IF(ROWS($K$2:Q5)<=MAX('Tags - Classics'!$I$50:$I$12000),INDEX('Tags - Classics'!$A$50:$H$12000,MATCH(ROWS($K$2:Q5),'Tags - Classics'!$I$50:$I$12000,0),COLUMNS($K:Q)),IF(ROWS($K$2:Q5)<=MAX('Tags - Classics'!$I$50:$I$12000)+MAX('Tags - Non-Classics'!$I$50:$I$8000),INDEX('Tags - Non-Classics'!$A$50:$H$8000,MATCH(ROWS($K$2:Q5)-MAX('Tags - Classics'!$I$50:$I$12000),'Tags - Non-Classics'!$I$50:$I$8000,0),COLUMNS($K:Q)),INDEX('Misc & Retail'!$A$50:$H$800,MATCH(ROWS($K$2:Q5)-MAX('Tags - Classics'!$I$50:$I$12000)-MAX('Tags - Non-Classics'!$I$50:$I$8000),'Misc & Retail'!$I$50:$I$800,0),COLUMNS($K:Q)))),"")} | R5: {=IFERROR(IF(ROWS($K$2:R5)<=MAX('Tags - Classics'!$I$50:$I$12000),INDEX('Tags - Classics'!$A$50:$H$12000,MATCH(ROWS($K$2:R5),'Tags - Classics'!$I$50:$I$12000,0),COLUMNS($K:R)),IF(ROWS($K$2:R5)<=MAX('Tags - Classics'!$I$50:$I$12000)+MAX('Tags - Non-Classics'!$I$50:$I$8000),INDEX('Tags - Non-Classics'!$A$50:$H$8000,MATCH(ROWS($K$2:R5)-MAX('Tags - Classics'!$I$50:$I$12000),'Tags - Non-Classics'!$I$50:$I$8000,0),COLUMNS($K:R)),INDEX('Misc & Retail'!$A$50:$H$800,MATCH(ROWS($K$2:R5)-MAX('Tags - Classics'!$I$50:$I$12000)-MAX('Tags - Non-Classics'!$I$50:$I$8000),'Misc & Retail'!$I$50:$I$800,0),COLUMNS($K:R)))),"")}
A6: =IF(N6="","",K6) | B6: =IF(N6="","",O6) | C6: =IF(N6="","",M6) | H6: =IF(N6="","",N6) | I6: =I5+1 -> 6 | K6: {=IFERROR(IF(ROWS($K$2:K6)<=MAX('Tags - Classics'!$I$50:$I$12000),INDEX('Tags - Classics'!$A$50:$H$12000,MATCH(ROWS($K$2:K6),'Tags - Classics'!$I$50:$I$12000,0),COLUMNS($K:K)),IF(ROWS($K$2:K6)<=MAX('Tags - Classics'!$I$50:$I$12000)+MAX('Tags - Non-Classics'!$I$50:$I$8000),INDEX('Tags - Non-Classics'!$A$50:$H$8000,MATCH(ROWS($K$2:K6)-MAX('Tags - Classics'!$I$50:$I$12000),'Tags - Non-Classics'!$I$50:$I$8000,0),COLUMNS($K:K)),INDEX('Misc & Retail'!$A$50:$H$800,MATCH(ROWS($K$2:K6)-MAX('Tags - Classics'!$I$50:$I$12000)-MAX('Tags - Non-Classics'!$I$50:$I$8000),'Misc & Retail'!$I$50:$I$800,0),COLUMNS($K:K)))),"")} | L6: {=IFERROR(IF(ROWS($K$2:L6)<=MAX('Tags - Classics'!$I$50:$I$12000),INDEX('Tags - Classics'!$A$50:$H$12000,MATCH(ROWS($K$2:L6),'Tags - Classics'!$I$50:$I$12000,0),COLUMNS($K:L)),IF(ROWS($K$2:L6)<=MAX('Tags - Classics'!$I$50:$I$12000)+MAX('Tags - Non-Classics'!$I$50:$I$8000),INDEX('Tags - Non-Classics'!$A$50:$H$8000,MATCH(ROWS($K$2:L6)-MAX('Tags - Classics'!$I$50:$I$12000),'Tags - Non-Classics'!$I$50:$I$8000,0),COLUMNS($K:L)),INDEX('Misc & Retail'!$A$50:$H$800,MATCH(ROWS($K$2:L6)-MAX('Tags - Classics'!$I$50:$I$12000)-MAX('Tags - Non-Classics'!$I$50:$I$8000),'Misc & Retail'!$I$50:$I$800,0),COLUMNS($K:L)))),"")} | M6: {=IFERROR(IF(ROWS($K$2:M6)<=MAX('Tags - Classics'!$I$50:$I$12000),INDEX('Tags - Classics'!$A$50:$H$12000,MATCH(ROWS($K$2:M6),'Tags - Classics'!$I$50:$I$12000,0),COLUMNS($K:M)),IF(ROWS($K$2:M6)<=MAX('Tags - Classics'!$I$50:$I$12000)+MAX('Tags - Non-Classics'!$I$50:$I$8000),INDEX('Tags - Non-Classics'!$A$50:$H$8000,MATCH(ROWS($K$2:M6)-MAX('Tags - Classics'!$I$50:$I$12000),'Tags - Non-Classics'!$I$50:$I$8000,0),COLUMNS($K:M)),INDEX('Misc & Retail'!$A$50:$H$800,MATCH(ROWS($K$2:M6)-MAX('Tags - Classics'!$I$50:$I$12000)-MAX('Tags - Non-Classics'!$I$50:$I$8000),'Misc & Retail'!$I$50:$I$800,0),COLUMNS($K:M)))),"")} | N6: {=IFERROR(IF(ROWS($K$2:N6)<=MAX('Tags - Classics'!$I$50:$I$12000),INDEX('Tags - Classics'!$A$50:$H$12000,MATCH(ROWS($K$2:N6),'Tags - Classics'!$I$50:$I$12000,0),COLUMNS($K:N)),IF(ROWS($K$2:N6)<=MAX('Tags - Classics'!$I$50:$I$12000)+MAX('Tags - Non-Classics'!$I$50:$I$8000),INDEX('Tags - Non-Classics'!$A$50:$H$8000,MATCH(ROWS($K$2:N6)-MAX('Tags - Classics'!$I$50:$I$12000),'Tags - Non-Classics'!$I$50:$I$8000,0),COLUMNS($K:N)),INDEX('Misc & Retail'!$A$50:$H$800,MATCH(ROWS($K$2:N6)-MAX('Tags - Classics'!$I$50:$I$12000)-MAX('Tags - Non-Classics'!$I$50:$I$8000),'Misc & Retail'!$I$50:$I$800,0),COLUMNS($K:N)))),"")} | O6: {=IFERROR(IF(ROWS($K$2:O6)<=MAX('Tags - Classics'!$I$50:$I$12000),INDEX('Tags - Classics'!$A$50:$H$12000,MATCH(ROWS($K$2:O6),'Tags - Classics'!$I$50:$I$12000,0),COLUMNS($K:O)),IF(ROWS($K$2:O6)<=MAX('Tags - Classics'!$I$50:$I$12000)+MAX('Tags - Non-Classics'!$I$50:$I$8000),INDEX('Tags - Non-Classics'!$A$50:$H$8000,MATCH(ROWS($K$2:O6)-MAX('Tags - Classics'!$I$50:$I$12000),'Tags - Non-Classics'!$I$50:$I$8000,0),COLUMNS($K:O)),INDEX('Misc & Retail'!$A$50:$H$800,MATCH(ROWS($K$2:O6)-MAX('Tags - Classics'!$I$50:$I$12000)-MAX('Tags - Non-Classics'!$I$50:$I$8000),'Misc & Retail'!$I$50:$I$800,0),COLUMNS($K:O)))),"")} | P6: {=IFERROR(IF(ROWS($K$2:P6)<=MAX('Tags - Classics'!$I$50:$I$12000),INDEX('Tags - Classics'!$A$50:$H$12000,MATCH(ROWS($K$2:P6),'Tags - Classics'!$I$50:$I$12000,0),COLUMNS($K:P)),IF(ROWS($K$2:P6)<=MAX('Tags - Classics'!$I$50:$I$12000)+MAX('Tags - Non-Classics'!$I$50:$I$8000),INDEX('Tags - Non-Classics'!$A$50:$H$8000,MATCH(ROWS($K$2:P6)-MAX('Tags - Classics'!$I$50:$I$12000),'Tags - Non-Classics'!$I$50:$I$8000,0),COLUMNS($K:P)),INDEX('Misc & Retail'!$A$50:$H$800,MATCH(ROWS($K$2:P6)-MAX('Tags - Classics'!$I$50:$I$12000)-MAX('Tags - Non-Classics'!$I$50:$I$8000),'Misc & Retail'!$I$50:$I$800,0),COLUMNS($K:P)))),"")} | Q6: {=IFERROR(IF(ROWS($K$2:Q6)<=MAX('Tags - Classics'!$I$50:$I$12000),INDEX('Tags - Classics'!$A$50:$H$12000,MATCH(ROWS($K$2:Q6),'Tags - Classics'!$I$50:$I$12000,0),COLUMNS($K:Q)),IF(ROWS($K$2:Q6)<=MAX('Tags - Classics'!$I$50:$I$12000)+MAX('Tags - Non-Classics'!$I$50:$I$8000),INDEX('Tags - Non-Classics'!$A$50:$H$8000,MATCH(ROWS($K$2:Q6)-MAX('Tags - Classics'!$I$50:$I$12000),'Tags - Non-Classics'!$I$50:$I$8000,0),COLUMNS($K:Q)),INDEX('Misc & Retail'!$A$50:$H$800,MATCH(ROWS($K$2:Q6)-MAX('Tags - Classics'!$I$50:$I$12000)-MAX('Tags - Non-Classics'!$I$50:$I$8000),'Misc & Retail'!$I$50:$I$800,0),COLUMNS($K:Q)))),"")} | R6: {=IFERROR(IF(ROWS($K$2:R6)<=MAX('Tags - Classics'!$I$50:$I$12000),INDEX('Tags - Classics'!$A$50:$H$12000,MATCH(ROWS($K$2:R6),'Tags - Classics'!$I$50:$I$12000,0),COLUMNS($K:R)),IF(ROWS($K$2:R6)<=MAX('Tags - Classics'!$I$50:$I$12000)+MAX('Tags - Non-Classics'!$I$50:$I$8000),INDEX('Tags - Non-Classics'!$A$50:$H$8000,MATCH(ROWS($K$2:R6)-MAX('Tags - Classics'!$I$50:$I$12000),'Tags - Non-Classics'!$I$50:$I$8000,0),COLUMNS($K:R)),INDEX('Misc & Retail'!$A$50:$H$800,MATCH(ROWS($K$2:R6)-MAX('Tags - Classics'!$I$50:$I$12000)-MAX('Tags - Non-Classics'!$I$50:$I$8000),'Misc & Retail'!$I$50:$I$800,0),COLUMNS($K:R)))),"")}
A7: =IF(N7="","",K7) | B7: =IF(N7="","",O7) | C7: =IF(N7="","",M7) | H7: =IF(N7="","",N7) | I7: =I6+1 -> 7 | K7: {=IFERROR(IF(ROWS($K$2:K7)<=MAX('Tags - Classics'!$I$50:$I$12000),INDEX('Tags - Classics'!$A$50:$H$12000,MATCH(ROWS($K$2:K7),'Tags - Classics'!$I$50:$I$12000,0),COLUMNS($K:K)),IF(ROWS($K$2:K7)<=MAX('Tags - Classics'!$I$50:$I$12000)+MAX('Tags - Non-Classics'!$I$50:$I$8000),INDEX('Tags - Non-Classics'!$A$50:$H$8000,MATCH(ROWS($K$2:K7)-MAX('Tags - Classics'!$I$50:$I$12000),'Tags - Non-Classics'!$I$50:$I$8000,0),COLUMNS($K:K)),INDEX('Misc & Retail'!$A$50:$H$800,MATCH(ROWS($K$2:K7)-MAX('Tags - Classics'!$I$50:$I$12000)-MAX('Tags - Non-Classics'!$I$50:$I$8000),'Misc & Retail'!$I$50:$I$800,0),COLUMNS($K:K)))),"")} | L7: {=IFERROR(IF(ROWS($K$2:L7)<=MAX('Tags - Classics'!$I$50:$I$12000),INDEX('Tags - Classics'!$A$50:$H$12000,MATCH(ROWS($K$2:L7),'Tags - Classics'!$I$50:$I$12000,0),COLUMNS($K:L)),IF(ROWS($K$2:L7)<=MAX('Tags - Classics'!$I$50:$I$12000)+MAX('Tags - Non-Classics'!$I$50:$I$8000),INDEX('Tags - Non-Classics'!$A$50:$H$8000,MATCH(ROWS($K$2:L7)-MAX('Tags - Classics'!$I$50:$I$12000),'Tags - Non-Classics'!$I$50:$I$8000,0),COLUMNS($K:L)),INDEX('Misc & Retail'!$A$50:$H$800,MATCH(ROWS($K$2:L7)-MAX('Tags - Classics'!$I$50:$I$12000)-MAX('Tags - Non-Classics'!$I$50:$I$8000),'Misc & Retail'!$I$50:$I$800,0),COLUMNS($K:L)))),"")} | M7: {=IFERROR(IF(ROWS($K$2:M7)<=MAX('Tags - Classics'!$I$50:$I$12000),INDEX('Tags - Classics'!$A$50:$H$12000,MATCH(ROWS($K$2:M7),'Tags - Classics'!$I$50:$I$12000,0),COLUMNS($K:M)),IF(ROWS($K$2:M7)<=MAX('Tags - Classics'!$I$50:$I$12000)+MAX('Tags - Non-Classics'!$I$50:$I$8000),INDEX('Tags - Non-Classics'!$A$50:$H$8000,MATCH(ROWS($K$2:M7)-MAX('Tags - Classics'!$I$50:$I$12000),'Tags - Non-Classics'!$I$50:$I$8000,0),COLUMNS($K:M)),INDEX('Misc & Retail'!$A$50:$H$800,MATCH(ROWS($K$2:M7)-MAX('Tags - Classics'!$I$50:$I$12000)-MAX('Tags - Non-Classics'!$I$50:$I$8000),'Misc & Retail'!$I$50:$I$800,0),COLUMNS($K:M)))),"")} | N7: {=IFERROR(IF(ROWS($K$2:N7)<=MAX('Tags - Classics'!$I$50:$I$12000),INDEX('Tags - Classics'!$A$50:$H$12000,MATCH(ROWS($K$2:N7),'Tags - Classics'!$I$50:$I$12000,0),COLUMNS($K:N)),IF(ROWS($K$2:N7)<=MAX('Tags - Classics'!$I$50:$I$12000)+MAX('Tags - Non-Classics'!$I$50:$I$8000),INDEX('Tags - Non-Classics'!$A$50:$H$8000,MATCH(ROWS($K$2:N7)-MAX('Tags - Classics'!$I$50:$I$12000),'Tags - Non-Classics'!$I$50:$I$8000,0),COLUMNS($K:N)),INDEX('Misc & Retail'!$A$50:$H$800,MATCH(ROWS($K$2:N7)-MAX('Tags - Classics'!$I$50:$I$12000)-MAX('Tags - Non-Classics'!$I$50:$I$8000),'Misc & Retail'!$I$50:$I$800,0),COLUMNS($K:N)))),"")} | O7: {=IFERROR(IF(ROWS($K$2:O7)<=MAX('Tags - Classics'!$I$50:$I$12000),INDEX('Tags - Classics'!$A$50:$H$12000,MATCH(ROWS($K$2:O7),'Tags - Classics'!$I$50:$I$12000,0),COLUMNS($K:O)),IF(ROWS($K$2:O7)<=MAX('Tags - Classics'!$I$50:$I$12000)+MAX('Tags - Non-Classics'!$I$50:$I$8000),INDEX('Tags - Non-Classics'!$A$50:$H$8000,MATCH(ROWS($K$2:O7)-MAX('Tags - Classics'!$I$50:$I$12000),'Tags - Non-Classics'!$I$50:$I$8000,0),COLUMNS($K:O)),INDEX('Misc & Retail'!$A$50:$H$800,MATCH(ROWS($K$2:O7)-MAX('Tags - Classics'!$I$50:$I$12000)-MAX('Tags - Non-Classics'!$I$50:$I$8000),'Misc & Retail'!$I$50:$I$800,0),COLUMNS($K:O)))),"")} | P7: {=IFERROR(IF(ROWS($K$2:P7)<=MAX('Tags - Classics'!$I$50:$I$12000),INDEX('Tags - Classics'!$A$50:$H$12000,MATCH(ROWS($K$2:P7),'Tags - Classics'!$I$50:$I$12000,0),COLUMNS($K:P)),IF(ROWS($K$2:P7)<=MAX('Tags - Classics'!$I$50:$I$12000)+MAX('Tags - Non-Classics'!$I$50:$I$8000),INDEX('Tags - Non-Classics'!$A$50:$H$8000,MATCH(ROWS($K$2:P7)-MAX('Tags - Classics'!$I$50:$I$12000),'Tags - Non-Classics'!$I$50:$I$8000,0),COLUMNS($K:P)),INDEX('Misc & Retail'!$A$50:$H$800,MATCH(ROWS($K$2:P7)-MAX('Tags - Classics'!$I$50:$I$12000)-MAX('Tags - Non-Classics'!$I$50:$I$8000),'Misc & Retail'!$I$50:$I$800,0),COLUMNS($K:P)))),"")} | Q7: {=IFERROR(IF(ROWS($K$2:Q7)<=MAX('Tags - Classics'!$I$50:$I$12000),INDEX('Tags - Classics'!$A$50:$H$12000,MATCH(ROWS($K$2:Q7),'Tags - Classics'!$I$50:$I$12000,0),COLUMNS($K:Q)),IF(ROWS($K$2:Q7)<=MAX('Tags - Classics'!$I$50:$I$12000)+MAX('Tags - Non-Classics'!$I$50:$I$8000),INDEX('Tags - Non-Classics'!$A$50:$H$8000,MATCH(ROWS($K$2:Q7)-MAX('Tags - Classics'!$I$50:$I$12000),'Tags - Non-Classics'!$I$50:$I$8000,0),COLUMNS($K:Q)),INDEX('Misc & Retail'!$A$50:$H$800,MATCH(ROWS($K$2:Q7)-MAX('Tags - Classics'!$I$50:$I$12000)-MAX('Tags - Non-Classics'!$I$50:$I$8000),'Misc & Retail'!$I$50:$I$800,0),COLUMNS($K:Q)))),"")} | R7: {=IFERROR(IF(ROWS($K$2:R7)<=MAX('Tags - Classics'!$I$50:$I$12000),INDEX('Tags - Classics'!$A$50:$H$12000,MATCH(ROWS($K$2:R7),'Tags - Classics'!$I$50:$I$12000,0),COLUMNS($K:R)),IF(ROWS($K$2:R7)<=MAX('Tags - Classics'!$I$50:$I$12000)+MAX('Tags - Non-Classics'!$I$50:$I$8000),INDEX('Tags - Non-Classics'!$A$50:$H$8000,MATCH(ROWS($K$2:R7)-MAX('Tags - Classics'!$I$50:$I$12000),'Tags - Non-Classics'!$I$50:$I$8000,0),COLUMNS($K:R)),INDEX('Misc & Retail'!$A$50:$H$800,MATCH(ROWS($K$2:R7)-MAX('Tags - Classics'!$I$50:$I$12000)-MAX('Tags - Non-Classics'!$I$50:$I$8000),'Misc & Retail'!$I$50:$I$800,0),COLUMNS($K:R)))),"")}
A8: =IF(N8="","",K8) | B8: =IF(N8="","",O8) | C8: =IF(N8="","",M8) | H8: =IF(N8="","",N8) | I8: =I7+1 -> 8 | K8: {=IFERROR(IF(ROWS($K$2:K8)<=MAX('Tags - Classics'!$I$50:$I$12000),INDEX('Tags - Classics'!$A$50:$H$12000,MATCH(ROWS($K$2:K8),'Tags - Classics'!$I$50:$I$12000,0),COLUMNS($K:K)),IF(ROWS($K$2:K8)<=MAX('Tags - Classics'!$I$50:$I$12000)+MAX('Tags - Non-Classics'!$I$50:$I$8000),INDEX('Tags - Non-Classics'!$A$50:$H$8000,MATCH(ROWS($K$2:K8)-MAX('Tags - Classics'!$I$50:$I$12000),'Tags - Non-Classics'!$I$50:$I$8000,0),COLUMNS($K:K)),INDEX('Misc & Retail'!$A$50:$H$800,MATCH(ROWS($K$2:K8)-MAX('Tags - Classics'!$I$50:$I$12000)-MAX('Tags - Non-Classics'!$I$50:$I$8000),'Misc & Retail'!$I$50:$I$800,0),COLUMNS($K:K)))),"")} | L8: {=IFERROR(IF(ROWS($K$2:L8)<=MAX('Tags - Classics'!$I$50:$I$12000),INDEX('Tags - Classics'!$A$50:$H$12000,MATCH(ROWS($K$2:L8),'Tags - Classics'!$I$50:$I$12000,0),COLUMNS($K:L)),IF(ROWS($K$2:L8)<=MAX('Tags - Classics'!$I$50:$I$12000)+MAX('Tags - Non-Classics'!$I$50:$I$8000),INDEX('Tags - Non-Classics'!$A$50:$H$8000,MATCH(ROWS($K$2:L8)-MAX('Tags - Classics'!$I$50:$I$12000),'Tags - Non-Classics'!$I$50:$I$8000,0),COLUMNS($K:L)),INDEX('Misc & Retail'!$A$50:$H$800,MATCH(ROWS($K$2:L8)-MAX('Tags - Classics'!$I$50:$I$12000)-MAX('Tags - Non-Classics'!$I$50:$I$8000),'Misc & Retail'!$I$50:$I$800,0),COLUMNS($K:L)))),"")} | M8: {=IFERROR(IF(ROWS($K$2:M8)<=MAX('Tags - Classics'!$I$50:$I$12000),INDEX('Tags - Classics'!$A$50:$H$12000,MATCH(ROWS($K$2:M8),'Tags - Classics'!$I$50:$I$12000,0),COLUMNS($K:M)),IF(ROWS($K$2:M8)<=MAX('Tags - Classics'!$I$50:$I$12000)+MAX('Tags - Non-Classics'!$I$50:$I$8000),INDEX('Tags - Non-Classics'!$A$50:$H$8000,MATCH(ROWS($K$2:M8)-MAX('Tags - Classics'!$I$50:$I$12000),'Tags - Non-Classics'!$I$50:$I$8000,0),COLUMNS($K:M)),INDEX('Misc & Retail'!$A$50:$H$800,MATCH(ROWS($K$2:M8)-MAX('Tags - Classics'!$I$50:$I$12000)-MAX('Tags - Non-Classics'!$I$50:$I$8000),'Misc & Retail'!$I$50:$I$800,0),COLUMNS($K:M)))),"")} | N8: {=IFERROR(IF(ROWS($K$2:N8)<=MAX('Tags - Classics'!$I$50:$I$12000),INDEX('Tags - Classics'!$A$50:$H$12000,MATCH(ROWS($K$2:N8),'Tags - Classics'!$I$50:$I$12000,0),COLUMNS($K:N)),IF(ROWS($K$2:N8)<=MAX('Tags - Classics'!$I$50:$I$12000)+MAX('Tags - Non-Classics'!$I$50:$I$8000),INDEX('Tags - Non-Classics'!$A$50:$H$8000,MATCH(ROWS($K$2:N8)-MAX('Tags - Classics'!$I$50:$I$12000),'Tags - Non-Classics'!$I$50:$I$8000,0),COLUMNS($K:N)),INDEX('Misc & Retail'!$A$50:$H$800,MATCH(ROWS($K$2:N8)-MAX('Tags - Classics'!$I$50:$I$12000)-MAX('Tags - Non-Classics'!$I$50:$I$8000),'Misc & Retail'!$I$50:$I$800,0),COLUMNS($K:N)))),"")} | O8: {=IFERROR(IF(ROWS($K$2:O8)<=MAX('Tags - Classics'!$I$50:$I$12000),INDEX('Tags - Classics'!$A$50:$H$12000,MATCH(ROWS($K$2:O8),'Tags - Classics'!$I$50:$I$12000,0),COLUMNS($K:O)),IF(ROWS($K$2:O8)<=MAX('Tags - Classics'!$I$50:$I$12000)+MAX('Tags - Non-Classics'!$I$50:$I$8000),INDEX('Tags - Non-Classics'!$A$50:$H$8000,MATCH(ROWS($K$2:O8)-MAX('Tags - Classics'!$I$50:$I$12000),'Tags - Non-Classics'!$I$50:$I$8000,0),COLUMNS($K:O)),INDEX('Misc & Retail'!$A$50:$H$800,MATCH(ROWS($K$2:O8)-MAX('Tags - Classics'!$I$50:$I$12000)-MAX('Tags - Non-Classics'!$I$50:$I$8000),'Misc & Retail'!$I$50:$I$800,0),COLUMNS($K:O)))),"")} | P8: {=IFERROR(IF(ROWS($K$2:P8)<=MAX('Tags - Classics'!$I$50:$I$12000),INDEX('Tags - Classics'!$A$50:$H$12000,MATCH(ROWS($K$2:P8),'Tags - Classics'!$I$50:$I$12000,0),COLUMNS($K:P)),IF(ROWS($K$2:P8)<=MAX('Tags - Classics'!$I$50:$I$12000)+MAX('Tags - Non-Classics'!$I$50:$I$8000),INDEX('Tags - Non-Classics'!$A$50:$H$8000,MATCH(ROWS($K$2:P8)-MAX('Tags - Classics'!$I$50:$I$12000),'Tags - Non-Classics'!$I$50:$I$8000,0),COLUMNS($K:P)),INDEX('Misc & Retail'!$A$50:$H$800,MATCH(ROWS($K$2:P8)-MAX('Tags - Classics'!$I$50:$I$12000)-MAX('Tags - Non-Classics'!$I$50:$I$8000),'Misc & Retail'!$I$50:$I$800,0),COLUMNS($K:P)))),"")} | Q8: {=IFERROR(IF(ROWS($K$2:Q8)<=MAX('Tags - Classics'!$I$50:$I$12000),INDEX('Tags - Classics'!$A$50:$H$12000,MATCH(ROWS($K$2:Q8),'Tags - Classics'!$I$50:$I$12000,0),COLUMNS($K:Q)),IF(ROWS($K$2:Q8)<=MAX('Tags - Classics'!$I$50:$I$12000)+MAX('Tags - Non-Classics'!$I$50:$I$8000),INDEX('Tags - Non-Classics'!$A$50:$H$8000,MATCH(ROWS($K$2:Q8)-MAX('Tags - Classics'!$I$50:$I$12000),'Tags - Non-Classics'!$I$50:$I$8000,0),COLUMNS($K:Q)),INDEX('Misc & Retail'!$A$50:$H$800,MATCH(ROWS($K$2:Q8)-MAX('Tags - Classics'!$I$50:$I$12000)-MAX('Tags - Non-Classics'!$I$50:$I$8000),'Misc & Retail'!$I$50:$I$800,0),COLUMNS($K:Q)))),"")} | R8: {=IFERROR(IF(ROWS($K$2:R8)<=MAX('Tags - Classics'!$I$50:$I$12000),INDEX('Tags - Classics'!$A$50:$H$12000,MATCH(ROWS($K$2:R8),'Tags - Classics'!$I$50:$I$12000,0),COLUMNS($K:R)),IF(ROWS($K$2:R8)<=MAX('Tags - Classics'!$I$50:$I$12000)+MAX('Tags - Non-Classics'!$I$50:$I$8000),INDEX('Tags - Non-Classics'!$A$50:$H$8000,MATCH(ROWS($K$2:R8)-MAX('Tags - Classics'!$I$50:$I$12000),'Tags - Non-Classics'!$I$50:$I$8000,0),COLUMNS($K:R)),INDEX('Misc & Retail'!$A$50:$H$800,MATCH(ROWS($K$2:R8)-MAX('Tags - Classics'!$I$50:$I$12000)-MAX('Tags - Non-Classics'!$I$50:$I$8000),'Misc & Retail'!$I$50:$I$800,0),COLUMNS($K:R)))),"")}
A9: =IF(N9="","",K9) | B9: =IF(N9="","",O9) | C9: =IF(N9="","",M9) | H9: =IF(N9="","",N9) | I9: =I8+1 -> 9 | K9: {=IFERROR(IF(ROWS($K$2:K9)<=MAX('Tags - Classics'!$I$50:$I$12000),INDEX('Tags - Classics'!$A$50:$H$12000,MATCH(ROWS($K$2:K9),'Tags - Classics'!$I$50:$I$12000,0),COLUMNS($K:K)),IF(ROWS($K$2:K9)<=MAX('Tags - Classics'!$I$50:$I$12000)+MAX('Tags - Non-Classics'!$I$50:$I$8000),INDEX('Tags - Non-Classics'!$A$50:$H$8000,MATCH(ROWS($K$2:K9)-MAX('Tags - Classics'!$I$50:$I$12000),'Tags - Non-Classics'!$I$50:$I$8000,0),COLUMNS($K:K)),INDEX('Misc & Retail'!$A$50:$H$800,MATCH(ROWS($K$2:K9)-MAX('Tags - Classics'!$I$50:$I$12000)-MAX('Tags - Non-Classics'!$I$50:$I$8000),'Misc & Retail'!$I$50:$I$800,0),COLUMNS($K:K)))),"")} | L9: {=IFERROR(IF(ROWS($K$2:L9)<=MAX('Tags - Classics'!$I$50:$I$12000),INDEX('Tags - Classics'!$A$50:$H$12000,MATCH(ROWS($K$2:L9),'Tags - Classics'!$I$50:$I$12000,0),COLUMNS($K:L)),IF(ROWS($K$2:L9)<=MAX('Tags - Classics'!$I$50:$I$12000)+MAX('Tags - Non-Classics'!$I$50:$I$8000),INDEX('Tags - Non-Classics'!$A$50:$H$8000,MATCH(ROWS($K$2:L9)-MAX('Tags - Classics'!$I$50:$I$12000),'Tags - Non-Classics'!$I$50:$I$8000,0),COLUMNS($K:L)),INDEX('Misc & Retail'!$A$50:$H$800,MATCH(ROWS($K$2:L9)-MAX('Tags - Classics'!$I$50:$I$12000)-MAX('Tags - Non-Classics'!$I$50:$I$8000),'Misc & Retail'!$I$50:$I$800,0),COLUMNS($K:L)))),"")} | M9: {=IFERROR(IF(ROWS($K$2:M9)<=MAX('Tags - Classics'!$I$50:$I$12000),INDEX('Tags - Classics'!$A$50:$H$12000,MATCH(ROWS($K$2:M9),'Tags - Classics'!$I$50:$I$12000,0),COLUMNS($K:M)),IF(ROWS($K$2:M9)<=MAX('Tags - Classics'!$I$50:$I$12000)+MAX('Tags - Non-Classics'!$I$50:$I$8000),INDEX('Tags - Non-Classics'!$A$50:$H$8000,MATCH(ROWS($K$2:M9)-MAX('Tags - Classics'!$I$50:$I$12000),'Tags - Non-Classics'!$I$50:$I$8000,0),COLUMNS($K:M)),INDEX('Misc & Retail'!$A$50:$H$800,MATCH(ROWS($K$2:M9)-MAX('Tags - Classics'!$I$50:$I$12000)-MAX('Tags - Non-Classics'!$I$50:$I$8000),'Misc & Retail'!$I$50:$I$800,0),COLUMNS($K:M)))),"")} | N9: {=IFERROR(IF(ROWS($K$2:N9)<=MAX('Tags - Classics'!$I$50:$I$12000),INDEX('Tags - Classics'!$A$50:$H$12000,MATCH(ROWS($K$2:N9),'Tags - Classics'!$I$50:$I$12000,0),COLUMNS($K:N)),IF(ROWS($K$2:N9)<=MAX('Tags - Classics'!$I$50:$I$12000)+MAX('Tags - Non-Classics'!$I$50:$I$8000),INDEX('Tags - Non-Classics'!$A$50:$H$8000,MATCH(ROWS($K$2:N9)-MAX('Tags - Classics'!$I$50:$I$12000),'Tags - Non-Classics'!$I$50:$I$8000,0),COLUMNS($K:N)),INDEX('Misc & Retail'!$A$50:$H$800,MATCH(ROWS($K$2:N9)-MAX('Tags - Classics'!$I$50:$I$12000)-MAX('Tags - Non-Classics'!$I$50:$I$8000),'Misc & Retail'!$I$50:$I$800,0),COLUMNS($K:N)))),"")} | O9: {=IFERROR(IF(ROWS($K$2:O9)<=MAX('Tags - Classics'!$I$50:$I$12000),INDEX('Tags - Classics'!$A$50:$H$12000,MATCH(ROWS($K$2:O9),'Tags - Classics'!$I$50:$I$12000,0),COLUMNS($K:O)),IF(ROWS($K$2:O9)<=MAX('Tags - Classics'!$I$50:$I$12000)+MAX('Tags - Non-Classics'!$I$50:$I$8000),INDEX('Tags - Non-Classics'!$A$50:$H$8000,MATCH(ROWS($K$2:O9)-MAX('Tags - Classics'!$I$50:$I$12000),'Tags - Non-Classics'!$I$50:$I$8000,0),COLUMNS($K:O)),INDEX('Misc & Retail'!$A$50:$H$800,MATCH(ROWS($K$2:O9)-MAX('Tags - Classics'!$I$50:$I$12000)-MAX('Tags - Non-Classics'!$I$50:$I$8000),'Misc & Retail'!$I$50:$I$800,0),COLUMNS($K:O)))),"")} | P9: {=IFERROR(IF(ROWS($K$2:P9)<=MAX('Tags - Classics'!$I$50:$I$12000),INDEX('Tags - Classics'!$A$50:$H$12000,MATCH(ROWS($K$2:P9),'Tags - Classics'!$I$50:$I$12000,0),COLUMNS($K:P)),IF(ROWS($K$2:P9)<=MAX('Tags - Classics'!$I$50:$I$12000)+MAX('Tags - Non-Classics'!$I$50:$I$8000),INDEX('Tags - Non-Classics'!$A$50:$H$8000,MATCH(ROWS($K$2:P9)-MAX('Tags - Classics'!$I$50:$I$12000),'Tags - Non-Classics'!$I$50:$I$8000,0),COLUMNS($K:P)),INDEX('Misc & Retail'!$A$50:$H$800,MATCH(ROWS($K$2:P9)-MAX('Tags - Classics'!$I$50:$I$12000)-MAX('Tags - Non-Classics'!$I$50:$I$8000),'Misc & Retail'!$I$50:$I$800,0),COLUMNS($K:P)))),"")} | Q9: {=IFERROR(IF(ROWS($K$2:Q9)<=MAX('Tags - Classics'!$I$50:$I$12000),INDEX('Tags - Classics'!$A$50:$H$12000,MATCH(ROWS($K$2:Q9),'Tags - Classics'!$I$50:$I$12000,0),COLUMNS($K:Q)),IF(ROWS($K$2:Q9)<=MAX('Tags - Classics'!$I$50:$I$12000)+MAX('Tags - Non-Classics'!$I$50:$I$8000),INDEX('Tags - Non-Classics'!$A$50:$H$8000,MATCH(ROWS($K$2:Q9)-MAX('Tags - Classics'!$I$50:$I$12000),'Tags - Non-Classics'!$I$50:$I$8000,0),COLUMNS($K:Q)),INDEX('Misc & Retail'!$A$50:$H$800,MATCH(ROWS($K$2:Q9)-MAX('Tags - Classics'!$I$50:$I$12000)-MAX('Tags - Non-Classics'!$I$50:$I$8000),'Misc & Retail'!$I$50:$I$800,0),COLUMNS($K:Q)))),"")} | R9: {=IFERROR(IF(ROWS($K$2:R9)<=MAX('Tags - Classics'!$I$50:$I$12000),INDEX('Tags - Classics'!$A$50:$H$12000,MATCH(ROWS($K$2:R9),'Tags - Classics'!$I$50:$I$12000,0),COLUMNS($K:R)),IF(ROWS($K$2:R9)<=MAX('Tags - Classics'!$I$50:$I$12000)+MAX('Tags - Non-Classics'!$I$50:$I$8000),INDEX('Tags - Non-Classics'!$A$50:$H$8000,MATCH(ROWS($K$2:R9)-MAX('Tags - Classics'!$I$50:$I$12000),'Tags - Non-Classics'!$I$50:$I$8000,0),COLUMNS($K:R)),INDEX('Misc & Retail'!$A$50:$H$800,MATCH(ROWS($K$2:R9)-MAX('Tags - Classics'!$I$50:$I$12000)-MAX('Tags - Non-Classics'!$I$50:$I$8000),'Misc & Retail'!$I$50:$I$800,0),COLUMNS($K:R)))),"")}
A10: =IF(N10="","",K10) | B10: =IF(N10="","",O10) | C10: =IF(N10="","",M10) | H10: =IF(N10="","",N10) | I10: =I9+1 -> 10 | K10: {=IFERROR(IF(ROWS($K$2:K10)<=MAX('Tags - Classics'!$I$50:$I$12000),INDEX('Tags - Classics'!$A$50:$H$12000,MATCH(ROWS($K$2:K10),'Tags - Classics'!$I$50:$I$12000,0),COLUMNS($K:K)),IF(ROWS($K$2:K10)<=MAX('Tags - Classics'!$I$50:$I$12000)+MAX('Tags - Non-Classics'!$I$50:$I$8000),INDEX('Tags - Non-Classics'!$A$50:$H$8000,MATCH(ROWS($K$2:K10)-MAX('Tags - Classics'!$I$50:$I$12000),'Tags - Non-Classics'!$I$50:$I$8000,0),COLUMNS($K:K)),INDEX('Misc & Retail'!$A$50:$H$800,MATCH(ROWS($K$2:K10)-MAX('Tags - Classics'!$I$50:$I$12000)-MAX('Tags - Non-Classics'!$I$50:$I$8000),'Misc & Retail'!$I$50:$I$800,0),COLUMNS($K:K)))),"")} | L10: {=IFERROR(IF(ROWS($K$2:L10)<=MAX('Tags - Classics'!$I$50:$I$12000),INDEX('Tags - Classics'!$A$50:$H$12000,MATCH(ROWS($K$2:L10),'Tags - Classics'!$I$50:$I$12000,0),COLUMNS($K:L)),IF(ROWS($K$2:L10)<=MAX('Tags - Classics'!$I$50:$I$12000)+MAX('Tags - Non-Classics'!$I$50:$I$8000),INDEX('Tags - Non-Classics'!$A$50:$H$8000,MATCH(ROWS($K$2:L10)-MAX('Tags - Classics'!$I$50:$I$12000),'Tags - Non-Classics'!$I$50:$I$8000,0),COLUMNS($K:L)),INDEX('Misc & Retail'!$A$50:$H$800,MATCH(ROWS($K$2:L10)-MAX('Tags - Classics'!$I$50:$I$12000)-MAX('Tags - Non-Classics'!$I$50:$I$8000),'Misc & Retail'!$I$50:$I$800,0),COLUMNS($K:L)))),"")} | M10: {=IFERROR(IF(ROWS($K$2:M10)<=MAX('Tags - Classics'!$I$50:$I$12000),INDEX('Tags - Classics'!$A$50:$H$12000,MATCH(ROWS($K$2:M10),'Tags - Classics'!$I$50:$I$12000,0),COLUMNS($K:M)),IF(ROWS($K$2:M10)<=MAX('Tags - Classics'!$I$50:$I$12000)+MAX('Tags - Non-Classics'!$I$50:$I$8000),INDEX('Tags - Non-Classics'!$A$50:$H$8000,MATCH(ROWS($K$2:M10)-MAX('Tags - Classics'!$I$50:$I$12000),'Tags - Non-Classics'!$I$50:$I$8000,0),COLUMNS($K:M)),INDEX('Misc & Retail'!$A$50:$H$800,MATCH(ROWS($K$2:M10)-MAX('Tags - Classics'!$I$50:$I$12000)-MAX('Tags - Non-Classics'!$I$50:$I$8000),'Misc & Retail'!$I$50:$I$800,0),COLUMNS($K:M)))),"")} | N10: {=IFERROR(IF(ROWS($K$2:N10)<=MAX('Tags - Classics'!$I$50:$I$12000),INDEX('Tags - Classics'!$A$50:$H$12000,MATCH(ROWS($K$2:N10),'Tags - Classics'!$I$50:$I$12000,0),COLUMNS($K:N)),IF(ROWS($K$2:N10)<=MAX('Tags - Classics'!$I$50:$I$12000)+MAX('Tags - Non-Classics'!$I$50:$I$8000),INDEX('Tags - Non-Classics'!$A$50:$H$8000,MATCH(ROWS($K$2:N10)-MAX('Tags - Classics'!$I$50:$I$12000),'Tags - Non-Classics'!$I$50:$I$8000,0),COLUMNS($K:N)),INDEX('Misc & Retail'!$A$50:$H$800,MATCH(ROWS($K$2:N10)-MAX('Tags - Classics'!$I$50:$I$12000)-MAX('Tags - Non-Classics'!$I$50:$I$8000),'Misc & Retail'!$I$50:$I$800,0),COLUMNS($K:N)))),"")} | O10: {=IFERROR(IF(ROWS($K$2:O10)<=MAX('Tags - Classics'!$I$50:$I$12000),INDEX('Tags - Classics'!$A$50:$H$12000,MATCH(ROWS($K$2:O10),'Tags - Classics'!$I$50:$I$12000,0),COLUMNS($K:O)),IF(ROWS($K$2:O10)<=MAX('Tags - Classics'!$I$50:$I$12000)+MAX('Tags - Non-Classics'!$I$50:$I$8000),INDEX('Tags - Non-Classics'!$A$50:$H$8000,MATCH(ROWS($K$2:O10)-MAX('Tags - Classics'!$I$50:$I$12000),'Tags - Non-Classics'!$I$50:$I$8000,0),COLUMNS($K:O)),INDEX('Misc & Retail'!$A$50:$H$800,MATCH(ROWS($K$2:O10)-MAX('Tags - Classics'!$I$50:$I$12000)-MAX('Tags - Non-Classics'!$I$50:$I$8000),'Misc & Retail'!$I$50:$I$800,0),COLUMNS($K:O)))),"")} | P10: {=IFERROR(IF(ROWS($K$2:P10)<=MAX('Tags - Classics'!$I$50:$I$12000),INDEX('Tags - Classics'!$A$50:$H$12000,MATCH(ROWS($K$2:P10),'Tags - Classics'!$I$50:$I$12000,0),COLUMNS($K:P)),IF(ROWS($K$2:P10)<=MAX('Tags - Classics'!$I$50:$I$12000)+MAX('Tags - Non-Classics'!$I$50:$I$8000),INDEX('Tags - Non-Classics'!$A$50:$H$8000,MATCH(ROWS($K$2:P10)-MAX('Tags - Classics'!$I$50:$I$12000),'Tags - Non-Classics'!$I$50:$I$8000,0),COLUMNS($K:P)),INDEX('Misc & Retail'!$A$50:$H$800,MATCH(ROWS($K$2:P10)-MAX('Tags - Classics'!$I$50:$I$12000)-MAX('Tags - Non-Classics'!$I$50:$I$8000),'Misc & Retail'!$I$50:$I$800,0),COLUMNS($K:P)))),"")} | Q10: {=IFERROR(IF(ROWS($K$2:Q10)<=MAX('Tags - Classics'!$I$50:$I$12000),INDEX('Tags - Classics'!$A$50:$H$12000,MATCH(ROWS($K$2:Q10),'Tags - Classics'!$I$50:$I$12000,0),COLUMNS($K:Q)),IF(ROWS($K$2:Q10)<=MAX('Tags - Classics'!$I$50:$I$12000)+MAX('Tags - Non-Classics'!$I$50:$I$8000),INDEX('Tags - Non-Classics'!$A$50:$H$8000,MATCH(ROWS($K$2:Q10)-MAX('Tags - Classics'!$I$50:$I$12000),'Tags - Non-Classics'!$I$50:$I$8000,0),COLUMNS($K:Q)),INDEX('Misc & Retail'!$A$50:$H$800,MATCH(ROWS($K$2:Q10)-MAX('Tags - Classics'!$I$50:$I$12000)-MAX('Tags - Non-Classics'!$I$50:$I$8000),'Misc & Retail'!$I$50:$I$800,0),COLUMNS($K:Q)))),"")} | R10: {=IFERROR(IF(ROWS($K$2:R10)<=MAX('Tags - Classics'!$I$50:$I$12000),INDEX('Tags - Classics'!$A$50:$H$12000,MATCH(ROWS($K$2:R10),'Tags - Classics'!$I$50:$I$12000,0),COLUMNS($K:R)),IF(ROWS($K$2:R10)<=MAX('Tags - Classics'!$I$50:$I$12000)+MAX('Tags - Non-Classics'!$I$50:$I$8000),INDEX('Tags - Non-Classics'!$A$50:$H$8000,MATCH(ROWS($K$2:R10)-MAX('Tags - Classics'!$I$50:$I$12000),'Tags - Non-Classics'!$I$50:$I$8000,0),COLUMNS($K:R)),INDEX('Misc & Retail'!$A$50:$H$800,MATCH(ROWS($K$2:R10)-MAX('Tags - Classics'!$I$50:$I$12000)-MAX('Tags - Non-Classics'!$I$50:$I$8000),'Misc & Retail'!$I$50:$I$800,0),COLUMNS($K:R)))),"")}
A11: =IF(N11="","",K11) | B11: =IF(N11="","",O11) | C11: =IF(N11="","",M11) | H11: =IF(N11="","",N11) | I11: =I10+1 -> 11 | K11: {=IFERROR(IF(ROWS($K$2:K11)<=MAX('Tags - Classics'!$I$50:$I$12000),INDEX('Tags - Classics'!$A$50:$H$12000,MATCH(ROWS($K$2:K11),'Tags - Classics'!$I$50:$I$12000,0),COLUMNS($K:K)),IF(ROWS($K$2:K11)<=MAX('Tags - Classics'!$I$50:$I$12000)+MAX('Tags - Non-Classics'!$I$50:$I$8000),INDEX('Tags - Non-Classics'!$A$50:$H$8000,MATCH(ROWS($K$2:K11)-MAX('Tags - Classics'!$I$50:$I$12000),'Tags - Non-Classics'!$I$50:$I$8000,0),COLUMNS($K:K)),INDEX('Misc & Retail'!$A$50:$H$800,MATCH(ROWS($K$2:K11)-MAX('Tags - Classics'!$I$50:$I$12000)-MAX('Tags - Non-Classics'!$I$50:$I$8000),'Misc & Retail'!$I$50:$I$800,0),COLUMNS($K:K)))),"")} | L11: {=IFERROR(IF(ROWS($K$2:L11)<=MAX('Tags - Classics'!$I$50:$I$12000),INDEX('Tags - Classics'!$A$50:$H$12000,MATCH(ROWS($K$2:L11),'Tags - Classics'!$I$50:$I$12000,0),COLUMNS($K:L)),IF(ROWS($K$2:L11)<=MAX('Tags - Classics'!$I$50:$I$12000)+MAX('Tags - Non-Classics'!$I$50:$I$8000),INDEX('Tags - Non-Classics'!$A$50:$H$8000,MATCH(ROWS($K$2:L11)-MAX('Tags - Classics'!$I$50:$I$12000),'Tags - Non-Classics'!$I$50:$I$8000,0),COLUMNS($K:L)),INDEX('Misc & Retail'!$A$50:$H$800,MATCH(ROWS($K$2:L11)-MAX('Tags - Classics'!$I$50:$I$12000)-MAX('Tags - Non-Classics'!$I$50:$I$8000),'Misc & Retail'!$I$50:$I$800,0),COLUMNS($K:L)))),"")} | M11: {=IFERROR(IF(ROWS($K$2:M11)<=MAX('Tags - Classics'!$I$50:$I$12000),INDEX('Tags - Classics'!$A$50:$H$12000,MATCH(ROWS($K$2:M11),'Tags - Classics'!$I$50:$I$12000,0),COLUMNS($K:M)),IF(ROWS($K$2:M11)<=MAX('Tags - Classics'!$I$50:$I$12000)+MAX('Tags - Non-Classics'!$I$50:$I$8000),INDEX('Tags - Non-Classics'!$A$50:$H$8000,MATCH(ROWS($K$2:M11)-MAX('Tags - Classics'!$I$50:$I$12000),'Tags - Non-Classics'!$I$50:$I$8000,0),COLUMNS($K:M)),INDEX('Misc & Retail'!$A$50:$H$800,MATCH(ROWS($K$2:M11)-MAX('Tags - Classics'!$I$50:$I$12000)-MAX('Tags - Non-Classics'!$I$50:$I$8000),'Misc & Retail'!$I$50:$I$800,0),COLUMNS($K:M)))),"")} | N11: {=IFERROR(IF(ROWS($K$2:N11)<=MAX('Tags - Classics'!$I$50:$I$12000),INDEX('Tags - Classics'!$A$50:$H$12000,MATCH(ROWS($K$2:N11),'Tags - Classics'!$I$50:$I$12000,0),COLUMNS($K:N)),IF(ROWS($K$2:N11)<=MAX('Tags - Classics'!$I$50:$I$12000)+MAX('Tags - Non-Classics'!$I$50:$I$8000),INDEX('Tags - Non-Classics'!$A$50:$H$8000,MATCH(ROWS($K$2:N11)-MAX('Tags - Classics'!$I$50:$I$12000),'Tags - Non-Classics'!$I$50:$I$8000,0),COLUMNS($K:N)),INDEX('Misc & Retail'!$A$50:$H$800,MATCH(ROWS($K$2:N11)-MAX('Tags - Classics'!$I$50:$I$12000)-MAX('Tags - Non-Classics'!$I$50:$I$8000),'Misc & Retail'!$I$50:$I$800,0),COLUMNS($K:N)))),"")} | O11: {=IFERROR(IF(ROWS($K$2:O11)<=MAX('Tags - Classics'!$I$50:$I$12000),INDEX('Tags - Classics'!$A$50:$H$12000,MATCH(ROWS($K$2:O11),'Tags - Classics'!$I$50:$I$12000,0),COLUMNS($K:O)),IF(ROWS($K$2:O11)<=MAX('Tags - Classics'!$I$50:$I$12000)+MAX('Tags - Non-Classics'!$I$50:$I$8000),INDEX('Tags - Non-Classics'!$A$50:$H$8000,MATCH(ROWS($K$2:O11)-MAX('Tags - Classics'!$I$50:$I$12000),'Tags - Non-Classics'!$I$50:$I$8000,0),COLUMNS($K:O)),INDEX('Misc & Retail'!$A$50:$H$800,MATCH(ROWS($K$2:O11)-MAX('Tags - Classics'!$I$50:$I$12000)-MAX('Tags - Non-Classics'!$I$50:$I$8000),'Misc & Retail'!$I$50:$I$800,0),COLUMNS($K:O)))),"")} | P11: {=IFERROR(IF(ROWS($K$2:P11)<=MAX('Tags - Classics'!$I$50:$I$12000),INDEX('Tags - Classics'!$A$50:$H$12000,MATCH(ROWS($K$2:P11),'Tags - Classics'!$I$50:$I$12000,0),COLUMNS($K:P)),IF(ROWS($K$2:P11)<=MAX('Tags - Classics'!$I$50:$I$12000)+MAX('Tags - Non-Classics'!$I$50:$I$8000),INDEX('Tags - Non-Classics'!$A$50:$H$8000,MATCH(ROWS($K$2:P11)-MAX('Tags - Classics'!$I$50:$I$12000),'Tags - Non-Classics'!$I$50:$I$8000,0),COLUMNS($K:P)),INDEX('Misc & Retail'!$A$50:$H$800,MATCH(ROWS($K$2:P11)-MAX('Tags - Classics'!$I$50:$I$12000)-MAX('Tags - Non-Classics'!$I$50:$I$8000),'Misc & Retail'!$I$50:$I$800,0),COLUMNS($K:P)))),"")} | Q11: {=IFERROR(IF(ROWS($K$2:Q11)<=MAX('Tags - Classics'!$I$50:$I$12000),INDEX('Tags - Classics'!$A$50:$H$12000,MATCH(ROWS($K$2:Q11),'Tags - Classics'!$I$50:$I$12000,0),COLUMNS($K:Q)),IF(ROWS($K$2:Q11)<=MAX('Tags - Classics'!$I$50:$I$12000)+MAX('Tags - Non-Classics'!$I$50:$I$8000),INDEX('Tags - Non-Classics'!$A$50:$H$8000,MATCH(ROWS($K$2:Q11)-MAX('Tags - Classics'!$I$50:$I$12000),'Tags - Non-Classics'!$I$50:$I$8000,0),COLUMNS($K:Q)),INDEX('Misc & Retail'!$A$50:$H$800,MATCH(ROWS($K$2:Q11)-MAX('Tags - Classics'!$I$50:$I$12000)-MAX('Tags - Non-Classics'!$I$50:$I$8000),'Misc & Retail'!$I$50:$I$800,0),COLUMNS($K:Q)))),"")} | R11: {=IFERROR(IF(ROWS($K$2:R11)<=MAX('Tags - Classics'!$I$50:$I$12000),INDEX('Tags - Classics'!$A$50:$H$12000,MATCH(ROWS($K$2:R11),'Tags - Classics'!$I$50:$I$12000,0),COLUMNS($K:R)),IF(ROWS($K$2:R11)<=MAX('Tags - Classics'!$I$50:$I$12000)+MAX('Tags - Non-Classics'!$I$50:$I$8000),INDEX('Tags - Non-Classics'!$A$50:$H$8000,MATCH(ROWS($K$2:R11)-MAX('Tags - Classics'!$I$50:$I$12000),'Tags - Non-Classics'!$I$50:$I$8000,0),COLUMNS($K:R)),INDEX('Misc & Retail'!$A$50:$H$800,MATCH(ROWS($K$2:R11)-MAX('Tags - Classics'!$I$50:$I$12000)-MAX('Tags - Non-Classics'!$I$50:$I$8000),'Misc & Retail'!$I$50:$I$800,0),COLUMNS($K:R)))),"")}
A12: =IF(N12="","",K12) | B12: =IF(N12="","",O12) | C12: =IF(N12="","",M12) | H12: =IF(N12="","",N12) | I12: =I11+1 -> 12 | K12: {=IFERROR(IF(ROWS($K$2:K12)<=MAX('Tags - Classics'!$I$50:$I$12000),INDEX('Tags - Classics'!$A$50:$H$12000,MATCH(ROWS($K$2:K12),'Tags - Classics'!$I$50:$I$12000,0),COLUMNS($K:K)),IF(ROWS($K$2:K12)<=MAX('Tags - Classics'!$I$50:$I$12000)+MAX('Tags - Non-Classics'!$I$50:$I$8000),INDEX('Tags - Non-Classics'!$A$50:$H$8000,MATCH(ROWS($K$2:K12)-MAX('Tags - Classics'!$I$50:$I$12000),'Tags - Non-Classics'!$I$50:$I$8000,0),COLUMNS($K:K)),INDEX('Misc & Retail'!$A$50:$H$800,MATCH(ROWS($K$2:K12)-MAX('Tags - Classics'!$I$50:$I$12000)-MAX('Tags - Non-Classics'!$I$50:$I$8000),'Misc & Retail'!$I$50:$I$800,0),COLUMNS($K:K)))),"")} | L12: {=IFERROR(IF(ROWS($K$2:L12)<=MAX('Tags - Classics'!$I$50:$I$12000),INDEX('Tags - Classics'!$A$50:$H$12000,MATCH(ROWS($K$2:L12),'Tags - Classics'!$I$50:$I$12000,0),COLUMNS($K:L)),IF(ROWS($K$2:L12)<=MAX('Tags - Classics'!$I$50:$I$12000)+MAX('Tags - Non-Classics'!$I$50:$I$8000),INDEX('Tags - Non-Classics'!$A$50:$H$8000,MATCH(ROWS($K$2:L12)-MAX('Tags - Classics'!$I$50:$I$12000),'Tags - Non-Classics'!$I$50:$I$8000,0),COLUMNS($K:L)),INDEX('Misc & Retail'!$A$50:$H$800,MATCH(ROWS($K$2:L12)-MAX('Tags - Classics'!$I$50:$I$12000)-MAX('Tags - Non-Classics'!$I$50:$I$8000),'Misc & Retail'!$I$50:$I$800,0),COLUMNS($K:L)))),"")} | M12: {=IFERROR(IF(ROWS($K$2:M12)<=MAX('Tags - Classics'!$I$50:$I$12000),INDEX('Tags - Classics'!$A$50:$H$12000,MATCH(ROWS($K$2:M12),'Tags - Classics'!$I$50:$I$12000,0),COLUMNS($K:M)),IF(ROWS($K$2:M12)<=MAX('Tags - Classics'!$I$50:$I$12000)+MAX('Tags - Non-Classics'!$I$50:$I$8000),INDEX('Tags - Non-Classics'!$A$50:$H$8000,MATCH(ROWS($K$2:M12)-MAX('Tags - Classics'!$I$50:$I$12000),'Tags - Non-Classics'!$I$50:$I$8000,0),COLUMNS($K:M)),INDEX('Misc & Retail'!$A$50:$H$800,MATCH(ROWS($K$2:M12)-MAX('Tags - Classics'!$I$50:$I$12000)-MAX('Tags - Non-Classics'!$I$50:$I$8000),'Misc & Retail'!$I$50:$I$800,0),COLUMNS($K:M)))),"")} | N12: {=IFERROR(IF(ROWS($K$2:N12)<=MAX('Tags - Classics'!$I$50:$I$12000),INDEX('Tags - Classics'!$A$50:$H$12000,MATCH(ROWS($K$2:N12),'Tags - Classics'!$I$50:$I$12000,0),COLUMNS($K:N)),IF(ROWS($K$2:N12)<=MAX('Tags - Classics'!$I$50:$I$12000)+MAX('Tags - Non-Classics'!$I$50:$I$8000),INDEX('Tags - Non-Classics'!$A$50:$H$8000,MATCH(ROWS($K$2:N12)-MAX('Tags - Classics'!$I$50:$I$12000),'Tags - Non-Classics'!$I$50:$I$8000,0),COLUMNS($K:N)),INDEX('Misc & Retail'!$A$50:$H$800,MATCH(ROWS($K$2:N12)-MAX('Tags - Classics'!$I$50:$I$12000)-MAX('Tags - Non-Classics'!$I$50:$I$8000),'Misc & Retail'!$I$50:$I$800,0),COLUMNS($K:N)))),"")} | O12: {=IFERROR(IF(ROWS($K$2:O12)<=MAX('Tags - Classics'!$I$50:$I$12000),INDEX('Tags - Classics'!$A$50:$H$12000,MATCH(ROWS($K$2:O12),'Tags - Classics'!$I$50:$I$12000,0),COLUMNS($K:O)),IF(ROWS($K$2:O12)<=MAX('Tags - Classics'!$I$50:$I$12000)+MAX('Tags - Non-Classics'!$I$50:$I$8000),INDEX('Tags - Non-Classics'!$A$50:$H$8000,MATCH(ROWS($K$2:O12)-MAX('Tags - Classics'!$I$50:$I$12000),'Tags - Non-Classics'!$I$50:$I$8000,0),COLUMNS($K:O)),INDEX('Misc & Retail'!$A$50:$H$800,MATCH(ROWS($K$2:O12)-MAX('Tags - Classics'!$I$50:$I$12000)-MAX('Tags - Non-Classics'!$I$50:$I$8000),'Misc & Retail'!$I$50:$I$800,0),COLUMNS($K:O)))),"")} | P12: {=IFERROR(IF(ROWS($K$2:P12)<=MAX('Tags - Classics'!$I$50:$I$12000),INDEX('Tags - Classics'!$A$50:$H$12000,MATCH(ROWS($K$2:P12),'Tags - Classics'!$I$50:$I$12000,0),COLUMNS($K:P)),IF(ROWS($K$2:P12)<=MAX('Tags - Classics'!$I$50:$I$12000)+MAX('Tags - Non-Classics'!$I$50:$I$8000),INDEX('Tags - Non-Classics'!$A$50:$H$8000,MATCH(ROWS($K$2:P12)-MAX('Tags - Classics'!$I$50:$I$12000),'Tags - Non-Classics'!$I$50:$I$8000,0),COLUMNS($K:P)),INDEX('Misc & Retail'!$A$50:$H$800,MATCH(ROWS($K$2:P12)-MAX('Tags - Classics'!$I$50:$I$12000)-MAX('Tags - Non-Classics'!$I$50:$I$8000),'Misc & Retail'!$I$50:$I$800,0),COLUMNS($K:P)))),"")} | Q12: {=IFERROR(IF(ROWS($K$2:Q12)<=MAX('Tags - Classics'!$I$50:$I$12000),INDEX('Tags - Classics'!$A$50:$H$12000,MATCH(ROWS($K$2:Q12),'Tags - Classics'!$I$50:$I$12000,0),COLUMNS($K:Q)),IF(ROWS($K$2:Q12)<=MAX('Tags - Classics'!$I$50:$I$12000)+MAX('Tags - Non-Classics'!$I$50:$I$8000),INDEX('Tags - Non-Classics'!$A$50:$H$8000,MATCH(ROWS($K$2:Q12)-MAX('Tags - Classics'!$I$50:$I$12000),'Tags - Non-Classics'!$I$50:$I$8000,0),COLUMNS($K:Q)),INDEX('Misc & Retail'!$A$50:$H$800,MATCH(ROWS($K$2:Q12)-MAX('Tags - Classics'!$I$50:$I$12000)-MAX('Tags - Non-Classics'!$I$50:$I$8000),'Misc & Retail'!$I$50:$I$800,0),COLUMNS($K:Q)))),"")} | R12: {=IFERROR(IF(ROWS($K$2:R12)<=MAX('Tags - Classics'!$I$50:$I$12000),INDEX('Tags - Classics'!$A$50:$H$12000,MATCH(ROWS($K$2:R12),'Tags - Classics'!$I$50:$I$12000,0),COLUMNS($K:R)),IF(ROWS($K$2:R12)<=MAX('Tags - Classics'!$I$50:$I$12000)+MAX('Tags - Non-Classics'!$I$50:$I$8000),INDEX('Tags - Non-Classics'!$A$50:$H$8000,MATCH(ROWS($K$2:R12)-MAX('Tags - Classics'!$I$50:$I$12000),'Tags - Non-Classics'!$I$50:$I$8000,0),COLUMNS($K:R)),INDEX('Misc & Retail'!$A$50:$H$800,MATCH(ROWS($K$2:R12)-MAX('Tags - Classics'!$I$50:$I$12000)-MAX('Tags - Non-Classics'!$I$50:$I$8000),'Misc & Retail'!$I$50:$I$800,0),COLUMNS($K:R)))),"")}
